Workbook

Sheet Januar
N1: © NQ-Anlagentechnik GmbH | S1: ◄Einsatzstofftagebuch bitte täglich ausfüllen
S3: Zusätzlich evtl. tägliche handschriftliche Aufzeichnungen aubewahren, unabhängig von der äußeren Form! (z.B. eigene Listen, Kalender, Notitzblock, Strichlisten...)
B4: entspricht § 27 EEG Abs.4 Nr. 2 (Anlage 2 I.1.b)
B5: Name: | C5: Mustermann
B6: Firma: | C6: Musterfirma
B7: Jahr und Aufzeichnungsmonat: | G7: 2026 | H7: Januar | N7: 80% Gülle & Mist / 20% NawaRo
C9: Gülle & Mist | F9: + NawaRo | L9: = Gesamt
C10: Gülle | D10: Mist | E10: Kleegras (anteilig) | F10: Maissilage | G10: Grassilage | H10: GPS | I10: Kleegras | J10: … | K10: … | L10: Einbringmenge gesamt | M10: Masse-% Gülle & Mist | N10: kW/h el. | O10: kW/h el. | S10: ◄Die Beschriftung der Felder mit ... können verändert werden, falls andere Substrate wie zum Beispiel Kleegras eingesetzt werden! Zelle wählen + neuen Text eingeben
B11: Datum | C11: Tonnen pro Tag | D11: Tonnen pro Tag | E11: Tonnen pro Tag | F11: Tonnen pro Tag | G11: Tonnen pro Tag | H11: Tonnen pro Tag | I11: Tonnen pro Tag | J11: Tonnen pro Tag | K11: Tonnen pro Tag | L11: Tonnen pro Tag | M11: % pro Tag | N11: Zählerstand täglich | O11: Zählerstand Monatsanfang
B12: 1. | C12: 15 | D12: 20 | E12: =IF(L12="","",MIN(N(I12),(L12*10%))) -> 1 | F12: 1 | G12: 1 | H12: 1 | I12: 1 | J12: 1 | K12: 1 | L12: =IF(SUM(C12:D12,F12:K12)=0,"",(SUM(C12:D12,F12:K12))) -> 41 | M12: =IFERROR(IF((F12+G12+H12+I12+J12+K12)=0,IF(C12+D12+E12=0,"",1),(C12+D12+E12)/(C12+D12+F12+G12+H12+I12+J12+K12)),"") -> 0.87804878 | N12: 1000
B13: 2. | C13: 1 | D13: 2 | E13: =IF(L13="","",MIN(N(I13),(L13*10%))) -> 1.3 | F13: 1 | G13: 1 | H13: 1 | I13: 5 | J13: 1 | K13: 1 | L13: =IF(SUM(C13:D13,F13:K13)=0,"",(SUM(C13:D13,F13:K13))) -> 13 | M13: =IFERROR(IF((F13+G13+H13+I13+J13+K13)=0,IF(C13+D13+E13=0,"",1),(C13+D13+E13)/(C13+D13+F13+G13+H13+I13+J13+K13)),"") -> 0.33076923 | N13: 2800 | O13: 1000 | S13: ◄Herkunftsnachweise im Tabellenblatt „Nachweisbuch“
B14: 3. | E14: =IF(L14="","",MIN(N(I14),(L14*10%))) | L14: =IF(SUM(C14:D14,F14:K14)=0,"",(SUM(C14:D14,F14:K14))) | M14: =IFERROR(IF((F14+G14+H14+I14+J14+K14)=0,IF(C14+D14+E14=0,"",1),(C14+D14+E14)/(C14+D14+F14+G14+H14+I14+J14+K14)),"")
B15: 4. | E15: =IF(L15="","",MIN(N(I15),(L15*10%))) | L15: =IF(SUM(C15:D15,F15:K15)=0,"",(SUM(C15:D15,F15:K15))) | M15: =IFERROR(IF((F15+G15+H15+I15+J15+K15)=0,IF(C15+D15+E15=0,"",1),(C15+D15+E15)/(C15+D15+F15+G15+H15+I15+J15+K15)),"")
B16: 5. | E16: =IF(L16="","",MIN(N(I16),(L16*10%))) | L16: =IF(SUM(C16:D16,F16:K16)=0,"",(SUM(C16:D16,F16:K16))) | M16: =IFERROR(IF((F16+G16+H16+I16+J16+K16)=0,IF(C16+D16+E16=0,"",1),(C16+D16+E16)/(C16+D16+F16+G16+H16+I16+J16+K16)),"") | S16: ◄Kleegras-Anrechnung: max. 10% der Gesamteinbringmenge auf Gülle-/Mist-Anteil(Masse-%)
B17: 6. | E17: =IF(L17="","",MIN(N(I17),(L17*10%))) | L17: =IF(SUM(C17:D17,F17:K17)=0,"",(SUM(C17:D17,F17:K17))) | M17: =IFERROR(IF((F17+G17+H17+I17+J17+K17)=0,IF(C17+D17+E17=0,"",1),(C17+D17+E17)/(C17+D17+F17+G17+H17+I17+J17+K17)),"")
B18: 7. | E18: =IF(L18="","",MIN(N(I18),(L18*10%))) | L18: =IF(SUM(C18:D18,F18:K18)=0,"",(SUM(C18:D18,F18:K18))) | M18: =IFERROR(IF((F18+G18+H18+I18+J18+K18)=0,IF(C18+D18+E18=0,"",1),(C18+D18+E18)/(C18+D18+F18+G18+H18+I18+J18+K18)),"")
B19: 8. | E19: =IF(L19="","",MIN(N(I19),(L19*10%))) | L19: =IF(SUM(C19:D19,F19:K19)=0,"",(SUM(C19:D19,F19:K19))) | M19: =IFERROR(IF((F19+G19+H19+I19+J19+K19)=0,IF(C19+D19+E19=0,"",1),(C19+D19+E19)/(C19+D19+F19+G19+H19+I19+J19+K19)),"") | S19: ◄Zählerstände sind je nach Netzbetreiber entweder täglich oder monatlich festzuhalten
B20: 9. | E20: =IF(L20="","",MIN(N(I20),(L20*10%))) | L20: =IF(SUM(C20:D20,F20:K20)=0,"",(SUM(C20:D20,F20:K20))) | M20: =IFERROR(IF((F20+G20+H20+I20+J20+K20)=0,IF(C20+D20+E20=0,"",1),(C20+D20+E20)/(C20+D20+F20+G20+H20+I20+J20+K20)),"")
B21: 10. | E21: =IF(L21="","",MIN(N(I21),(L21*10%))) | L21: =IF(SUM(C21:D21,F21:K21)=0,"",(SUM(C21:D21,F21:K21))) | M21: =IFERROR(IF((F21+G21+H21+I21+J21+K21)=0,IF(C21+D21+E21=0,"",1),(C21+D21+E21)/(C21+D21+F21+G21+H21+I21+J21+K21)),"")
B22: 11. | E22: =IF(L22="","",MIN(N(I22),(L22*10%))) | L22: =IF(SUM(C22:D22,F22:K22)=0,"",(SUM(C22:D22,F22:K22))) | M22: =IFERROR(IF((F22+G22+H22+I22+J22+K22)=0,IF(C22+D22+E22=0,"",1),(C22+D22+E22)/(C22+D22+F22+G22+H22+I22+J22+K22)),"")
B23: 12. | E23: =IF(L23="","",MIN(N(I23),(L23*10%))) | L23: =IF(SUM(C23:D23,F23:K23)=0,"",(SUM(C23:D23,F23:K23))) | M23: =IFERROR(IF((F23+G23+H23+I23+J23+K23)=0,IF(C23+D23+E23=0,"",1),(C23+D23+E23)/(C23+D23+F23+G23+H23+I23+J23+K23)),"")
B24: 13. | E24: =IF(L24="","",MIN(N(I24),(L24*10%))) | L24: =IF(SUM(C24:D24,F24:K24)=0,"",(SUM(C24:D24,F24:K24))) | M24: =IFERROR(IF((F24+G24+H24+I24+J24+K24)=0,IF(C24+D24+E24=0,"",1),(C24+D24+E24)/(C24+D24+F24+G24+H24+I24+J24+K24)),"")
B25: 14. | E25: =IF(L25="","",MIN(N(I25),(L25*10%))) | L25: =IF(SUM(C25:D25,F25:K25)=0,"",(SUM(C25:D25,F25:K25))) | M25: =IFERROR(IF((F25+G25+H25+I25+J25+K25)=0,IF(C25+D25+E25=0,"",1),(C25+D25+E25)/(C25+D25+F25+G25+H25+I25+J25+K25)),"")
B26: 15. | E26: =IF(L26="","",MIN(N(I26),(L26*10%))) | L26: =IF(SUM(C26:D26,F26:K26)=0,"",(SUM(C26:D26,F26:K26))) | M26: =IFERROR(IF((F26+G26+H26+I26+J26+K26)=0,IF(C26+D26+E26=0,"",1),(C26+D26+E26)/(C26+D26+F26+G26+H26+I26+J26+K26)),"")
B27: 16. | E27: =IF(L27="","",MIN(N(I27),(L27*10%))) | L27: =IF(SUM(C27:D27,F27:K27)=0,"",(SUM(C27:D27,F27:K27))) | M27: =IFERROR(IF((F27+G27+H27+I27+J27+K27)=0,IF(C27+D27+E27=0,"",1),(C27+D27+E27)/(C27+D27+F27+G27+H27+I27+J27+K27)),"")
B28: 17. | E28: =IF(L28="","",MIN(N(I28),(L28*10%))) | L28: =IF(SUM(C28:D28,F28:K28)=0,"",(SUM(C28:D28,F28:K28))) | M28: =IFERROR(IF((F28+G28+H28+I28+J28+K28)=0,IF(C28+D28+E28=0,"",1),(C28+D28+E28)/(C28+D28+F28+G28+H28+I28+J28+K28)),"")
B29: 18. | E29: =IF(L29="","",MIN(N(I29),(L29*10%))) | L29: =IF(SUM(C29:D29,F29:K29)=0,"",(SUM(C29:D29,F29:K29))) | M29: =IFERROR(IF((F29+G29+H29+I29+J29+K29)=0,IF(C29+D29+E29=0,"",1),(C29+D29+E29)/(C29+D29+F29+G29+H29+I29+J29+K29)),"")
B30: 19. | E30: =IF(L30="","",MIN(N(I30),(L30*10%))) | L30: =IF(SUM(C30:D30,F30:K30)=0,"",(SUM(C30:D30,F30:K30))) | M30: =IFERROR(IF((F30+G30+H30+I30+J30+K30)=0,IF(C30+D30+E30=0,"",1),(C30+D30+E30)/(C30+D30+F30+G30+H30+I30+J30+K30)),"")
B31: 20. | E31: =IF(L31="","",MIN(N(I31),(L31*10%))) | L31: =IF(SUM(C31:D31,F31:K31)=0,"",(SUM(C31:D31,F31:K31))) | M31: =IFERROR(IF((F31+G31+H31+I31+J31+K31)=0,IF(C31+D31+E31=0,"",1),(C31+D31+E31)/(C31+D31+F31+G31+H31+I31+J31+K31)),"")
... B38: 27. | E38: =IF(L38="","",MIN(N(I38),(L38*10%))) | L38: =IF(SUM(C38:D38,F38:K38)=0,"",(SUM(C38:D38,F38:K38))) | M38: =IFERROR(IF((F38+G38+H38+I38+J38+K38)=0,IF(C38+D38+E38=0,"",1),(C38+D38+E38)/(C38+D38+F38+G38+H38+I38+J38+K38)),"")
B39: 28. | E39: =IF(L39="","",MIN(N(I39),(L39*10%))) | L39: =IF(SUM(C39:D39,F39:K39)=0,"",(SUM(C39:D39,F39:K39))) | M39: =IFERROR(IF((F39+G39+H39+I39+J39+K39)=0,IF(C39+D39+E39=0,"",1),(C39+D39+E39)/(C39+D39+F39+G39+H39+I39+J39+K39)),"") | O39: Zählerstand Monatsende
B40: 29. | E40: =IF(L40="","",MIN(N(I40),(L40*10%))) | L40: =IF(SUM(C40:D40,F40:K40)=0,"",(SUM(C40:D40,F40:K40))) | M40: =IFERROR(IF((F40+G40+H40+I40+J40+K40)=0,IF(C40+D40+E40=0,"",1),(C40+D40+E40)/(C40+D40+F40+G40+H40+I40+J40+K40)),"")
B41: 30. | E41: =IF(L41="","",MIN(N(I41),(L41*10%))) | L41: =IF(SUM(C41:D41,F41:K41)=0,"",(SUM(C41:D41,F41:K41))) | M41: =IFERROR(IF((F41+G41+H41+I41+J41+K41)=0,IF(C41+D41+E41=0,"",1),(C41+D41+E41)/(C41+D41+F41+G41+H41+I41+J41+K41)),"") | O41: 55000
B42: 31. | E42: =IF(L42="","",MIN(N(I42),(L42*10%))) | L42: =IF(SUM(C42:D42,F42:K42)=0,"",(SUM(C42:D42,F42:K42))) | M42: =IFERROR(IF((F42+G42+H42+I42+J42+K42)=0,IF(C42+D42+E42=0,"",1),(C42+D42+E42)/(C42+D42+F42+G42+H42+I42+J42+K42)),"") | N42: 55000
B43: Summe | C43: =IF(SUM(C12:C42)=0,0,SUM(C12:C42)) -> 16 | D43: =IF(SUM(D12:D42)=0,0,SUM(D12:D42)) -> 22 | E43: =IF(SUM(E12:E42)=0,0,SUM(E12:E42)) -> 2.3 | F43: =IF(SUM(F12:F42)=0,0,SUM(F12:F42)) -> 2 | G43: =IF(SUM(G12:G42)=0,0,SUM(G12:G42)) -> 2 | H43: =IF(SUM(H12:H42)=0,0,SUM(H12:H42)) -> 2 | I43: =IF(SUM(I12:I42)=0,0,SUM(I12:I42)) -> 6 | J43: =IF(SUM(J12:J42)=0,0,SUM(J12:J42)) -> 2 | ... L43: =IF(SUM(L12:L42)=0,0,SUM(L12:L42)) -> 54 | M43: =IF((F43+G43+H43+I43+J43+K43)=0,IF(C43+D43=0,"",1),(C43+D43+E43)/(C43+D43+F43+G43+H43+I43+J43+K43)) -> 0.7462963 | N43: =IF(SUM(N42-N12,N12,N42)=0,"",SUM(N42-N12)) -> 54000 | O43: =IF(O41-O13=0,0,O41-O13) -> 54000
C44: Gülle + Mist ► | E44: =IF(SUM(C43:E43)=0,"",SUM(C43:E43)) -> 40.3 | J44: Summe Nawaro ► | K44: =IF(SUM(F43:K43)=0,"",SUM(F43:K43)) -> 16 | L44: ▲ Monatsdurchschnitt | N44: ▲ ▲ Produktion kW/h el.
B46: Hiermit bestätige ich, dass die Vorgaben des EEG und der Biomasseverordnung erfüllt und alle Einsatzstoffe vollständig und korrekt im Tagebuch eingetragen sind.
B47: Datum: | F47: Unterschrift:

Sheet Februar
N1: © NQ-Anlagentechnik GmbH | S1: ◄Einsatzstofftagebuch bitte täglich ausfüllen
S3: Zusätzlich evtl. tägliche handschriftliche Aufzeichnungen aubewahren, unabhängig von der äußeren Form! (z.B. eigene Listen, Kalender, Notitzblock, Strichlisten...)
B4: entspricht § 27 EEG Abs.4 Nr. 2 (Anlage 2 I.1.b)
B5: Name: | C5: Mustermann
B6: Firma: | C6: Musterfirma
B7: Jahr und Aufzeichnungsmonat: | G7: 2026 | H7: Februar | N7: 80% Gülle & Mist / 20% NawaRo
C9: Gülle & Mist | F9: + NawaRo | L9: = Gesamt
C10: Gülle | D10: Mist | E10: Kleegras (anteilig) | F10: Maissilage | G10: Grassilage | H10: GPS | I10: Kleegras | J10: … | K10: … | L10: Einbringmenge gesamt | M10: Masse-% Gülle & Mist | N10: kW/h el. | O10: kW/h el. | S10: ◄Die Beschriftung der Felder mit ... können verändert werden, falls andere Substrate wie zum Beispiel Kleegras eingesetzt werden! Zelle wählen + neuen Text eingeben
B11: Datum | C11: Tonnen pro Tag | D11: Tonnen pro Tag | E11: Tonnen pro Tag | F11: Tonnen pro Tag | G11: Tonnen pro Tag | H11: Tonnen pro Tag | I11: Tonnen pro Tag | J11: Tonnen pro Tag | K11: Tonnen pro Tag | L11: Tonnen pro Tag | M11: % pro Tag | N11: Zählerstand täglich | O11: Zählerstand Monatsanfang
B12: 1. | C12: 15 | D12: 20 | E12: =IF(L12="","",MIN(N(I12),(L12*10%))) -> 1 | F12: 1 | G12: 1 | H12: 1 | I12: 1 | J12: 1 | K12: 1 | L12: =IF(SUM(C12:D12,F12:K12)=0,"",(SUM(C12:D12,F12:K12))) -> 41 | M12: =IFERROR(IF((F12+G12+H12+I12+J12+K12)=0,IF(C12+D12+E12=0,"",1),(C12+D12+E12)/(C12+D12+F12+G12+H12+I12+J12+K12)),"") -> 0.87804878 | N12: 56800
B13: 2. | C13: 2 | D13: 3 | E13: =IF(L13="","",MIN(N(I13),(L13*10%))) -> 1.5 | F13: 1 | G13: 1 | H13: 1 | I13: 5 | J13: 1 | K13: 1 | L13: =IF(SUM(C13:D13,F13:K13)=0,"",(SUM(C13:D13,F13:K13))) -> 15 | M13: =IFERROR(IF((F13+G13+H13+I13+J13+K13)=0,IF(C13+D13+E13=0,"",1),(C13+D13+E13)/(C13+D13+F13+G13+H13+I13+J13+K13)),"") -> 0.43333333 | N13: 58600 | O13: 56800 | S13: ◄Herkunftsnachweise im Tabellenblatt „Nachweisbuch“
B14: 3. | E14: =IF(L14="","",MIN(N(I14),(L14*10%))) | L14: =IF(SUM(C14:D14,F14:K14)=0,"",(SUM(C14:D14,F14:K14))) | M14: =IFERROR(IF((F14+G14+H14+I14+J14+K14)=0,IF(C14+D14+E14=0,"",1),(C14+D14+E14)/(C14+D14+F14+G14+H14+I14+J14+K14)),"")
B15: 4. | E15: =IF(L15="","",MIN(N(I15),(L15*10%))) | L15: =IF(SUM(C15:D15,F15:K15)=0,"",(SUM(C15:D15,F15:K15))) | M15: =IFERROR(IF((F15+G15+H15+I15+J15+K15)=0,IF(C15+D15+E15=0,"",1),(C15+D15+E15)/(C15+D15+F15+G15+H15+I15+J15+K15)),"")
B16: 5. | E16: =IF(L16="","",MIN(N(I16),(L16*10%))) | L16: =IF(SUM(C16:D16,F16:K16)=0,"",(SUM(C16:D16,F16:K16))) | M16: =IFERROR(IF((F16+G16+H16+I16+J16+K16)=0,IF(C16+D16+E16=0,"",1),(C16+D16+E16)/(C16+D16+F16+G16+H16+I16+J16+K16)),"") | S16: ◄Kleegras-Anrechnung: max. 10% der Gesamteinbringmenge auf Gülle-/Mist-Anteil(Masse-%)
B17: 6. | E17: =IF(L17="","",MIN(N(I17),(L17*10%))) | L17: =IF(SUM(C17:D17,F17:K17)=0,"",(SUM(C17:D17,F17:K17))) | M17: =IFERROR(IF((F17+G17+H17+I17+J17+K17)=0,IF(C17+D17+E17=0,"",1),(C17+D17+E17)/(C17+D17+F17+G17+H17+I17+J17+K17)),"")
B18: 7. | E18: =IF(L18="","",MIN(N(I18),(L18*10%))) | L18: =IF(SUM(C18:D18,F18:K18)=0,"",(SUM(C18:D18,F18:K18))) | M18: =IFERROR(IF((F18+G18+H18+I18+J18+K18)=0,IF(C18+D18+E18=0,"",1),(C18+D18+E18)/(C18+D18+F18+G18+H18+I18+J18+K18)),"")
B19: 8. | E19: =IF(L19="","",MIN(N(I19),(L19*10%))) | L19: =IF(SUM(C19:D19,F19:K19)=0,"",(SUM(C19:D19,F19:K19))) | M19: =IFERROR(IF((F19+G19+H19+I19+J19+K19)=0,IF(C19+D19+E19=0,"",1),(C19+D19+E19)/(C19+D19+F19+G19+H19+I19+J19+K19)),"") | S19: ◄Zählerstände sind je nach Netzbetreiber entweder täglich oder monatlich festzuhalten
B20: 9. | E20: =IF(L20="","",MIN(N(I20),(L20*10%))) | L20: =IF(SUM(C20:D20,F20:K20)=0,"",(SUM(C20:D20,F20:K20))) | M20: =IFERROR(IF((F20+G20+H20+I20+J20+K20)=0,IF(C20+D20+E20=0,"",1),(C20+D20+E20)/(C20+D20+F20+G20+H20+I20+J20+K20)),"")
B21: 10. | E21: =IF(L21="","",MIN(N(I21),(L21*10%))) | L21: =IF(SUM(C21:D21,F21:K21)=0,"",(SUM(C21:D21,F21:K21))) | M21: =IFERROR(IF((F21+G21+H21+I21+J21+K21)=0,IF(C21+D21+E21=0,"",1),(C21+D21+E21)/(C21+D21+F21+G21+H21+I21+J21+K21)),"")
B22: 11. | E22: =IF(L22="","",MIN(N(I22),(L22*10%))) | L22: =IF(SUM(C22:D22,F22:K22)=0,"",(SUM(C22:D22,F22:K22))) | M22: =IFERROR(IF((F22+G22+H22+I22+J22+K22)=0,IF(C22+D22+E22=0,"",1),(C22+D22+E22)/(C22+D22+F22+G22+H22+I22+J22+K22)),"")
B23: 12. | E23: =IF(L23="","",MIN(N(I23),(L23*10%))) | L23: =IF(SUM(C23:D23,F23:K23)=0,"",(SUM(C23:D23,F23:K23))) | M23: =IFERROR(IF((F23+G23+H23+I23+J23+K23)=0,IF(C23+D23+E23=0,"",1),(C23+D23+E23)/(C23+D23+F23+G23+H23+I23+J23+K23)),"")
B24: 13. | E24: =IF(L24="","",MIN(N(I24),(L24*10%))) | L24: =IF(SUM(C24:D24,F24:K24)=0,"",(SUM(C24:D24,F24:K24))) | M24: =IFERROR(IF((F24+G24+H24+I24+J24+K24)=0,IF(C24+D24+E24=0,"",1),(C24+D24+E24)/(C24+D24+F24+G24+H24+I24+J24+K24)),"")
B25: 14. | E25: =IF(L25="","",MIN(N(I25),(L25*10%))) | L25: =IF(SUM(C25:D25,F25:K25)=0,"",(SUM(C25:D25,F25:K25))) | M25: =IFERROR(IF((F25+G25+H25+I25+J25+K25)=0,IF(C25+D25+E25=0,"",1),(C25+D25+E25)/(C25+D25+F25+G25+H25+I25+J25+K25)),"")
B26: 15. | E26: =IF(L26="","",MIN(N(I26),(L26*10%))) | L26: =IF(SUM(C26:D26,F26:K26)=0,"",(SUM(C26:D26,F26:K26))) | M26: =IFERROR(IF((F26+G26+H26+I26+J26+K26)=0,IF(C26+D26+E26=0,"",1),(C26+D26+E26)/(C26+D26+F26+G26+H26+I26+J26+K26)),"")
B27: 16. | E27: =IF(L27="","",MIN(N(I27),(L27*10%))) | L27: =IF(SUM(C27:D27,F27:K27)=0,"",(SUM(C27:D27,F27:K27))) | M27: =IFERROR(IF((F27+G27+H27+I27+J27+K27)=0,IF(C27+D27+E27=0,"",1),(C27+D27+E27)/(C27+D27+F27+G27+H27+I27+J27+K27)),"")
B28: 17. | E28: =IF(L28="","",MIN(N(I28),(L28*10%))) | L28: =IF(SUM(C28:D28,F28:K28)=0,"",(SUM(C28:D28,F28:K28))) | M28: =IFERROR(IF((F28+G28+H28+I28+J28+K28)=0,IF(C28+D28+E28=0,"",1),(C28+D28+E28)/(C28+D28+F28+G28+H28+I28+J28+K28)),"")
B29: 18. | E29: =IF(L29="","",MIN(N(I29),(L29*10%))) | L29: =IF(SUM(C29:D29,F29:K29)=0,"",(SUM(C29:D29,F29:K29))) | M29: =IFERROR(IF((F29+G29+H29+I29+J29+K29)=0,IF(C29+D29+E29=0,"",1),(C29+D29+E29)/(C29+D29+F29+G29+H29+I29+J29+K29)),"")
B30: 19. | E30: =IF(L30="","",MIN(N(I30),(L30*10%))) | L30: =IF(SUM(C30:D30,F30:K30)=0,"",(SUM(C30:D30,F30:K30))) | M30: =IFERROR(IF((F30+G30+H30+I30+J30+K30)=0,IF(C30+D30+E30=0,"",1),(C30+D30+E30)/(C30+D30+F30+G30+H30+I30+J30+K30)),"")
B31: 20. | E31: =IF(L31="","",MIN(N(I31),(L31*10%))) | L31: =IF(SUM(C31:D31,F31:K31)=0,"",(SUM(C31:D31,F31:K31))) | M31: =IFERROR(IF((F31+G31+H31+I31+J31+K31)=0,IF(C31+D31+E31=0,"",1),(C31+D31+E31)/(C31+D31+F31+G31+H31+I31+J31+K31)),"")
... B36: 25. | E36: =IF(L36="","",MIN(N(I36),(L36*10%))) | L36: =IF(SUM(C36:D36,F36:K36)=0,"",(SUM(C36:D36,F36:K36))) | M36: =IFERROR(IF((F36+G36+H36+I36+J36+K36)=0,IF(C36+D36+E36=0,"",1),(C36+D36+E36)/(C36+D36+F36+G36+H36+I36+J36+K36)),"")
B37: 26. | E37: =IF(L37="","",MIN(N(I37),(L37*10%))) | L37: =IF(SUM(C37:D37,F37:K37)=0,"",(SUM(C37:D37,F37:K37))) | M37: =IFERROR(IF((F37+G37+H37+I37+J37+K37)=0,IF(C37+D37+E37=0,"",1),(C37+D37+E37)/(C37+D37+F37+G37+H37+I37+J37+K37)),"") | O37: Zählerstand Monatsende
B38: 27. | E38: =IF(L38="","",MIN(N(I38),(L38*10%))) | L38: =IF(SUM(C38:D38,F38:K38)=0,"",(SUM(C38:D38,F38:K38))) | M38: =IFERROR(IF((F38+G38+H38+I38+J38+K38)=0,IF(C38+D38+E38=0,"",1),(C38+D38+E38)/(C38+D38+F38+G38+H38+I38+J38+K38)),"")
B39: 28. | E39: =IF(L39="","",MIN(N(I39),(L39*10%))) | L39: =IF(SUM(C39:D39,F39:K39)=0,"",(SUM(C39:D39,F39:K39))) | M39: =IFERROR(IF((F39+G39+H39+I39+J39+K39)=0,IF(C39+D39+E39=0,"",1),(C39+D39+E39)/(C39+D39+F39+G39+H39+I39+J39+K39)),"") | N39: 110800 | O39: 110800
B40: 29. | E40: =IF(L40="","",MIN(N(I40),(L40*10%))) | L40: =IF(SUM(C40:D40,F40:K40)=0,"",(SUM(C40:D40,F40:K40))) | M40: =IFERROR(IF((F40+G40+H40+I40+J40+K40)=0,IF(C40+D40+E40=0,"",1),(C40+D40+E40)/(C40+D40+F40+G40+H40+I40+J40+K40)),"")
B41: Summe | C41: =IF(SUM(C12:C40)=0,0,SUM(C12:C40)) -> 17 | D41: =IF(SUM(D12:D40)=0,0,SUM(D12:D40)) -> 23 | E41: =IF(SUM(E12:E40)=0,0,SUM(E12:E40)) -> 2.5 | F41: =IF(SUM(F12:F40)=0,0,SUM(F12:F40)) -> 2 | G41: =IF(SUM(G12:G40)=0,0,SUM(G12:G40)) -> 2 | H41: =IF(SUM(H12:H40)=0,0,SUM(H12:H40)) -> 2 | I41: =IF(SUM(I12:I40)=0,0,SUM(I12:I40)) -> 6 | J41: =IF(SUM(J12:J40)=0,0,SUM(J12:J40)) -> 2 | ... L41: =IF(SUM(L12:L40)=0,0,SUM(L12:L40)) -> 56 | M41: =IF((F41+G41+H41+I41+J41+K41)=0,IF(C41+D41=0,"",1),(C41+D41+E41)/(C41+D41+F41+G41+H41+I41+J41+K41)) -> 0.75892857 | N41: =IF(SUM(N39-N12,N12,N39)=0,"",SUM(N39-N12)) -> 54000 | O41: =IF(O39-O13=0,0,O39-O13) -> 54000
C42: Gülle + Mist ► | E42: =IF(SUM(C41:E41)=0,"",SUM(C41:E41)) -> 42.5 | J42: Summe Nawaro ► | K42: =IF(SUM(F41:K41)=0,"",SUM(F41:K41)) -> 16 | L42: ▲ Monatsdurchschnitt | N42: ▲ ▲ Produktion kW/h el.
B44: Hiermit bestätige ich, dass die Vorgaben des EEG und der Biomasseverordnung erfüllt und alle Einsatzstoffe vollständig und korrekt im Tagebuch eingetragen sind.
B45: Datum: | F45: Unterschrift:

Sheet März
N1: © NQ-Anlagentechnik GmbH | S1: ◄Einsatzstofftagebuch bitte täglich ausfüllen
S3: Zusätzlich evtl. tägliche handschriftliche Aufzeichnungen aubewahren, unabhängig von der äußeren Form! (z.B. eigene Listen, Kalender, Notitzblock, Strichlisten...)
B4: entspricht § 27 EEG Abs.4 Nr. 2 (Anlage 2 I.1.b)
B5: Name: | C5: Mustermann
B6: Firma: | C6: Musterfirma
B7: Jahr und Aufzeichnungsmonat: | G7: 2026 | H7: Närz | N7: 80% Gülle & Mist / 20% NawaRo
C9: Gülle & Mist | F9: + NawaRo | L9: = Gesamt
C10: Gülle | D10: Mist | E10: Kleegras (anteilig) | F10: Maissilage | G10: Grassilage | H10: GPS | I10: Kleegras | J10: … | K10: … | L10: Einbringmenge gesamt | M10: Masse-% Gülle & Mist | N10: kW/h el. | O10: kW/h el. | S10: ◄Die Beschriftung der Felder mit ... können verändert werden, falls andere Substrate wie zum Beispiel Kleegras eingesetzt werden! Zelle wählen + neuen Text eingeben
B11: Datum | C11: Tonnen pro Tag | D11: Tonnen pro Tag | E11: Tonnen pro Tag | F11: Tonnen pro Tag | G11: Tonnen pro Tag | H11: Tonnen pro Tag | I11: Tonnen pro Tag | J11: Tonnen pro Tag | K11: Tonnen pro Tag | L11: Tonnen pro Tag | M11: % pro Tag | N11: Zählerstand täglich | O11: Zählerstand Monatsanfang
B12: 1. | C12: 15 | D12: 20 | E12: =IF(L12="","",MIN(N(I12),(L12*10%))) -> 1 | F12: 1 | G12: 1 | H12: 1 | I12: 1 | J12: 1 | K12: 1 | L12: =IF(SUM(C12:D12,F12:K12)=0,"",(SUM(C12:D12,F12:K12))) -> 41 | M12: =IFERROR(IF((F12+G12+H12+I12+J12+K12)=0,IF(C12+D12+E12=0,"",1),(C12+D12+E12)/(C12+D12+F12+G12+H12+I12+J12+K12)),"") -> 0.87804878 | N12: 112600
B13: 2. | C13: 3 | D13: 4 | E13: =IF(L13="","",MIN(N(I13),(L13*10%))) -> 1.7 | F13: 1 | G13: 1 | H13: 1 | I13: 5 | J13: 1 | K13: 1 | L13: =IF(SUM(C13:D13,F13:K13)=0,"",(SUM(C13:D13,F13:K13))) -> 17 | M13: =IFERROR(IF((F13+G13+H13+I13+J13+K13)=0,IF(C13+D13+E13=0,"",1),(C13+D13+E13)/(C13+D13+F13+G13+H13+I13+J13+K13)),"") -> 0.51176471 | N13: 114400 | O13: 112600 | S13: ◄Herkunftsnachweise im Tabellenblatt „Nachweisbuch“
B14: 3. | E14: =IF(L14="","",MIN(N(I14),(L14*10%))) | L14: =IF(SUM(C14:D14,F14:K14)=0,"",(SUM(C14:D14,F14:K14))) | M14: =IFERROR(IF((F14+G14+H14+I14+J14+K14)=0,IF(C14+D14+E14=0,"",1),(C14+D14+E14)/(C14+D14+F14+G14+H14+I14+J14+K14)),"")
B15: 4. | E15: =IF(L15="","",MIN(N(I15),(L15*10%))) | L15: =IF(SUM(C15:D15,F15:K15)=0,"",(SUM(C15:D15,F15:K15))) | M15: =IFERROR(IF((F15+G15+H15+I15+J15+K15)=0,IF(C15+D15+E15=0,"",1),(C15+D15+E15)/(C15+D15+F15+G15+H15+I15+J15+K15)),"")
B16: 5. | E16: =IF(L16="","",MIN(N(I16),(L16*10%))) | L16: =IF(SUM(C16:D16,F16:K16)=0,"",(SUM(C16:D16,F16:K16))) | M16: =IFERROR(IF((F16+G16+H16+I16+J16+K16)=0,IF(C16+D16+E16=0,"",1),(C16+D16+E16)/(C16+D16+F16+G16+H16+I16+J16+K16)),"") | S16: ◄Kleegras-Anrechnung: max. 10% der Gesamteinbringmenge auf Gülle-/Mist-Anteil(Masse-%)
B17: 6. | E17: =IF(L17="","",MIN(N(I17),(L17*10%))) | L17: =IF(SUM(C17:D17,F17:K17)=0,"",(SUM(C17:D17,F17:K17))) | M17: =IFERROR(IF((F17+G17+H17+I17+J17+K17)=0,IF(C17+D17+E17=0,"",1),(C17+D17+E17)/(C17+D17+F17+G17+H17+I17+J17+K17)),"")
B18: 7. | E18: =IF(L18="","",MIN(N(I18),(L18*10%))) | L18: =IF(SUM(C18:D18,F18:K18)=0,"",(SUM(C18:D18,F18:K18))) | M18: =IFERROR(IF((F18+G18+H18+I18+J18+K18)=0,IF(C18+D18+E18=0,"",1),(C18+D18+E18)/(C18+D18+F18+G18+H18+I18+J18+K18)),"")
B19: 8. | E19: =IF(L19="","",MIN(N(I19),(L19*10%))) | L19: =IF(SUM(C19:D19,F19:K19)=0,"",(SUM(C19:D19,F19:K19))) | M19: =IFERROR(IF((F19+G19+H19+I19+J19+K19)=0,IF(C19+D19+E19=0,"",1),(C19+D19+E19)/(C19+D19+F19+G19+H19+I19+J19+K19)),"") | S19: ◄Zählerstände sind je nach Netzbetreiber entweder täglich oder monatlich festzuhalten
B20: 9. | E20: =IF(L20="","",MIN(N(I20),(L20*10%))) | L20: =IF(SUM(C20:D20,F20:K20)=0,"",(SUM(C20:D20,F20:K20))) | M20: =IFERROR(IF((F20+G20+H20+I20+J20+K20)=0,IF(C20+D20+E20=0,"",1),(C20+D20+E20)/(C20+D20+F20+G20+H20+I20+J20+K20)),"")
B21: 10. | E21: =IF(L21="","",MIN(N(I21),(L21*10%))) | L21: =IF(SUM(C21:D21,F21:K21)=0,"",(SUM(C21:D21,F21:K21))) | M21: =IFERROR(IF((F21+G21+H21+I21+J21+K21)=0,IF(C21+D21+E21=0,"",1),(C21+D21+E21)/(C21+D21+F21+G21+H21+I21+J21+K21)),"")
B22: 11. | E22: =IF(L22="","",MIN(N(I22),(L22*10%))) | L22: =IF(SUM(C22:D22,F22:K22)=0,"",(SUM(C22:D22,F22:K22))) | M22: =IFERROR(IF((F22+G22+H22+I22+J22+K22)=0,IF(C22+D22+E22=0,"",1),(C22+D22+E22)/(C22+D22+F22+G22+H22+I22+J22+K22)),"")
B23: 12. | E23: =IF(L23="","",MIN(N(I23),(L23*10%))) | L23: =IF(SUM(C23:D23,F23:K23)=0,"",(SUM(C23:D23,F23:K23))) | M23: =IFERROR(IF((F23+G23+H23+I23+J23+K23)=0,IF(C23+D23+E23=0,"",1),(C23+D23+E23)/(C23+D23+F23+G23+H23+I23+J23+K23)),"")
B24: 13. | E24: =IF(L24="","",MIN(N(I24),(L24*10%))) | L24: =IF(SUM(C24:D24,F24:K24)=0,"",(SUM(C24:D24,F24:K24))) | M24: =IFERROR(IF((F24+G24+H24+I24+J24+K24)=0,IF(C24+D24+E24=0,"",1),(C24+D24+E24)/(C24+D24+F24+G24+H24+I24+J24+K24)),"")
B25: 14. | E25: =IF(L25="","",MIN(N(I25),(L25*10%))) | L25: =IF(SUM(C25:D25,F25:K25)=0,"",(SUM(C25:D25,F25:K25))) | M25: =IFERROR(IF((F25+G25+H25+I25+J25+K25)=0,IF(C25+D25+E25=0,"",1),(C25+D25+E25)/(C25+D25+F25+G25+H25+I25+J25+K25)),"")
B26: 15. | E26: =IF(L26="","",MIN(N(I26),(L26*10%))) | L26: =IF(SUM(C26:D26,F26:K26)=0,"",(SUM(C26:D26,F26:K26))) | M26: =IFERROR(IF((F26+G26+H26+I26+J26+K26)=0,IF(C26+D26+E26=0,"",1),(C26+D26+E26)/(C26+D26+F26+G26+H26+I26+J26+K26)),"")
B27: 16. | E27: =IF(L27="","",MIN(N(I27),(L27*10%))) | L27: =IF(SUM(C27:D27,F27:K27)=0,"",(SUM(C27:D27,F27:K27))) | M27: =IFERROR(IF((F27+G27+H27+I27+J27+K27)=0,IF(C27+D27+E27=0,"",1),(C27+D27+E27)/(C27+D27+F27+G27+H27+I27+J27+K27)),"")
B28: 17. | E28: =IF(L28="","",MIN(N(I28),(L28*10%))) | L28: =IF(SUM(C28:D28,F28:K28)=0,"",(SUM(C28:D28,F28:K28))) | M28: =IFERROR(IF((F28+G28+H28+I28+J28+K28)=0,IF(C28+D28+E28=0,"",1),(C28+D28+E28)/(C28+D28+F28+G28+H28+I28+J28+K28)),"")
B29: 18. | E29: =IF(L29="","",MIN(N(I29),(L29*10%))) | L29: =IF(SUM(C29:D29,F29:K29)=0,"",(SUM(C29:D29,F29:K29))) | M29: =IFERROR(IF((F29+G29+H29+I29+J29+K29)=0,IF(C29+D29+E29=0,"",1),(C29+D29+E29)/(C29+D29+F29+G29+H29+I29+J29+K29)),"")
B30: 19. | E30: =IF(L30="","",MIN(N(I30),(L30*10%))) | L30: =IF(SUM(C30:D30,F30:K30)=0,"",(SUM(C30:D30,F30:K30))) | M30: =IFERROR(IF((F30+G30+H30+I30+J30+K30)=0,IF(C30+D30+E30=0,"",1),(C30+D30+E30)/(C30+D30+F30+G30+H30+I30+J30+K30)),"")
B31: 20. | E31: =IF(L31="","",MIN(N(I31),(L31*10%))) | L31: =IF(SUM(C31:D31,F31:K31)=0,"",(SUM(C31:D31,F31:K31))) | M31: =IFERROR(IF((F31+G31+H31+I31+J31+K31)=0,IF(C31+D31+E31=0,"",1),(C31+D31+E31)/(C31+D31+F31+G31+H31+I31+J31+K31)),"")
... B38: 27. | E38: =IF(L38="","",MIN(N(I38),(L38*10%))) | L38: =IF(SUM(C38:D38,F38:K38)=0,"",(SUM(C38:D38,F38:K38))) | M38: =IFERROR(IF((F38+G38+H38+I38+J38+K38)=0,IF(C38+D38+E38=0,"",1),(C38+D38+E38)/(C38+D38+F38+G38+H38+I38+J38+K38)),"")
B39: 28. | E39: =IF(L39="","",MIN(N(I39),(L39*10%))) | L39: =IF(SUM(C39:D39,F39:K39)=0,"",(SUM(C39:D39,F39:K39))) | M39: =IFERROR(IF((F39+G39+H39+I39+J39+K39)=0,IF(C39+D39+E39=0,"",1),(C39+D39+E39)/(C39+D39+F39+G39+H39+I39+J39+K39)),"") | O39: Zählerstand Monatsende
B40: 29. | E40: =IF(L40="","",MIN(N(I40),(L40*10%))) | L40: =IF(SUM(C40:D40,F40:K40)=0,"",(SUM(C40:D40,F40:K40))) | M40: =IFERROR(IF((F40+G40+H40+I40+J40+K40)=0,IF(C40+D40+E40=0,"",1),(C40+D40+E40)/(C40+D40+F40+G40+H40+I40+J40+K40)),"")
B41: 30. | E41: =IF(L41="","",MIN(N(I41),(L41*10%))) | L41: =IF(SUM(C41:D41,F41:K41)=0,"",(SUM(C41:D41,F41:K41))) | M41: =IFERROR(IF((F41+G41+H41+I41+J41+K41)=0,IF(C41+D41+E41=0,"",1),(C41+D41+E41)/(C41+D41+F41+G41+H41+I41+J41+K41)),"") | O41: 166600
B42: 31. | E42: =IF(L42="","",MIN(N(I42),(L42*10%))) | L42: =IF(SUM(C42:D42,F42:K42)=0,"",(SUM(C42:D42,F42:K42))) | M42: =IFERROR(IF((F42+G42+H42+I42+J42+K42)=0,IF(C42+D42+E42=0,"",1),(C42+D42+E42)/(C42+D42+F42+G42+H42+I42+J42+K42)),"") | N42: 166600
B43: Summe | C43: =IF(SUM(C12:C42)=0,0,SUM(C12:C42)) -> 18 | D43: =IF(SUM(D12:D42)=0,0,SUM(D12:D42)) -> 24 | E43: =IF(SUM(E12:E42)=0,0,SUM(E12:E42)) -> 2.7 | F43: =IF(SUM(F12:F42)=0,0,SUM(F12:F42)) -> 2 | G43: =IF(SUM(G12:G42)=0,0,SUM(G12:G42)) -> 2 | H43: =IF(SUM(H12:H42)=0,0,SUM(H12:H42)) -> 2 | I43: =IF(SUM(I12:I42)=0,0,SUM(I12:I42)) -> 6 | J43: =IF(SUM(J12:J42)=0,0,SUM(J12:J42)) -> 2 | ... L43: =IF(SUM(L12:L42)=0,0,SUM(L12:L42)) -> 58 | M43: =IF((F43+G43+H43+I43+J43+K43)=0,IF(C43+D43=0,"",1),(C43+D43+E43)/(C43+D43+F43+G43+H43+I43+J43+K43)) -> 0.77068966 | N43: =IF(SUM(N42-N12,N12,N42)=0,"",SUM(N42-N12)) -> 54000 | O43: =IF(O41-O13=0,0,O41-O13) -> 54000
C44: Gülle + Mist ► | E44: =IF(SUM(C43:E43)=0,"",SUM(C43:E43)) -> 44.7 | J44: Summe Nawaro ► | K44: =IF(SUM(F43:K43)=0,"",SUM(F43:K43)) -> 16 | L44: ▲ Monatsdurchschnitt | N44: ▲ ▲ Produktion kW/h el.
B46: Hiermit bestätige ich, dass die Vorgaben des EEG und der Biomasseverordnung erfüllt und alle Einsatzstoffe vollständig und korrekt im Tagebuch eingetragen sind.
B47: Datum: | F47: Unterschrift:

Sheet April
N1: © NQ-Anlagentechnik GmbH | S1: ◄Einsatzstofftagebuch bitte täglich ausfüllen
S3: Zusätzlich evtl. tägliche handschriftliche Aufzeichnungen aubewahren, unabhängig von der äußeren Form! (z.B. eigene Listen, Kalender, Notitzblock, Strichlisten...)
B4: entspricht § 27 EEG Abs.4 Nr. 2 (Anlage 2 I.1.b)
B5: Name: | C5: Mustermann
B6: Firma: | C6: Musterfirma
B7: Jahr und Aufzeichnungsmonat: | G7: 2026 | H7: April | N7: 80% Gülle & Mist / 20% NawaRo
C9: Gülle & Mist | F9: + NawaRo | L9: = Gesamt
C10: Gülle | D10: Mist | E10: Kleegras (anteilig) | F10: Maissilage | G10: Grassilage | H10: GPS | I10: Kleegras | J10: … | K10: … | L10: Einbringmenge gesamt | M10: Masse-% Gülle & Mist | N10: kW/h el. | O10: kW/h el. | S10: ◄Die Beschriftung der Felder mit ... können verändert werden, falls andere Substrate wie zum Beispiel Kleegras eingesetzt werden! Zelle wählen + neuen Text eingeben
B11: Datum | C11: Tonnen pro Tag | D11: Tonnen pro Tag | E11: Tonnen pro Tag | F11: Tonnen pro Tag | G11: Tonnen pro Tag | H11: Tonnen pro Tag | I11: Tonnen pro Tag | J11: Tonnen pro Tag | K11: Tonnen pro Tag | L11: Tonnen pro Tag | M11: % pro Tag | N11: Zählerstand täglich | O11: Zählerstand Monatsanfang
B12: 1. | C12: 15 | D12: 20 | E12: =IF(L12="","",MIN(N(I12),(L12*10%))) -> 1 | F12: 1 | G12: 1 | H12: 1 | I12: 1 | J12: 1 | K12: 1 | L12: =IF(SUM(C12:D12,F12:K12)=0,"",(SUM(C12:D12,F12:K12))) -> 41 | M12: =IFERROR(IF((F12+G12+H12+I12+J12+K12)=0,IF(C12+D12+E12=0,"",1),(C12+D12+E12)/(C12+D12+F12+G12+H12+I12+J12+K12)),"") -> 0.87804878 | N12: 168400
B13: 2. | C13: 4 | D13: 5 | E13: =IF(L13="","",MIN(N(I13),(L13*10%))) -> 1.9 | F13: 1 | G13: 1 | H13: 1 | I13: 5 | J13: 1 | K13: 1 | L13: =IF(SUM(C13:D13,F13:K13)=0,"",(SUM(C13:D13,F13:K13))) -> 19 | M13: =IFERROR(IF((F13+G13+H13+I13+J13+K13)=0,IF(C13+D13+E13=0,"",1),(C13+D13+E13)/(C13+D13+F13+G13+H13+I13+J13+K13)),"") -> 0.57368421 | N13: 170200 | O13: 168400 | S13: ◄Herkunftsnachweise im Tabellenblatt „Nachweisbuch“
B14: 3. | E14: =IF(L14="","",MIN(N(I14),(L14*10%))) | L14: =IF(SUM(C14:D14,F14:K14)=0,"",(SUM(C14:D14,F14:K14))) | M14: =IFERROR(IF((F14+G14+H14+I14+J14+K14)=0,IF(C14+D14+E14=0,"",1),(C14+D14+E14)/(C14+D14+F14+G14+H14+I14+J14+K14)),"")
B15: 4. | E15: =IF(L15="","",MIN(N(I15),(L15*10%))) | L15: =IF(SUM(C15:D15,F15:K15)=0,"",(SUM(C15:D15,F15:K15))) | M15: =IFERROR(IF((F15+G15+H15+I15+J15+K15)=0,IF(C15+D15+E15=0,"",1),(C15+D15+E15)/(C15+D15+F15+G15+H15+I15+J15+K15)),"")
B16: 5. | E16: =IF(L16="","",MIN(N(I16),(L16*10%))) | L16: =IF(SUM(C16:D16,F16:K16)=0,"",(SUM(C16:D16,F16:K16))) | M16: =IFERROR(IF((F16+G16+H16+I16+J16+K16)=0,IF(C16+D16+E16=0,"",1),(C16+D16+E16)/(C16+D16+F16+G16+H16+I16+J16+K16)),"") | S16: ◄Kleegras-Anrechnung: max. 10% der Gesamteinbringmenge auf Gülle-/Mist-Anteil(Masse-%)
B17: 6. | E17: =IF(L17="","",MIN(N(I17),(L17*10%))) | L17: =IF(SUM(C17:D17,F17:K17)=0,"",(SUM(C17:D17,F17:K17))) | M17: =IFERROR(IF((F17+G17+H17+I17+J17+K17)=0,IF(C17+D17+E17=0,"",1),(C17+D17+E17)/(C17+D17+F17+G17+H17+I17+J17+K17)),"")
B18: 7. | E18: =IF(L18="","",MIN(N(I18),(L18*10%))) | L18: =IF(SUM(C18:D18,F18:K18)=0,"",(SUM(C18:D18,F18:K18))) | M18: =IFERROR(IF((F18+G18+H18+I18+J18+K18)=0,IF(C18+D18+E18=0,"",1),(C18+D18+E18)/(C18+D18+F18+G18+H18+I18+J18+K18)),"")
B19: 8. | E19: =IF(L19="","",MIN(N(I19),(L19*10%))) | L19: =IF(SUM(C19:D19,F19:K19)=0,"",(SUM(C19:D19,F19:K19))) | M19: =IFERROR(IF((F19+G19+H19+I19+J19+K19)=0,IF(C19+D19+E19=0,"",1),(C19+D19+E19)/(C19+D19+F19+G19+H19+I19+J19+K19)),"") | S19: ◄Zählerstände sind je nach Netzbetreiber entweder täglich oder monatlich festzuhalten
B20: 9. | E20: =IF(L20="","",MIN(N(I20),(L20*10%))) | L20: =IF(SUM(C20:D20,F20:K20)=0,"",(SUM(C20:D20,F20:K20))) | M20: =IFERROR(IF((F20+G20+H20+I20+J20+K20)=0,IF(C20+D20+E20=0,"",1),(C20+D20+E20)/(C20+D20+F20+G20+H20+I20+J20+K20)),"")
B21: 10. | E21: =IF(L21="","",MIN(N(I21),(L21*10%))) | L21: =IF(SUM(C21:D21,F21:K21)=0,"",(SUM(C21:D21,F21:K21))) | M21: =IFERROR(IF((F21+G21+H21+I21+J21+K21)=0,IF(C21+D21+E21=0,"",1),(C21+D21+E21)/(C21+D21+F21+G21+H21+I21+J21+K21)),"")
B22: 11. | E22: =IF(L22="","",MIN(N(I22),(L22*10%))) | L22: =IF(SUM(C22:D22,F22:K22)=0,"",(SUM(C22:D22,F22:K22))) | M22: =IFERROR(IF((F22+G22+H22+I22+J22+K22)=0,IF(C22+D22+E22=0,"",1),(C22+D22+E22)/(C22+D22+F22+G22+H22+I22+J22+K22)),"")
B23: 12. | E23: =IF(L23="","",MIN(N(I23),(L23*10%))) | L23: =IF(SUM(C23:D23,F23:K23)=0,"",(SUM(C23:D23,F23:K23))) | M23: =IFERROR(IF((F23+G23+H23+I23+J23+K23)=0,IF(C23+D23+E23=0,"",1),(C23+D23+E23)/(C23+D23+F23+G23+H23+I23+J23+K23)),"")
B24: 13. | E24: =IF(L24="","",MIN(N(I24),(L24*10%))) | L24: =IF(SUM(C24:D24,F24:K24)=0,"",(SUM(C24:D24,F24:K24))) | M24: =IFERROR(IF((F24+G24+H24+I24+J24+K24)=0,IF(C24+D24+E24=0,"",1),(C24+D24+E24)/(C24+D24+F24+G24+H24+I24+J24+K24)),"")
B25: 14. | E25: =IF(L25="","",MIN(N(I25),(L25*10%))) | L25: =IF(SUM(C25:D25,F25:K25)=0,"",(SUM(C25:D25,F25:K25))) | M25: =IFERROR(IF((F25+G25+H25+I25+J25+K25)=0,IF(C25+D25+E25=0,"",1),(C25+D25+E25)/(C25+D25+F25+G25+H25+I25+J25+K25)),"")
B26: 15. | E26: =IF(L26="","",MIN(N(I26),(L26*10%))) | L26: =IF(SUM(C26:D26,F26:K26)=0,"",(SUM(C26:D26,F26:K26))) | M26: =IFERROR(IF((F26+G26+H26+I26+J26+K26)=0,IF(C26+D26+E26=0,"",1),(C26+D26+E26)/(C26+D26+F26+G26+H26+I26+J26+K26)),"")
B27: 16. | E27: =IF(L27="","",MIN(N(I27),(L27*10%))) | L27: =IF(SUM(C27:D27,F27:K27)=0,"",(SUM(C27:D27,F27:K27))) | M27: =IFERROR(IF((F27+G27+H27+I27+J27+K27)=0,IF(C27+D27+E27=0,"",1),(C27+D27+E27)/(C27+D27+F27+G27+H27+I27+J27+K27)),"")
B28: 17. | E28: =IF(L28="","",MIN(N(I28),(L28*10%))) | L28: =IF(SUM(C28:D28,F28:K28)=0,"",(SUM(C28:D28,F28:K28))) | M28: =IFERROR(IF((F28+G28+H28+I28+J28+K28)=0,IF(C28+D28+E28=0,"",1),(C28+D28+E28)/(C28+D28+F28+G28+H28+I28+J28+K28)),"")
B29: 18. | E29: =IF(L29="","",MIN(N(I29),(L29*10%))) | L29: =IF(SUM(C29:D29,F29:K29)=0,"",(SUM(C29:D29,F29:K29))) | M29: =IFERROR(IF((F29+G29+H29+I29+J29+K29)=0,IF(C29+D29+E29=0,"",1),(C29+D29+E29)/(C29+D29+F29+G29+H29+I29+J29+K29)),"")
B30: 19. | E30: =IF(L30="","",MIN(N(I30),(L30*10%))) | L30: =IF(SUM(C30:D30,F30:K30)=0,"",(SUM(C30:D30,F30:K30))) | M30: =IFERROR(IF((F30+G30+H30+I30+J30+K30)=0,IF(C30+D30+E30=0,"",1),(C30+D30+E30)/(C30+D30+F30+G30+H30+I30+J30+K30)),"")
B31: 20. | E31: =IF(L31="","",MIN(N(I31),(L31*10%))) | L31: =IF(SUM(C31:D31,F31:K31)=0,"",(SUM(C31:D31,F31:K31))) | M31: =IFERROR(IF((F31+G31+H31+I31+J31+K31)=0,IF(C31+D31+E31=0,"",1),(C31+D31+E31)/(C31+D31+F31+G31+H31+I31+J31+K31)),"")
... B37: 26. | E37: =IF(L37="","",MIN(N(I37),(L37*10%))) | L37: =IF(SUM(C37:D37,F37:K37)=0,"",(SUM(C37:D37,F37:K37))) | M37: =IFERROR(IF((F37+G37+H37+I37+J37+K37)=0,IF(C37+D37+E37=0,"",1),(C37+D37+E37)/(C37+D37+F37+G37+H37+I37+J37+K37)),"")
B38: 27. | E38: =IF(L38="","",MIN(N(I38),(L38*10%))) | L38: =IF(SUM(C38:D38,F38:K38)=0,"",(SUM(C38:D38,F38:K38))) | M38: =IFERROR(IF((F38+G38+H38+I38+J38+K38)=0,IF(C38+D38+E38=0,"",1),(C38+D38+E38)/(C38+D38+F38+G38+H38+I38+J38+K38)),"") | O38: Zählerstand Monatsende
B39: 28. | E39: =IF(L39="","",MIN(N(I39),(L39*10%))) | L39: =IF(SUM(C39:D39,F39:K39)=0,"",(SUM(C39:D39,F39:K39))) | M39: =IFERROR(IF((F39+G39+H39+I39+J39+K39)=0,IF(C39+D39+E39=0,"",1),(C39+D39+E39)/(C39+D39+F39+G39+H39+I39+J39+K39)),"")
B40: 29. | E40: =IF(L40="","",MIN(N(I40),(L40*10%))) | L40: =IF(SUM(C40:D40,F40:K40)=0,"",(SUM(C40:D40,F40:K40))) | M40: =IFERROR(IF((F40+G40+H40+I40+J40+K40)=0,IF(C40+D40+E40=0,"",1),(C40+D40+E40)/(C40+D40+F40+G40+H40+I40+J40+K40)),"") | O40: 222400
B41: 30. | E41: =IF(L41="","",MIN(N(I41),(L41*10%))) | L41: =IF(SUM(C41:D41,F41:K41)=0,"",(SUM(C41:D41,F41:K41))) | M41: =IFERROR(IF((F41+G41+H41+I41+J41+K41)=0,IF(C41+D41+E41=0,"",1),(C41+D41+E41)/(C41+D41+F41+G41+H41+I41+J41+K41)),"") | N41: 222400
B42: Summe | C42: =IF(SUM(C12:C41)=0,0,SUM(C12:C41)) -> 19 | D42: =IF(SUM(D12:D41)=0,0,SUM(D12:D41)) -> 25 | E42: =IF(SUM(E12:E41)=0,0,SUM(E12:E41)) -> 2.9 | F42: =IF(SUM(F12:F41)=0,0,SUM(F12:F41)) -> 2 | G42: =IF(SUM(G12:G41)=0,0,SUM(G12:G41)) -> 2 | H42: =IF(SUM(H12:H41)=0,0,SUM(H12:H41)) -> 2 | I42: =IF(SUM(I12:I41)=0,0,SUM(I12:I41)) -> 6 | J42: =IF(SUM(J12:J41)=0,0,SUM(J12:J41)) -> 2 | ... L42: =IF(SUM(L12:L41)=0,0,SUM(L12:L41)) -> 60 | M42: =IF((F42+G42+H42+I42+J42+K42)=0,IF(C42+D42=0,"",1),(C42+D42+E42)/(C42+D42+F42+G42+H42+I42+J42+K42)) -> 0.78166667 | N42: =IF(SUM(N41-N12,N12,N41)=0,"",SUM(N41-N12)) -> 54000 | O42: =IF(O40-O13=0,0,O40-O13) -> 54000
C43: Gülle + Mist ► | E43: =IF(SUM(C42:E42)=0,"",SUM(C42:E42)) -> 46.9 | J43: Summe Nawaro ► | K43: =IF(SUM(F42:K42)=0,"",SUM(F42:K42)) -> 16 | L43: ▲ Monatsdurchschnitt | N43: ▲ ▲ Produktion kW/h el.
B45: Hiermit bestätige ich, dass die Vorgaben des EEG und der Biomasseverordnung erfüllt und alle Einsatzstoffe vollständig und korrekt im Tagebuch eingetragen sind.
B46: Datum: | F46: Unterschrift:

Sheet Mai
N1: © NQ-Anlagentechnik GmbH | S1: ◄Einsatzstofftagebuch bitte täglich ausfüllen
S3: Zusätzlich evtl. tägliche handschriftliche Aufzeichnungen aubewahren, unabhängig von der äußeren Form! (z.B. eigene Listen, Kalender, Notitzblock, Strichlisten...)
B4: entspricht § 27 EEG Abs.4 Nr. 2 (Anlage 2 I.1.b)
B5: Name: | C5: Mustermann
B6: Firma: | C6: Musterfirma
B7: Jahr und Aufzeichnungsmonat: | G7: 2026 | H7: Mai | N7: 80% Gülle & Mist / 20% NawaRo
C9: Gülle & Mist | F9: + NawaRo | L9: = Gesamt
C10: Gülle | D10: Mist | E10: Kleegras (anteilig) | F10: Maissilage | G10: Grassilage | H10: GPS | I10: Kleegras | J10: … | K10: … | L10: Einbringmenge gesamt | M10: Masse-% Gülle & Mist | N10: kW/h el. | O10: kW/h el. | S10: ◄Die Beschriftung der Felder mit ... können verändert werden, falls andere Substrate wie zum Beispiel Kleegras eingesetzt werden! Zelle wählen + neuen Text eingeben
B11: Datum | C11: Tonnen pro Tag | D11: Tonnen pro Tag | E11: Tonnen pro Tag | F11: Tonnen pro Tag | G11: Tonnen pro Tag | H11: Tonnen pro Tag | I11: Tonnen pro Tag | J11: Tonnen pro Tag | K11: Tonnen pro Tag | L11: Tonnen pro Tag | M11: % pro Tag | N11: Zählerstand täglich | O11: Zählerstand Monatsanfang
B12: 1. | C12: 15 | D12: 20 | E12: =IF(L12="","",MIN(N(I12),(L12*10%))) -> 1 | F12: 1 | G12: 1 | H12: 1 | I12: 1 | J12: 1 | K12: 1 | L12: =IF(SUM(C12:D12,F12:K12)=0,"",(SUM(C12:D12,F12:K12))) -> 41 | M12: =IFERROR(IF((F12+G12+H12+I12+J12+K12)=0,IF(C12+D12+E12=0,"",1),(C12+D12+E12)/(C12+D12+F12+G12+H12+I12+J12+K12)),"") -> 0.87804878 | N12: 224200
B13: 2. | C13: 5 | D13: 6 | E13: =IF(L13="","",MIN(N(I13),(L13*10%))) -> 2.1 | F13: 1 | G13: 1 | H13: 1 | I13: 5 | J13: 1 | K13: 1 | L13: =IF(SUM(C13:D13,F13:K13)=0,"",(SUM(C13:D13,F13:K13))) -> 21 | M13: =IFERROR(IF((F13+G13+H13+I13+J13+K13)=0,IF(C13+D13+E13=0,"",1),(C13+D13+E13)/(C13+D13+F13+G13+H13+I13+J13+K13)),"") -> 0.62380952 | N13: 226000 | O13: 224200 | S13: ◄Herkunftsnachweise im Tabellenblatt „Nachweisbuch“
B14: 3. | E14: =IF(L14="","",MIN(N(I14),(L14*10%))) | L14: =IF(SUM(C14:D14,F14:K14)=0,"",(SUM(C14:D14,F14:K14))) | M14: =IFERROR(IF((F14+G14+H14+I14+J14+K14)=0,IF(C14+D14+E14=0,"",1),(C14+D14+E14)/(C14+D14+F14+G14+H14+I14+J14+K14)),"")
B15: 4. | E15: =IF(L15="","",MIN(N(I15),(L15*10%))) | L15: =IF(SUM(C15:D15,F15:K15)=0,"",(SUM(C15:D15,F15:K15))) | M15: =IFERROR(IF((F15+G15+H15+I15+J15+K15)=0,IF(C15+D15+E15=0,"",1),(C15+D15+E15)/(C15+D15+F15+G15+H15+I15+J15+K15)),"")
B16: 5. | E16: =IF(L16="","",MIN(N(I16),(L16*10%))) | L16: =IF(SUM(C16:D16,F16:K16)=0,"",(SUM(C16:D16,F16:K16))) | M16: =IFERROR(IF((F16+G16+H16+I16+J16+K16)=0,IF(C16+D16+E16=0,"",1),(C16+D16+E16)/(C16+D16+F16+G16+H16+I16+J16+K16)),"") | S16: ◄Kleegras-Anrechnung: max. 10% der Gesamteinbringmenge auf Gülle-/Mist-Anteil(Masse-%)
B17: 6. | E17: =IF(L17="","",MIN(N(I17),(L17*10%))) | L17: =IF(SUM(C17:D17,F17:K17)=0,"",(SUM(C17:D17,F17:K17))) | M17: =IFERROR(IF((F17+G17+H17+I17+J17+K17)=0,IF(C17+D17+E17=0,"",1),(C17+D17+E17)/(C17+D17+F17+G17+H17+I17+J17+K17)),"")
B18: 7. | E18: =IF(L18="","",MIN(N(I18),(L18*10%))) | L18: =IF(SUM(C18:D18,F18:K18)=0,"",(SUM(C18:D18,F18:K18))) | M18: =IFERROR(IF((F18+G18+H18+I18+J18+K18)=0,IF(C18+D18+E18=0,"",1),(C18+D18+E18)/(C18+D18+F18+G18+H18+I18+J18+K18)),"")
B19: 8. | E19: =IF(L19="","",MIN(N(I19),(L19*10%))) | L19: =IF(SUM(C19:D19,F19:K19)=0,"",(SUM(C19:D19,F19:K19))) | M19: =IFERROR(IF((F19+G19+H19+I19+J19+K19)=0,IF(C19+D19+E19=0,"",1),(C19+D19+E19)/(C19+D19+F19+G19+H19+I19+J19+K19)),"") | S19: ◄Zählerstände sind je nach Netzbetreiber entweder täglich oder monatlich festzuhalten
B20: 9. | E20: =IF(L20="","",MIN(N(I20),(L20*10%))) | L20: =IF(SUM(C20:D20,F20:K20)=0,"",(SUM(C20:D20,F20:K20))) | M20: =IFERROR(IF((F20+G20+H20+I20+J20+K20)=0,IF(C20+D20+E20=0,"",1),(C20+D20+E20)/(C20+D20+F20+G20+H20+I20+J20+K20)),"")
B21: 10. | E21: =IF(L21="","",MIN(N(I21),(L21*10%))) | L21: =IF(SUM(C21:D21,F21:K21)=0,"",(SUM(C21:D21,F21:K21))) | M21: =IFERROR(IF((F21+G21+H21+I21+J21+K21)=0,IF(C21+D21+E21=0,"",1),(C21+D21+E21)/(C21+D21+F21+G21+H21+I21+J21+K21)),"")
B22: 11. | E22: =IF(L22="","",MIN(N(I22),(L22*10%))) | L22: =IF(SUM(C22:D22,F22:K22)=0,"",(SUM(C22:D22,F22:K22))) | M22: =IFERROR(IF((F22+G22+H22+I22+J22+K22)=0,IF(C22+D22+E22=0,"",1),(C22+D22+E22)/(C22+D22+F22+G22+H22+I22+J22+K22)),"")
B23: 12. | E23: =IF(L23="","",MIN(N(I23),(L23*10%))) | L23: =IF(SUM(C23:D23,F23:K23)=0,"",(SUM(C23:D23,F23:K23))) | M23: =IFERROR(IF((F23+G23+H23+I23+J23+K23)=0,IF(C23+D23+E23=0,"",1),(C23+D23+E23)/(C23+D23+F23+G23+H23+I23+J23+K23)),"")
B24: 13. | E24: =IF(L24="","",MIN(N(I24),(L24*10%))) | L24: =IF(SUM(C24:D24,F24:K24)=0,"",(SUM(C24:D24,F24:K24))) | M24: =IFERROR(IF((F24+G24+H24+I24+J24+K24)=0,IF(C24+D24+E24=0,"",1),(C24+D24+E24)/(C24+D24+F24+G24+H24+I24+J24+K24)),"")
B25: 14. | E25: =IF(L25="","",MIN(N(I25),(L25*10%))) | L25: =IF(SUM(C25:D25,F25:K25)=0,"",(SUM(C25:D25,F25:K25))) | M25: =IFERROR(IF((F25+G25+H25+I25+J25+K25)=0,IF(C25+D25+E25=0,"",1),(C25+D25+E25)/(C25+D25+F25+G25+H25+I25+J25+K25)),"")
B26: 15. | E26: =IF(L26="","",MIN(N(I26),(L26*10%))) | L26: =IF(SUM(C26:D26,F26:K26)=0,"",(SUM(C26:D26,F26:K26))) | M26: =IFERROR(IF((F26+G26+H26+I26+J26+K26)=0,IF(C26+D26+E26=0,"",1),(C26+D26+E26)/(C26+D26+F26+G26+H26+I26+J26+K26)),"")
B27: 16. | E27: =IF(L27="","",MIN(N(I27),(L27*10%))) | L27: =IF(SUM(C27:D27,F27:K27)=0,"",(SUM(C27:D27,F27:K27))) | M27: =IFERROR(IF((F27+G27+H27+I27+J27+K27)=0,IF(C27+D27+E27=0,"",1),(C27+D27+E27)/(C27+D27+F27+G27+H27+I27+J27+K27)),"")
B28: 17. | E28: =IF(L28="","",MIN(N(I28),(L28*10%))) | L28: =IF(SUM(C28:D28,F28:K28)=0,"",(SUM(C28:D28,F28:K28))) | M28: =IFERROR(IF((F28+G28+H28+I28+J28+K28)=0,IF(C28+D28+E28=0,"",1),(C28+D28+E28)/(C28+D28+F28+G28+H28+I28+J28+K28)),"")
B29: 18. | E29: =IF(L29="","",MIN(N(I29),(L29*10%))) | L29: =IF(SUM(C29:D29,F29:K29)=0,"",(SUM(C29:D29,F29:K29))) | M29: =IFERROR(IF((F29+G29+H29+I29+J29+K29)=0,IF(C29+D29+E29=0,"",1),(C29+D29+E29)/(C29+D29+F29+G29+H29+I29+J29+K29)),"")
B30: 19. | E30: =IF(L30="","",MIN(N(I30),(L30*10%))) | L30: =IF(SUM(C30:D30,F30:K30)=0,"",(SUM(C30:D30,F30:K30))) | M30: =IFERROR(IF((F30+G30+H30+I30+J30+K30)=0,IF(C30+D30+E30=0,"",1),(C30+D30+E30)/(C30+D30+F30+G30+H30+I30+J30+K30)),"")
B31: 20. | E31: =IF(L31="","",MIN(N(I31),(L31*10%))) | L31: =IF(SUM(C31:D31,F31:K31)=0,"",(SUM(C31:D31,F31:K31))) | M31: =IFERROR(IF((F31+G31+H31+I31+J31+K31)=0,IF(C31+D31+E31=0,"",1),(C31+D31+E31)/(C31+D31+F31+G31+H31+I31+J31+K31)),"")
... B38: 27. | E38: =IF(L38="","",MIN(N(I38),(L38*10%))) | L38: =IF(SUM(C38:D38,F38:K38)=0,"",(SUM(C38:D38,F38:K38))) | M38: =IFERROR(IF((F38+G38+H38+I38+J38+K38)=0,IF(C38+D38+E38=0,"",1),(C38+D38+E38)/(C38+D38+F38+G38+H38+I38+J38+K38)),"")
B39: 28. | E39: =IF(L39="","",MIN(N(I39),(L39*10%))) | L39: =IF(SUM(C39:D39,F39:K39)=0,"",(SUM(C39:D39,F39:K39))) | M39: =IFERROR(IF((F39+G39+H39+I39+J39+K39)=0,IF(C39+D39+E39=0,"",1),(C39+D39+E39)/(C39+D39+F39+G39+H39+I39+J39+K39)),"") | O39: Zählerstand Monatsende
B40: 29. | E40: =IF(L40="","",MIN(N(I40),(L40*10%))) | L40: =IF(SUM(C40:D40,F40:K40)=0,"",(SUM(C40:D40,F40:K40))) | M40: =IFERROR(IF((F40+G40+H40+I40+J40+K40)=0,IF(C40+D40+E40=0,"",1),(C40+D40+E40)/(C40+D40+F40+G40+H40+I40+J40+K40)),"")
B41: 30. | E41: =IF(L41="","",MIN(N(I41),(L41*10%))) | L41: =IF(SUM(C41:D41,F41:K41)=0,"",(SUM(C41:D41,F41:K41))) | M41: =IFERROR(IF((F41+G41+H41+I41+J41+K41)=0,IF(C41+D41+E41=0,"",1),(C41+D41+E41)/(C41+D41+F41+G41+H41+I41+J41+K41)),"") | O41: 278200
B42: 31. | E42: =IF(L42="","",MIN(N(I42),(L42*10%))) | L42: =IF(SUM(C42:D42,F42:K42)=0,"",(SUM(C42:D42,F42:K42))) | M42: =IFERROR(IF((F42+G42+H42+I42+J42+K42)=0,IF(C42+D42+E42=0,"",1),(C42+D42+E42)/(C42+D42+F42+G42+H42+I42+J42+K42)),"") | N42: 278200
B43: Summe | C43: =IF(SUM(C12:C42)=0,0,SUM(C12:C42)) -> 20 | D43: =IF(SUM(D12:D42)=0,0,SUM(D12:D42)) -> 26 | E43: =IF(SUM(E12:E42)=0,0,SUM(E12:E42)) -> 3.1 | F43: =IF(SUM(F12:F42)=0,0,SUM(F12:F42)) -> 2 | G43: =IF(SUM(G12:G42)=0,0,SUM(G12:G42)) -> 2 | H43: =IF(SUM(H12:H42)=0,0,SUM(H12:H42)) -> 2 | I43: =IF(SUM(I12:I42)=0,0,SUM(I12:I42)) -> 6 | J43: =IF(SUM(J12:J42)=0,0,SUM(J12:J42)) -> 2 | ... L43: =IF(SUM(L12:L42)=0,0,SUM(L12:L42)) -> 62 | M43: =IF((F43+G43+H43+I43+J43+K43)=0,IF(C43+D43=0,"",1),(C43+D43+E43)/(C43+D43+F43+G43+H43+I43+J43+K43)) -> 0.79193548 | N43: =IF(SUM(N42-N12,N12,N42)=0,"",SUM(N42-N12)) -> 54000 | O43: =IF(O41-O13=0,0,O41-O13) -> 54000
C44: Gülle + Mist ► | E44: =IF(SUM(C43:E43)=0,"",SUM(C43:E43)) -> 49.1 | J44: Summe Nawaro ► | K44: =IF(SUM(F43:K43)=0,"",SUM(F43:K43)) -> 16 | L44: ▲ Monatsdurchschnitt | N44: ▲ ▲ Produktion kW/h el.
B46: Hiermit bestätige ich, dass die Vorgaben des EEG und der Biomasseverordnung erfüllt und alle Einsatzstoffe vollständig und korrekt im Tagebuch eingetragen sind.
B47: Datum: | F47: Unterschrift:

Sheet Juni
N1: © NQ-Anlagentechnik GmbH | S1: ◄Einsatzstofftagebuch bitte täglich ausfüllen
S3: Zusätzlich evtl. tägliche handschriftliche Aufzeichnungen aubewahren, unabhängig von der äußeren Form! (z.B. eigene Listen, Kalender, Notitzblock, Strichlisten...)
B4: entspricht § 27 EEG Abs.4 Nr. 2 (Anlage 2 I.1.b)
B5: Name: | C5: Mustermann
B6: Firma: | C6: Musterfirma
B7: Jahr und Aufzeichnungsmonat: | G7: 2026 | H7: Juni | N7: 80% Gülle & Mist / 20% NawaRo
C9: Gülle & Mist | F9: + NawaRo | L9: = Gesamt
C10: Gülle | D10: Mist | E10: Kleegras (anteilig) | F10: Maissilage | G10: Grassilage | H10: GPS | I10: Kleegras | J10: … | K10: … | L10: Einbringmenge gesamt | M10: Masse-% Gülle & Mist | N10: kW/h el. | O10: kW/h el. | S10: ◄Die Beschriftung der Felder mit ... können verändert werden, falls andere Substrate wie zum Beispiel Kleegras eingesetzt werden! Zelle wählen + neuen Text eingeben
B11: Datum | C11: Tonnen pro Tag | D11: Tonnen pro Tag | E11: Tonnen pro Tag | F11: Tonnen pro Tag | G11: Tonnen pro Tag | H11: Tonnen pro Tag | I11: Tonnen pro Tag | J11: Tonnen pro Tag | K11: Tonnen pro Tag | L11: Tonnen pro Tag | M11: % pro Tag | N11: Zählerstand täglich | O11: Zählerstand Monatsanfang
B12: 1. | C12: 15 | D12: 20 | E12: =IF(L12="","",MIN(N(I12),(L12*10%))) -> 1 | F12: 1 | G12: 1 | H12: 1 | I12: 1 | J12: 1 | K12: 1 | L12: =IF(SUM(C12:D12,F12:K12)=0,"",(SUM(C12:D12,F12:K12))) -> 41 | M12: =IFERROR(IF((F12+G12+H12+I12+J12+K12)=0,IF(C12+D12+E12=0,"",1),(C12+D12+E12)/(C12+D12+F12+G12+H12+I12+J12+K12)),"") -> 0.87804878 | N12: 280000
B13: 2. | C13: 6 | D13: 7 | E13: =IF(L13="","",MIN(N(I13),(L13*10%))) -> 2.3 | F13: 1 | G13: 1 | H13: 1 | I13: 5 | J13: 1 | K13: 1 | L13: =IF(SUM(C13:D13,F13:K13)=0,"",(SUM(C13:D13,F13:K13))) -> 23 | M13: =IFERROR(IF((F13+G13+H13+I13+J13+K13)=0,IF(C13+D13+E13=0,"",1),(C13+D13+E13)/(C13+D13+F13+G13+H13+I13+J13+K13)),"") -> 0.66521739 | N13: 281800 | O13: 280000 | S13: ◄Herkunftsnachweise im Tabellenblatt „Nachweisbuch“
B14: 3. | E14: =IF(L14="","",MIN(N(I14),(L14*10%))) | L14: =IF(SUM(C14:D14,F14:K14)=0,"",(SUM(C14:D14,F14:K14))) | M14: =IFERROR(IF((F14+G14+H14+I14+J14+K14)=0,IF(C14+D14+E14=0,"",1),(C14+D14+E14)/(C14+D14+F14+G14+H14+I14+J14+K14)),"")
B15: 4. | E15: =IF(L15="","",MIN(N(I15),(L15*10%))) | L15: =IF(SUM(C15:D15,F15:K15)=0,"",(SUM(C15:D15,F15:K15))) | M15: =IFERROR(IF((F15+G15+H15+I15+J15+K15)=0,IF(C15+D15+E15=0,"",1),(C15+D15+E15)/(C15+D15+F15+G15+H15+I15+J15+K15)),"")
B16: 5. | E16: =IF(L16="","",MIN(N(I16),(L16*10%))) | L16: =IF(SUM(C16:D16,F16:K16)=0,"",(SUM(C16:D16,F16:K16))) | M16: =IFERROR(IF((F16+G16+H16+I16+J16+K16)=0,IF(C16+D16+E16=0,"",1),(C16+D16+E16)/(C16+D16+F16+G16+H16+I16+J16+K16)),"") | S16: ◄Kleegras-Anrechnung: max. 10% der Gesamteinbringmenge auf Gülle-/Mist-Anteil(Masse-%)
B17: 6. | E17: =IF(L17="","",MIN(N(I17),(L17*10%))) | L17: =IF(SUM(C17:D17,F17:K17)=0,"",(SUM(C17:D17,F17:K17))) | M17: =IFERROR(IF((F17+G17+H17+I17+J17+K17)=0,IF(C17+D17+E17=0,"",1),(C17+D17+E17)/(C17+D17+F17+G17+H17+I17+J17+K17)),"")
B18: 7. | E18: =IF(L18="","",MIN(N(I18),(L18*10%))) | L18: =IF(SUM(C18:D18,F18:K18)=0,"",(SUM(C18:D18,F18:K18))) | M18: =IFERROR(IF((F18+G18+H18+I18+J18+K18)=0,IF(C18+D18+E18=0,"",1),(C18+D18+E18)/(C18+D18+F18+G18+H18+I18+J18+K18)),"")
B19: 8. | E19: =IF(L19="","",MIN(N(I19),(L19*10%))) | L19: =IF(SUM(C19:D19,F19:K19)=0,"",(SUM(C19:D19,F19:K19))) | M19: =IFERROR(IF((F19+G19+H19+I19+J19+K19)=0,IF(C19+D19+E19=0,"",1),(C19+D19+E19)/(C19+D19+F19+G19+H19+I19+J19+K19)),"") | S19: ◄Zählerstände sind je nach Netzbetreiber entweder täglich oder monatlich festzuhalten
B20: 9. | E20: =IF(L20="","",MIN(N(I20),(L20*10%))) | L20: =IF(SUM(C20:D20,F20:K20)=0,"",(SUM(C20:D20,F20:K20))) | M20: =IFERROR(IF((F20+G20+H20+I20+J20+K20)=0,IF(C20+D20+E20=0,"",1),(C20+D20+E20)/(C20+D20+F20+G20+H20+I20+J20+K20)),"")
B21: 10. | E21: =IF(L21="","",MIN(N(I21),(L21*10%))) | L21: =IF(SUM(C21:D21,F21:K21)=0,"",(SUM(C21:D21,F21:K21))) | M21: =IFERROR(IF((F21+G21+H21+I21+J21+K21)=0,IF(C21+D21+E21=0,"",1),(C21+D21+E21)/(C21+D21+F21+G21+H21+I21+J21+K21)),"")
B22: 11. | E22: =IF(L22="","",MIN(N(I22),(L22*10%))) | L22: =IF(SUM(C22:D22,F22:K22)=0,"",(SUM(C22:D22,F22:K22))) | M22: =IFERROR(IF((F22+G22+H22+I22+J22+K22)=0,IF(C22+D22+E22=0,"",1),(C22+D22+E22)/(C22+D22+F22+G22+H22+I22+J22+K22)),"")
B23: 12. | E23: =IF(L23="","",MIN(N(I23),(L23*10%))) | L23: =IF(SUM(C23:D23,F23:K23)=0,"",(SUM(C23:D23,F23:K23))) | M23: =IFERROR(IF((F23+G23+H23+I23+J23+K23)=0,IF(C23+D23+E23=0,"",1),(C23+D23+E23)/(C23+D23+F23+G23+H23+I23+J23+K23)),"")
B24: 13. | E24: =IF(L24="","",MIN(N(I24),(L24*10%))) | L24: =IF(SUM(C24:D24,F24:K24)=0,"",(SUM(C24:D24,F24:K24))) | M24: =IFERROR(IF((F24+G24+H24+I24+J24+K24)=0,IF(C24+D24+E24=0,"",1),(C24+D24+E24)/(C24+D24+F24+G24+H24+I24+J24+K24)),"")
B25: 14. | E25: =IF(L25="","",MIN(N(I25),(L25*10%))) | L25: =IF(SUM(C25:D25,F25:K25)=0,"",(SUM(C25:D25,F25:K25))) | M25: =IFERROR(IF((F25+G25+H25+I25+J25+K25)=0,IF(C25+D25+E25=0,"",1),(C25+D25+E25)/(C25+D25+F25+G25+H25+I25+J25+K25)),"")
B26: 15. | E26: =IF(L26="","",MIN(N(I26),(L26*10%))) | L26: =IF(SUM(C26:D26,F26:K26)=0,"",(SUM(C26:D26,F26:K26))) | M26: =IFERROR(IF((F26+G26+H26+I26+J26+K26)=0,IF(C26+D26+E26=0,"",1),(C26+D26+E26)/(C26+D26+F26+G26+H26+I26+J26+K26)),"")
B27: 16. | E27: =IF(L27="","",MIN(N(I27),(L27*10%))) | L27: =IF(SUM(C27:D27,F27:K27)=0,"",(SUM(C27:D27,F27:K27))) | M27: =IFERROR(IF((F27+G27+H27+I27+J27+K27)=0,IF(C27+D27+E27=0,"",1),(C27+D27+E27)/(C27+D27+F27+G27+H27+I27+J27+K27)),"")
B28: 17. | E28: =IF(L28="","",MIN(N(I28),(L28*10%))) | L28: =IF(SUM(C28:D28,F28:K28)=0,"",(SUM(C28:D28,F28:K28))) | M28: =IFERROR(IF((F28+G28+H28+I28+J28+K28)=0,IF(C28+D28+E28=0,"",1),(C28+D28+E28)/(C28+D28+F28+G28+H28+I28+J28+K28)),"")
B29: 18. | E29: =IF(L29="","",MIN(N(I29),(L29*10%))) | L29: =IF(SUM(C29:D29,F29:K29)=0,"",(SUM(C29:D29,F29:K29))) | M29: =IFERROR(IF((F29+G29+H29+I29+J29+K29)=0,IF(C29+D29+E29=0,"",1),(C29+D29+E29)/(C29+D29+F29+G29+H29+I29+J29+K29)),"")
B30: 19. | E30: =IF(L30="","",MIN(N(I30),(L30*10%))) | L30: =IF(SUM(C30:D30,F30:K30)=0,"",(SUM(C30:D30,F30:K30))) | M30: =IFERROR(IF((F30+G30+H30+I30+J30+K30)=0,IF(C30+D30+E30=0,"",1),(C30+D30+E30)/(C30+D30+F30+G30+H30+I30+J30+K30)),"")
B31: 20. | E31: =IF(L31="","",MIN(N(I31),(L31*10%))) | L31: =IF(SUM(C31:D31,F31:K31)=0,"",(SUM(C31:D31,F31:K31))) | M31: =IFERROR(IF((F31+G31+H31+I31+J31+K31)=0,IF(C31+D31+E31=0,"",1),(C31+D31+E31)/(C31+D31+F31+G31+H31+I31+J31+K31)),"")
... B37: 26. | E37: =IF(L37="","",MIN(N(I37),(L37*10%))) | L37: =IF(SUM(C37:D37,F37:K37)=0,"",(SUM(C37:D37,F37:K37))) | M37: =IFERROR(IF((F37+G37+H37+I37+J37+K37)=0,IF(C37+D37+E37=0,"",1),(C37+D37+E37)/(C37+D37+F37+G37+H37+I37+J37+K37)),"")
B38: 27. | E38: =IF(L38="","",MIN(N(I38),(L38*10%))) | L38: =IF(SUM(C38:D38,F38:K38)=0,"",(SUM(C38:D38,F38:K38))) | M38: =IFERROR(IF((F38+G38+H38+I38+J38+K38)=0,IF(C38+D38+E38=0,"",1),(C38+D38+E38)/(C38+D38+F38+G38+H38+I38+J38+K38)),"") | O38: Zählerstand Monatsende
B39: 28. | E39: =IF(L39="","",MIN(N(I39),(L39*10%))) | L39: =IF(SUM(C39:D39,F39:K39)=0,"",(SUM(C39:D39,F39:K39))) | M39: =IFERROR(IF((F39+G39+H39+I39+J39+K39)=0,IF(C39+D39+E39=0,"",1),(C39+D39+E39)/(C39+D39+F39+G39+H39+I39+J39+K39)),"")
B40: 29. | E40: =IF(L40="","",MIN(N(I40),(L40*10%))) | L40: =IF(SUM(C40:D40,F40:K40)=0,"",(SUM(C40:D40,F40:K40))) | M40: =IFERROR(IF((F40+G40+H40+I40+J40+K40)=0,IF(C40+D40+E40=0,"",1),(C40+D40+E40)/(C40+D40+F40+G40+H40+I40+J40+K40)),"") | O40: 334000
B41: 30. | E41: =IF(L41="","",MIN(N(I41),(L41*10%))) | L41: =IF(SUM(C41:D41,F41:K41)=0,"",(SUM(C41:D41,F41:K41))) | M41: =IFERROR(IF((F41+G41+H41+I41+J41+K41)=0,IF(C41+D41+E41=0,"",1),(C41+D41+E41)/(C41+D41+F41+G41+H41+I41+J41+K41)),"") | N41: 334000
B42: Summe | C42: =IF(SUM(C12:C41)=0,0,SUM(C12:C41)) -> 21 | D42: =IF(SUM(D12:D41)=0,0,SUM(D12:D41)) -> 27 | E42: =IF(SUM(E12:E41)=0,0,SUM(E12:E41)) -> 3.3 | F42: =IF(SUM(F12:F41)=0,0,SUM(F12:F41)) -> 2 | G42: =IF(SUM(G12:G41)=0,0,SUM(G12:G41)) -> 2 | H42: =IF(SUM(H12:H41)=0,0,SUM(H12:H41)) -> 2 | I42: =IF(SUM(I12:I41)=0,0,SUM(I12:I41)) -> 6 | J42: =IF(SUM(J12:J41)=0,0,SUM(J12:J41)) -> 2 | ... L42: =IF(SUM(L12:L41)=0,0,SUM(L12:L41)) -> 64 | M42: =IF((F42+G42+H42+I42+J42+K42)=0,IF(C42+D42=0,"",1),(C42+D42+E42)/(C42+D42+F42+G42+H42+I42+J42+K42)) -> 0.8015625 | N42: =IF(SUM(N41-N12,N12,N41)=0,"",SUM(N41-N12)) -> 54000 | O42: =IF(O40-O13=0,0,O40-O13) -> 54000
C43: Gülle + Mist ► | E43: =IF(SUM(C42:E42)=0,"",SUM(C42:E42)) -> 51.3 | J43: Summe Nawaro ► | K43: =IF(SUM(F42:K42)=0,"",SUM(F42:K42)) -> 16 | L43: ▲ Monatsdurchschnitt | N43: ▲ ▲ Produktion kW/h el.
B45: Hiermit bestätige ich, dass die Vorgaben des EEG und der Biomasseverordnung erfüllt und alle Einsatzstoffe vollständig und korrekt im Tagebuch eingetragen sind.
B46: Datum: | F46: Unterschrift:

Sheet Juli
N1: © NQ-Anlagentechnik GmbH | S1: ◄Einsatzstofftagebuch bitte täglich ausfüllen
S3: Zusätzlich evtl. tägliche handschriftliche Aufzeichnungen aubewahren, unabhängig von der äußeren Form! (z.B. eigene Listen, Kalender, Notitzblock, Strichlisten...)
B4: entspricht § 27 EEG Abs.4 Nr. 2 (Anlage 2 I.1.b)
B5: Name: | C5: Mustermann
B6: Firma: | C6: Musterfirma
B7: Jahr und Aufzeichnungsmonat: | G7: 2026 | H7: Juli | N7: 80% Gülle & Mist / 20% NawaRo
C9: Gülle & Mist | F9: + NawaRo | L9: = Gesamt
C10: Gülle | D10: Mist | E10: Kleegras (anteilig) | F10: Maissilage | G10: Grassilage | H10: GPS | I10: Kleegras | J10: … | K10: … | L10: Einbringmenge gesamt | M10: Masse-% Gülle & Mist | N10: kW/h el. | O10: kW/h el. | S10: ◄Die Beschriftung der Felder mit ... können verändert werden, falls andere Substrate wie zum Beispiel Kleegras eingesetzt werden! Zelle wählen + neuen Text eingeben
B11: Datum | C11: Tonnen pro Tag | D11: Tonnen pro Tag | E11: Tonnen pro Tag | F11: Tonnen pro Tag | G11: Tonnen pro Tag | H11: Tonnen pro Tag | I11: Tonnen pro Tag | J11: Tonnen pro Tag | K11: Tonnen pro Tag | L11: Tonnen pro Tag | M11: % pro Tag | N11: Zählerstand täglich | O11: Zählerstand Monatsanfang
B12: 1. | C12: 15 | D12: 20 | E12: =IF(L12="","",MIN(N(I12),(L12*10%))) -> 1 | F12: 1 | G12: 1 | H12: 1 | I12: 1 | J12: 1 | K12: 1 | L12: =IF(SUM(C12:D12,F12:K12)=0,"",(SUM(C12:D12,F12:K12))) -> 41 | M12: =IFERROR(IF((F12+G12+H12+I12+J12+K12)=0,IF(C12+D12+E12=0,"",1),(C12+D12+E12)/(C12+D12+F12+G12+H12+I12+J12+K12)),"") -> 0.87804878 | N12: 335800
B13: 2. | C13: 7 | D13: 8 | E13: =IF(L13="","",MIN(N(I13),(L13*10%))) -> 2.5 | F13: 1 | G13: 1 | H13: 1 | I13: 5 | J13: 1 | K13: 1 | L13: =IF(SUM(C13:D13,F13:K13)=0,"",(SUM(C13:D13,F13:K13))) -> 25 | M13: =IFERROR(IF((F13+G13+H13+I13+J13+K13)=0,IF(C13+D13+E13=0,"",1),(C13+D13+E13)/(C13+D13+F13+G13+H13+I13+J13+K13)),"") -> 0.7 | N13: 337600 | O13: 335800 | S13: ◄Herkunftsnachweise im Tabellenblatt „Nachweisbuch“
B14: 3. | E14: =IF(L14="","",MIN(N(I14),(L14*10%))) | L14: =IF(SUM(C14:D14,F14:K14)=0,"",(SUM(C14:D14,F14:K14))) | M14: =IFERROR(IF((F14+G14+H14+I14+J14+K14)=0,IF(C14+D14+E14=0,"",1),(C14+D14+E14)/(C14+D14+F14+G14+H14+I14+J14+K14)),"")
B15: 4. | E15: =IF(L15="","",MIN(N(I15),(L15*10%))) | L15: =IF(SUM(C15:D15,F15:K15)=0,"",(SUM(C15:D15,F15:K15))) | M15: =IFERROR(IF((F15+G15+H15+I15+J15+K15)=0,IF(C15+D15+E15=0,"",1),(C15+D15+E15)/(C15+D15+F15+G15+H15+I15+J15+K15)),"")
B16: 5. | E16: =IF(L16="","",MIN(N(I16),(L16*10%))) | L16: =IF(SUM(C16:D16,F16:K16)=0,"",(SUM(C16:D16,F16:K16))) | M16: =IFERROR(IF((F16+G16+H16+I16+J16+K16)=0,IF(C16+D16+E16=0,"",1),(C16+D16+E16)/(C16+D16+F16+G16+H16+I16+J16+K16)),"") | S16: ◄Kleegras-Anrechnung: max. 10% der Gesamteinbringmenge auf Gülle-/Mist-Anteil(Masse-%)
B17: 6. | E17: =IF(L17="","",MIN(N(I17),(L17*10%))) | L17: =IF(SUM(C17:D17,F17:K17)=0,"",(SUM(C17:D17,F17:K17))) | M17: =IFERROR(IF((F17+G17+H17+I17+J17+K17)=0,IF(C17+D17+E17=0,"",1),(C17+D17+E17)/(C17+D17+F17+G17+H17+I17+J17+K17)),"")
B18: 7. | E18: =IF(L18="","",MIN(N(I18),(L18*10%))) | L18: =IF(SUM(C18:D18,F18:K18)=0,"",(SUM(C18:D18,F18:K18))) | M18: =IFERROR(IF((F18+G18+H18+I18+J18+K18)=0,IF(C18+D18+E18=0,"",1),(C18+D18+E18)/(C18+D18+F18+G18+H18+I18+J18+K18)),"")
B19: 8. | E19: =IF(L19="","",MIN(N(I19),(L19*10%))) | L19: =IF(SUM(C19:D19,F19:K19)=0,"",(SUM(C19:D19,F19:K19))) | M19: =IFERROR(IF((F19+G19+H19+I19+J19+K19)=0,IF(C19+D19+E19=0,"",1),(C19+D19+E19)/(C19+D19+F19+G19+H19+I19+J19+K19)),"") | S19: ◄Zählerstände sind je nach Netzbetreiber entweder täglich oder monatlich festzuhalten
B20: 9. | E20: =IF(L20="","",MIN(N(I20),(L20*10%))) | L20: =IF(SUM(C20:D20,F20:K20)=0,"",(SUM(C20:D20,F20:K20))) | M20: =IFERROR(IF((F20+G20+H20+I20+J20+K20)=0,IF(C20+D20+E20=0,"",1),(C20+D20+E20)/(C20+D20+F20+G20+H20+I20+J20+K20)),"")
B21: 10. | E21: =IF(L21="","",MIN(N(I21),(L21*10%))) | L21: =IF(SUM(C21:D21,F21:K21)=0,"",(SUM(C21:D21,F21:K21))) | M21: =IFERROR(IF((F21+G21+H21+I21+J21+K21)=0,IF(C21+D21+E21=0,"",1),(C21+D21+E21)/(C21+D21+F21+G21+H21+I21+J21+K21)),"")
B22: 11. | E22: =IF(L22="","",MIN(N(I22),(L22*10%))) | L22: =IF(SUM(C22:D22,F22:K22)=0,"",(SUM(C22:D22,F22:K22))) | M22: =IFERROR(IF((F22+G22+H22+I22+J22+K22)=0,IF(C22+D22+E22=0,"",1),(C22+D22+E22)/(C22+D22+F22+G22+H22+I22+J22+K22)),"")
B23: 12. | E23: =IF(L23="","",MIN(N(I23),(L23*10%))) | L23: =IF(SUM(C23:D23,F23:K23)=0,"",(SUM(C23:D23,F23:K23))) | M23: =IFERROR(IF((F23+G23+H23+I23+J23+K23)=0,IF(C23+D23+E23=0,"",1),(C23+D23+E23)/(C23+D23+F23+G23+H23+I23+J23+K23)),"")
B24: 13. | E24: =IF(L24="","",MIN(N(I24),(L24*10%))) | L24: =IF(SUM(C24:D24,F24:K24)=0,"",(SUM(C24:D24,F24:K24))) | M24: =IFERROR(IF((F24+G24+H24+I24+J24+K24)=0,IF(C24+D24+E24=0,"",1),(C24+D24+E24)/(C24+D24+F24+G24+H24+I24+J24+K24)),"")
B25: 14. | E25: =IF(L25="","",MIN(N(I25),(L25*10%))) | L25: =IF(SUM(C25:D25,F25:K25)=0,"",(SUM(C25:D25,F25:K25))) | M25: =IFERROR(IF((F25+G25+H25+I25+J25+K25)=0,IF(C25+D25+E25=0,"",1),(C25+D25+E25)/(C25+D25+F25+G25+H25+I25+J25+K25)),"")
B26: 15. | E26: =IF(L26="","",MIN(N(I26),(L26*10%))) | L26: =IF(SUM(C26:D26,F26:K26)=0,"",(SUM(C26:D26,F26:K26))) | M26: =IFERROR(IF((F26+G26+H26+I26+J26+K26)=0,IF(C26+D26+E26=0,"",1),(C26+D26+E26)/(C26+D26+F26+G26+H26+I26+J26+K26)),"")
B27: 16. | E27: =IF(L27="","",MIN(N(I27),(L27*10%))) | L27: =IF(SUM(C27:D27,F27:K27)=0,"",(SUM(C27:D27,F27:K27))) | M27: =IFERROR(IF((F27+G27+H27+I27+J27+K27)=0,IF(C27+D27+E27=0,"",1),(C27+D27+E27)/(C27+D27+F27+G27+H27+I27+J27+K27)),"")
B28: 17. | E28: =IF(L28="","",MIN(N(I28),(L28*10%))) | L28: =IF(SUM(C28:D28,F28:K28)=0,"",(SUM(C28:D28,F28:K28))) | M28: =IFERROR(IF((F28+G28+H28+I28+J28+K28)=0,IF(C28+D28+E28=0,"",1),(C28+D28+E28)/(C28+D28+F28+G28+H28+I28+J28+K28)),"")
B29: 18. | E29: =IF(L29="","",MIN(N(I29),(L29*10%))) | L29: =IF(SUM(C29:D29,F29:K29)=0,"",(SUM(C29:D29,F29:K29))) | M29: =IFERROR(IF((F29+G29+H29+I29+J29+K29)=0,IF(C29+D29+E29=0,"",1),(C29+D29+E29)/(C29+D29+F29+G29+H29+I29+J29+K29)),"")
B30: 19. | E30: =IF(L30="","",MIN(N(I30),(L30*10%))) | L30: =IF(SUM(C30:D30,F30:K30)=0,"",(SUM(C30:D30,F30:K30))) | M30: =IFERROR(IF((F30+G30+H30+I30+J30+K30)=0,IF(C30+D30+E30=0,"",1),(C30+D30+E30)/(C30+D30+F30+G30+H30+I30+J30+K30)),"")
B31: 20. | E31: =IF(L31="","",MIN(N(I31),(L31*10%))) | L31: =IF(SUM(C31:D31,F31:K31)=0,"",(SUM(C31:D31,F31:K31))) | M31: =IFERROR(IF((F31+G31+H31+I31+J31+K31)=0,IF(C31+D31+E31=0,"",1),(C31+D31+E31)/(C31+D31+F31+G31+H31+I31+J31+K31)),"")
... B38: 27. | E38: =IF(L38="","",MIN(N(I38),(L38*10%))) | L38: =IF(SUM(C38:D38,F38:K38)=0,"",(SUM(C38:D38,F38:K38))) | M38: =IFERROR(IF((F38+G38+H38+I38+J38+K38)=0,IF(C38+D38+E38=0,"",1),(C38+D38+E38)/(C38+D38+F38+G38+H38+I38+J38+K38)),"")
B39: 28. | E39: =IF(L39="","",MIN(N(I39),(L39*10%))) | L39: =IF(SUM(C39:D39,F39:K39)=0,"",(SUM(C39:D39,F39:K39))) | M39: =IFERROR(IF((F39+G39+H39+I39+J39+K39)=0,IF(C39+D39+E39=0,"",1),(C39+D39+E39)/(C39+D39+F39+G39+H39+I39+J39+K39)),"") | O39: Zählerstand Monatsende
B40: 29. | E40: =IF(L40="","",MIN(N(I40),(L40*10%))) | L40: =IF(SUM(C40:D40,F40:K40)=0,"",(SUM(C40:D40,F40:K40))) | M40: =IFERROR(IF((F40+G40+H40+I40+J40+K40)=0,IF(C40+D40+E40=0,"",1),(C40+D40+E40)/(C40+D40+F40+G40+H40+I40+J40+K40)),"")
B41: 30. | E41: =IF(L41="","",MIN(N(I41),(L41*10%))) | L41: =IF(SUM(C41:D41,F41:K41)=0,"",(SUM(C41:D41,F41:K41))) | M41: =IFERROR(IF((F41+G41+H41+I41+J41+K41)=0,IF(C41+D41+E41=0,"",1),(C41+D41+E41)/(C41+D41+F41+G41+H41+I41+J41+K41)),"") | O41: 389800
