Workbook

Sheet Januar
N1: © NQ-Anlagentechnik GmbH | S1: ◄Einsatzstofftagebuch bitte täglich ausfüllen
S3: Zusätzlich evtl. tägliche handschriftliche Aufzeichnungen aubewahren, unabhängig von der äußeren Form! (z.B. eigene Listen, Kalender, Notitzblock, Strichlisten...)
B4: entspricht § 27 EEG Abs.4 Nr. 2 (Anlage 2 I.1.b)
B5: Name: | C5: Mustermann
B6: Firma: | C6: Musterfirma
B7: Jahr und Aufzeichnungsmonat: | G7: 2026 | H7: Januar | N7: 80% Gülle & Mist / 20% NawaRo
C9: Gülle & Mist | F9: + NawaRo | L9: = Gesamt
C10: Gülle | D10: Mist | E10: Kleegras (anteilig) | F10: Maissilage | G10: Grassilage | H10: GPS | I10: Kleegras | J10: … | K10: … | L10: Einbringmenge gesamt | M10: Masse-% Gülle & Mist | N10: kW/h el. | O10: kW/h el. | S10: ◄Die Beschriftung der Felder mit ... können verändert werden, falls andere Substrate wie zum Beispiel Kleegras eingesetzt werden! Zelle wählen + neuen Text eingeben
B11: Datum | C11: Tonnen pro Tag | D11: Tonnen pro Tag | E11: Tonnen pro Tag | F11: Tonnen pro Tag | G11: Tonnen pro Tag | H11: Tonnen pro Tag | I11: Tonnen pro Tag | J11: Tonnen pro Tag | K11: Tonnen pro Tag | L11: Tonnen pro Tag | M11: % pro Tag | N11: Zählerstand täglich | O11: Zählerstand Monatsanfang
B12: 1. | C12: 15 | D12: 20 | E12: =IF(L12="","",MIN(N(I12),(L12*10%))) -> 1 | F12: 1 | G12: 1 | H12: 1 | I12: 1 | J12: 1 | K12: 1 | L12: =IF(SUM(C12:D12,F12:K12)=0,"",(SUM(C12:D12,F12:K12))) -> 41 | M12: =IFERROR(IF((F12+G12+H12+I12+J12+K12)=0,IF(C12+D12+E12=0,"",1),(C12+D12+E12)/(C12+D12+F12+G12+H12+I12+J12+K12)),"") -> 0.87804878 | N12: 1000
B13: 2. | C13: 1 | D13: 2 | E13: =IF(L13="","",MIN(N(I13),(L13*10%))) -> 1.3 | F13: 1 | G13: 1 | H13: 1 | I13: 5 | J13: 1 | K13: 1 | L13: =IF(SUM(C13:D13,F13:K13)=0,"",(SUM(C13:D13,F13:K13))) -> 13 | M13: =IFERROR(IF((F13+G13+H13+I13+J13+K13)=0,IF(C13+D13+E13=0,"",1),(C13+D13+E13)/(C13+D13+F13+G13+H13+I13+J13+K13)),"") -> 0.33076923 | N13: 2800 | O13: 1000 | S13: ◄Herkunftsnachweise im Tabellenblatt „Nachweisbuch“
B14: 3. | E14: =IF(L14="","",MIN(N(I14),(L14*10%))) | L14: =IF(SUM(C14:D14,F14:K14)=0,"",(SUM(C14:D14,F14:K14))) | M14: =IFERROR(IF((F14+G14+H14+I14+J14+K14)=0,IF(C14+D14+E14=0,"",1),(C14+D14+E14)/(C14+D14+F14+G14+H14+I14+J14+K14)),"")
B15: 4. | E15: =IF(L15="","",MIN(N(I15),(L15*10%))) | L15: =IF(SUM(C15:D15,F15:K15)=0,"",(SUM(C15:D15,F15:K15))) | M15: =IFERROR(IF((F15+G15+H15+I15+J15+K15)=0,IF(C15+D15+E15=0,"",1),(C15+D15+E15)/(C15+D15+F15+G15+H15+I15+J15+K15)),"")
B16: 5. | E16: =IF(L16="","",MIN(N(I16),(L16*10%))) | L16: =IF(SUM(C16:D16,F16:K16)=0,"",(SUM(C16:D16,F16:K16))) | M16: =IFERROR(IF((F16+G16+H16+I16+J16+K16)=0,IF(C16+D16+E16=0,"",1),(C16+D16+E16)/(C16+D16+F16+G16+H16+I16+J16+K16)),"") | S16: ◄Kleegras-Anrechnung: max. 10% der Gesamteinbringmenge auf Gülle-/Mist-Anteil(Masse-%)
B17: 6. | E17: =IF(L17="","",MIN(N(I17),(L17*10%))) | L17: =IF(SUM(C17:D17,F17:K17)=0,"",(SUM(C17:D17,F17:K17))) | M17: =IFERROR(IF((F17+G17+H17+I17+J17+K17)=0,IF(C17+D17+E17=0,"",1),(C17+D17+E17)/(C17+D17+F17+G17+H17+I17+J17+K17)),"")
B18: 7. | E18: =IF(L18="","",MIN(N(I18),(L18*10%))) | L18: =IF(SUM(C18:D18,F18:K18)=0,"",(SUM(C18:D18,F18:K18))) | M18: =IFERROR(IF((F18+G18+H18+I18+J18+K18)=0,IF(C18+D18+E18=0,"",1),(C18+D18+E18)/(C18+D18+F18+G18+H18+I18+J18+K18)),"")
B19: 8. | E19: =IF(L19="","",MIN(N(I19),(L19*10%))) | L19: =IF(SUM(C19:D19,F19:K19)=0,"",(SUM(C19:D19,F19:K19))) | M19: =IFERROR(IF((F19+G19+H19+I19+J19+K19)=0,IF(C19+D19+E19=0,"",1),(C19+D19+E19)/(C19+D19+F19+G19+H19+I19+J19+K19)),"") | S19: ◄Zählerstände sind je nach Netzbetreiber entweder täglich oder monatlich festzuhalten
B20: 9. | E20: =IF(L20="","",MIN(N(I20),(L20*10%))) | L20: =IF(SUM(C20:D20,F20:K20)=0,"",(SUM(C20:D20,F20:K20))) | M20: =IFERROR(IF((F20+G20+H20+I20+J20+K20)=0,IF(C20+D20+E20=0,"",1),(C20+D20+E20)/(C20+D20+F20+G20+H20+I20+J20+K20)),"")
B21: 10. | E21: =IF(L21="","",MIN(N(I21),(L21*10%))) | L21: =IF(SUM(C21:D21,F21:K21)=0,"",(SUM(C21:D21,F21:K21))) | M21: =IFERROR(IF((F21+G21+H21+I21+J21+K21)=0,IF(C21+D21+E21=0,"",1),(C21+D21+E21)/(C21+D21+F21+G21+H21+I21+J21+K21)),"")
B22: 11. | E22: =IF(L22="","",MIN(N(I22),(L22*10%))) | L22: =IF(SUM(C22:D22,F22:K22)=0,"",(SUM(C22:D22,F22:K22))) | M22: =IFERROR(IF((F22+G22+H22+I22+J22+K22)=0,IF(C22+D22+E22=0,"",1),(C22+D22+E22)/(C22+D22+F22+G22+H22+I22+J22+K22)),"")
B23: 12. | E23: =IF(L23="","",MIN(N(I23),(L23*10%))) | L23: =IF(SUM(C23:D23,F23:K23)=0,"",(SUM(C23:D23,F23:K23))) | M23: =IFERROR(IF((F23+G23+H23+I23+J23+K23)=0,IF(C23+D23+E23=0,"",1),(C23+D23+E23)/(C23+D23+F23+G23+H23+I23+J23+K23)),"")
B24: 13. | E24: =IF(L24="","",MIN(N(I24),(L24*10%))) | L24: =IF(SUM(C24:D24,F24:K24)=0,"",(SUM(C24:D24,F24:K24))) | M24: =IFERROR(IF((F24+G24+H24+I24+J24+K24)=0,IF(C24+D24+E24=0,"",1),(C24+D24+E24)/(C24+D24+F24+G24+H24+I24+J24+K24)),"")
B25: 14. | E25: =IF(L25="","",MIN(N(I25),(L25*10%))) | L25: =IF(SUM(C25:D25,F25:K25)=0,"",(SUM(C25:D25,F25:K25))) | M25: =IFERROR(IF((F25+G25+H25+I25+J25+K25)=0,IF(C25+D25+E25=0,"",1),(C25+D25+E25)/(C25+D25+F25+G25+H25+I25+J25+K25)),"")
B26: 15. | E26: =IF(L26="","",MIN(N(I26),(L26*10%))) | L26: =IF(SUM(C26:D26,F26:K26)=0,"",(SUM(C26:D26,F26:K26))) | M26: =IFERROR(IF((F26+G26+H26+I26+J26+K26)=0,IF(C26+D26+E26=0,"",1),(C26+D26+E26)/(C26+D26+F26+G26+H26+I26+J26+K26)),"")
B27: 16. | E27: =IF(L27="","",MIN(N(I27),(L27*10%))) | L27: =IF(SUM(C27:D27,F27:K27)=0,"",(SUM(C27:D27,F27:K27))) | M27: =IFERROR(IF((F27+G27+H27+I27+J27+K27)=0,IF(C27+D27+E27=0,"",1),(C27+D27+E27)/(C27+D27+F27+G27+H27+I27+J27+K27)),"")
B28: 17. | E28: =IF(L28="","",MIN(N(I28),(L28*10%))) | L28: =IF(SUM(C28:D28,F28:K28)=0,"",(SUM(C28:D28,F28:K28))) | M28: =IFERROR(IF((F28+G28+H28+I28+J28+K28)=0,IF(C28+D28+E28=0,"",1),(C28+D28+E28)/(C28+D28+F28+G28+H28+I28+J28+K28)),"")
B29: 18. | E29: =IF(L29="","",MIN(N(I29),(L29*10%))) | L29: =IF(SUM(C29:D29,F29:K29)=0,"",(SUM(C29:D29,F29:K29))) | M29: =IFERROR(IF((F29+G29+H29+I29+J29+K29)=0,IF(C29+D29+E29=0,"",1),(C29+D29+E29)/(C29+D29+F29+G29+H29+I29+J29+K29)),"")
B30: 19. | E30: =IF(L30="","",MIN(N(I30),(L30*10%))) | L30: =IF(SUM(C30:D30,F30:K30)=0,"",(SUM(C30:D30,F30:K30))) | M30: =IFERROR(IF((F30+G30+H30+I30+J30+K30)=0,IF(C30+D30+E30=0,"",1),(C30+D30+E30)/(C30+D30+F30+G30+H30+I30+J30+K30)),"")
B31: 20. | E31: =IF(L31="","",MIN(N(I31),(L31*10%))) | L31: =IF(SUM(C31:D31,F31:K31)=0,"",(SUM(C31:D31,F31:K31))) | M31: =IFERROR(IF((F31+G31+H31+I31+J31+K31)=0,IF(C31+D31+E31=0,"",1),(C31+D31+E31)/(C31+D31+F31+G31+H31+I31+J31+K31)),"")
... B38: 27. | E38: =IF(L38="","",MIN(N(I38),(L38*10%))) | L38: =IF(SUM(C38:D38,F38:K38)=0,"",(SUM(C38:D38,F38:K38))) | M38: =IFERROR(IF((F38+G38+H38+I38+J38+K38)=0,IF(C38+D38+E38=0,"",1),(C38+D38+E38)/(C38+D38+F38+G38+H38+I38+J38+K38)),"")
B39: 28. | E39: =IF(L39="","",MIN(N(I39),(L39*10%))) | L39: =IF(SUM(C39:D39,F39:K39)=0,"",(SUM(C39:D39,F39:K39))) | M39: =IFERROR(IF((F39+G39+H39+I39+J39+K39)=0,IF(C39+D39+E39=0,"",1),(C39+D39+E39)/(C39+D39+F39+G39+H39+I39+J39+K39)),"") | O39: Zählerstand Monatsende
B40: 29. | E40: =IF(L40="","",MIN(N(I40),(L40*10%))) | L40: =IF(SUM(C40:D40,F40:K40)=0,"",(SUM(C40:D40,F40:K40))) | M40: =IFERROR(IF((F40+G40+H40+I40+J40+K40)=0,IF(C40+D40+E40=0,"",1),(C40+D40+E40)/(C40+D40+F40+G40+H40+I40+J40+K40)),"")
B41: 30. | E41: =IF(L41="","",MIN(N(I41),(L41*10%))) | L41: =IF(SUM(C41:D41,F41:K41)=0,"",(SUM(C41:D41,F41:K41))) | M41: =IFERROR(IF((F41+G41+H41+I41+J41+K41)=0,IF(C41+D41+E41=0,"",1),(C41+D41+E41)/(C41+D41+F41+G41+H41+I41+J41+K41)),"") | O41: 55000
B42: 31. | E42: =IF(L42="","",MIN(N(I42),(L42*10%))) | L42: =IF(SUM(C42:D42,F42:K42)=0,"",(SUM(C42:D42,F42:K42))) | M42: =IFERROR(IF((F42+G42+H42+I42+J42+K42)=0,IF(C42+D42+E42=0,"",1),(C42+D42+E42)/(C42+D42+F42+G42+H42+I42+J42+K42)),"") | N42: 55000
B43: Summe | C43: =IF(SUM(C12:C42)=0,0,SUM(C12:C42)) -> 16 | D43: =IF(SUM(D12:D42)=0,0,SUM(D12:D42)) -> 22 | E43: =IF(SUM(E12:E42)=0,0,SUM(E12:E42)) -> 2.3 | F43: =IF(SUM(F12:F42)=0,0,SUM(F12:F42)) -> 2 | G43: =IF(SUM(G12:G42)=0,0,SUM(G12:G42)) -> 2 | H43: =IF(SUM(H12:H42)=0,0,SUM(H12:H42)) -> 2 | I43: =IF(SUM(I12:I42)=0,0,SUM(I12:I42)) -> 6 | J43: =IF(SUM(J12:J42)=0,0,SUM(J12:J42)) -> 2 | ... L43: =IF(SUM(L12:L42)=0,0,SUM(L12:L42)) -> 54 | M43: =IF((F43+G43+H43+I43+J43+K43)=0,IF(C43+D43=0,"",1),(C43+D43+E43)/(C43+D43+F43+G43+H43+I43+J43+K43)) -> 0.7462963 | N43: =IF(SUM(N42-N12,N12,N42)=0,"",SUM(N42-N12)) -> 54000 | O43: =IF(O41-O13=0,0,O41-O13) -> 54000
C44: Gülle + Mist ► | E44: =IF(SUM(C43:E43)=0,"",SUM(C43:E43)) -> 40.3 | J44: Summe Nawaro ► | K44: =IF(SUM(F43:K43)=0,"",SUM(F43:K43)) -> 16 | L44: ▲ Monatsdurchschnitt | N44: ▲ ▲ Produktion kW/h el.
B46: Hiermit bestätige ich, dass die Vorgaben des EEG und der Biomasseverordnung erfüllt und alle Einsatzstoffe vollständig und korrekt im Tagebuch eingetragen sind.
B47: Datum: | F47: Unterschrift:

Sheet Februar
N1: © NQ-Anlagentechnik GmbH | S1: ◄Einsatzstofftagebuch bitte täglich ausfüllen
S3: Zusätzlich evtl. tägliche handschriftliche Aufzeichnungen aubewahren, unabhängig von der äußeren Form! (z.B. eigene Listen, Kalender, Notitzblock, Strichlisten...)
B4: entspricht § 27 EEG Abs.4 Nr. 2 (Anlage 2 I.1.b)
B5: Name: | C5: Mustermann
B6: Firma: | C6: Musterfirma
B7: Jahr und Aufzeichnungsmonat: | G7: 2026 | H7: Februar | N7: 80% Gülle & Mist / 20% NawaRo
C9: Gülle & Mist | F9: + NawaRo | L9: = Gesamt
C10: Gülle | D10: Mist | E10: Kleegras (anteilig) | F10: Maissilage | G10: Grassilage | H10: GPS | I10: Kleegras | J10: … | K10: … | L10: Einbringmenge gesamt | M10: Masse-% Gülle & Mist | N10: kW/h el. | O10: kW/h el. | S10: ◄Die Beschriftung der Felder mit ... können verändert werden, falls andere Substrate wie zum Beispiel Kleegras eingesetzt werden! Zelle wählen + neuen Text eingeben
B11: Datum | C11: Tonnen pro Tag | D11: Tonnen pro Tag | E11: Tonnen pro Tag | F11: Tonnen pro Tag | G11: Tonnen pro Tag | H11: Tonnen pro Tag | I11: Tonnen pro Tag | J11: Tonnen pro Tag | K11: Tonnen pro Tag | L11: Tonnen pro Tag | M11: % pro Tag | N11: Zählerstand täglich | O11: Zählerstand Monatsanfang
B12: 1. | C12: 15 | D12: 20 | E12: =IF(L12="","",MIN(N(I12),(L12*10%))) -> 1 | F12: 1 | G12: 1 | H12: 1 | I12: 1 | J12: 1 | K12: 1 | L12: =IF(SUM(C12:D12,F12:K12)=0,"",(SUM(C12:D12,F12:K12))) -> 41 | M12: =IFERROR(IF((F12+G12+H12+I12+J12+K12)=0,IF(C12+D12+E12=0,"",1),(C12+D12+E12)/(C12+D12+F12+G12+H12+I12+J12+K12)),"") -> 0.87804878 | N12: 56800
B13: 2. | C13: 2 | D13: 3 | E13: =IF(L13="","",MIN(N(I13),(L13*10%))) -> 1.5 | F13: 1 | G13: 1 | H13: 1 | I13: 5 | J13: 1 | K13: 1 | L13: =IF(SUM(C13:D13,F13:K13)=0,"",(SUM(C13:D13,F13:K13))) -> 15 | M13: =IFERROR(IF((F13+G13+H13+I13+J13+K13)=0,IF(C13+D13+E13=0,"",1),(C13+D13+E13)/(C13+D13+F13+G13+H13+I13+J13+K13)),"") -> 0.43333333 | N13: 58600 | O13: 56800 | S13: ◄Herkunftsnachweise im Tabellenblatt „Nachweisbuch“
B14: 3. | E14: =IF(L14="","",MIN(N(I14),(L14*10%))) | L14: =IF(SUM(C14:D14,F14:K14)=0,"",(SUM(C14:D14,F14:K14))) | M14: =IFERROR(IF((F14+G14+H14+I14+J14+K14)=0,IF(C14+D14+E14=0,"",1),(C14+D14+E14)/(C14+D14+F14+G14+H14+I14+J14+K14)),"")
B15: 4. | E15: =IF(L15="","",MIN(N(I15),(L15*10%))) | L15: =IF(SUM(C15:D15,F15:K15)=0,"",(SUM(C15:D15,F15:K15))) | M15: =IFERROR(IF((F15+G15+H15+I15+J15+K15)=0,IF(C15+D15+E15=0,"",1),(C15+D15+E15)/(C15+D15+F15+G15+H15+I15+J15+K15)),"")
B16: 5. | E16: =IF(L16="","",MIN(N(I16),(L16*10%))) | L16: =IF(SUM(C16:D16,F16:K16)=0,"",(SUM(C16:D16,F16:K16))) | M16: =IFERROR(IF((F16+G16+H16+I16+J16+K16)=0,IF(C16+D16+E16=0,"",1),(C16+D16+E16)/(C16+D16+F16+G16+H16+I16+J16+K16)),"") | S16: ◄Kleegras-Anrechnung: max. 10% der Gesamteinbringmenge auf Gülle-/Mist-Anteil(Masse-%)
B17: 6. | E17: =IF(L17="","",MIN(N(I17),(L17*10%))) | L17: =IF(SUM(C17:D17,F17:K17)=0,"",(SUM(C17:D17,F17:K17))) | M17: =IFERROR(IF((F17+G17+H17+I17+J17+K17)=0,IF(C17+D17+E17=0,"",1),(C17+D17+E17)/(C17+D17+F17+G17+H17+I17+J17+K17)),"")
B18: 7. | E18: =IF(L18="","",MIN(N(I18),(L18*10%))) | L18: =IF(SUM(C18:D18,F18:K18)=0,"",(SUM(C18:D18,F18:K18))) | M18: =IFERROR(IF((F18+G18+H18+I18+J18+K18)=0,IF(C18+D18+E18=0,"",1),(C18+D18+E18)/(C18+D18+F18+G18+H18+I18+J18+K18)),"")
B19: 8. | E19: =IF(L19="","",MIN(N(I19),(L19*10%))) | L19: =IF(SUM(C19:D19,F19:K19)=0,"",(SUM(C19:D19,F19:K19))) | M19: =IFERROR(IF((F19+G19+H19+I19+J19+K19)=0,IF(C19+D19+E19=0,"",1),(C19+D19+E19)/(C19+D19+F19+G19+H19+I19+J19+K19)),"") | S19: ◄Zählerstände sind je nach Netzbetreiber entweder täglich oder monatlich festzuhalten
B20: 9. | E20: =IF(L20="","",MIN(N(I20),(L20*10%))) | L20: =IF(SUM(C20:D20,F20:K20)=0,"",(SUM(C20:D20,F20:K20))) | M20: =IFERROR(IF((F20+G20+H20+I20+J20+K20)=0,IF(C20+D20+E20=0,"",1),(C20+D20+E20)/(C20+D20+F20+G20+H20+I20+J20+K20)),"")
B21: 10. | E21: =IF(L21="","",MIN(N(I21),(L21*10%))) | L21: =IF(SUM(C21:D21,F21:K21)=0,"",(SUM(C21:D21,F21:K21))) | M21: =IFERROR(IF((F21+G21+H21+I21+J21+K21)=0,IF(C21+D21+E21=0,"",1),(C21+D21+E21)/(C21+D21+F21+G21+H21+I21+J21+K21)),"")
B22: 11. | E22: =IF(L22="","",MIN(N(I22),(L22*10%))) | L22: =IF(SUM(C22:D22,F22:K22)=0,"",(SUM(C22:D22,F22:K22))) | M22: =IFERROR(IF((F22+G22+H22+I22+J22+K22)=0,IF(C22+D22+E22=0,"",1),(C22+D22+E22)/(C22+D22+F22+G22+H22+I22+J22+K22)),"")
B23: 12. | E23: =IF(L23="","",MIN(N(I23),(L23*10%))) | L23: =IF(SUM(C23:D23,F23:K23)=0,"",(SUM(C23:D23,F23:K23))) | M23: =IFERROR(IF((F23+G23+H23+I23+J23+K23)=0,IF(C23+D23+E23=0,"",1),(C23+D23+E23)/(C23+D23+F23+G23+H23+I23+J23+K23)),"")
B24: 13. | E24: =IF(L24="","",MIN(N(I24),(L24*10%))) | L24: =IF(SUM(C24:D24,F24:K24)=0,"",(SUM(C24:D24,F24:K24))) | M24: =IFERROR(IF((F24+G24+H24+I24+J24+K24)=0,IF(C24+D24+E24=0,"",1),(C24+D24+E24)/(C24+D24+F24+G24+H24+I24+J24+K24)),"")
B25: 14. | E25: =IF(L25="","",MIN(N(I25),(L25*10%))) | L25: =IF(SUM(C25:D25,F25:K25)=0,"",(SUM(C25:D25,F25:K25))) | M25: =IFERROR(IF((F25+G25+H25+I25+J25+K25)=0,IF(C25+D25+E25=0,"",1),(C25+D25+E25)/(C25+D25+F25+G25+H25+I25+J25+K25)),"")
B26: 15. | E26: =IF(L26="","",MIN(N(I26),(L26*10%))) | L26: =IF(SUM(C26:D26,F26:K26)=0,"",(SUM(C26:D26,F26:K26))) | M26: =IFERROR(IF((F26+G26+H26+I26+J26+K26)=0,IF(C26+D26+E26=0,"",1),(C26+D26+E26)/(C26+D26+F26+G26+H26+I26+J26+K26)),"")
B27: 16. | E27: =IF(L27="","",MIN(N(I27),(L27*10%))) | L27: =IF(SUM(C27:D27,F27:K27)=0,"",(SUM(C27:D27,F27:K27))) | M27: =IFERROR(IF((F27+G27+H27+I27+J27+K27)=0,IF(C27+D27+E27=0,"",1),(C27+D27+E27)/(C27+D27+F27+G27+H27+I27+J27+K27)),"")
B28: 17. | E28: =IF(L28="","",MIN(N(I28),(L28*10%))) | L28: =IF(SUM(C28:D28,F28:K28)=0,"",(SUM(C28:D28,F28:K28))) | M28: =IFERROR(IF((F28+G28+H28+I28+J28+K28)=0,IF(C28+D28+E28=0,"",1),(C28+D28+E28)/(C28+D28+F28+G28+H28+I28+J28+K28)),"")
B29: 18. | E29: =IF(L29="","",MIN(N(I29),(L29*10%))) | L29: =IF(SUM(C29:D29,F29:K29)=0,"",(SUM(C29:D29,F29:K29))) | M29: =IFERROR(IF((F29+G29+H29+I29+J29+K29)=0,IF(C29+D29+E29=0,"",1),(C29+D29+E29)/(C29+D29+F29+G29+H29+I29+J29+K29)),"")
B30: 19. | E30: =IF(L30="","",MIN(N(I30),(L30*10%))) | L30: =IF(SUM(C30:D30,F30:K30)=0,"",(SUM(C30:D30,F30:K30))) | M30: =IFERROR(IF((F30+G30+H30+I30+J30+K30)=0,IF(C30+D30+E30=0,"",1),(C30+D30+E30)/(C30+D30+F30+G30+H30+I30+J30+K30)),"")
B31: 20. | E31: =IF(L31="","",MIN(N(I31),(L31*10%))) | L31: =IF(SUM(C31:D31,F31:K31)=0,"",(SUM(C31:D31,F31:K31))) | M31: =IFERROR(IF((F31+G31+H31+I31+J31+K31)=0,IF(C31+D31+E31=0,"",1),(C31+D31+E31)/(C31+D31+F31+G31+H31+I31+J31+K31)),"")
... B36: 25. | E36: =IF(L36="","",MIN(N(I36),(L36*10%))) | L36: =IF(SUM(C36:D36,F36:K36)=0,"",(SUM(C36:D36,F36:K36))) | M36: =IFERROR(IF((F36+G36+H36+I36+J36+K36)=0,IF(C36+D36+E36=0,"",1),(C36+D36+E36)/(C36+D36+F36+G36+H36+I36+J36+K36)),"")
B37: 26. | E37: =IF(L37="","",MIN(N(I37),(L37*10%))) | L37: =IF(SUM(C37:D37,F37:K37)=0,"",(SUM(C37:D37,F37:K37))) | M37: =IFERROR(IF((F37+G37+H37+I37+J37+K37)=0,IF(C37+D37+E37=0,"",1),(C37+D37+E37)/(C37+D37+F37+G37+H37+I37+J37+K37)),"") | O37: Zählerstand Monatsende
B38: 27. | E38: =IF(L38="","",MIN(N(I38),(L38*10%))) | L38: =IF(SUM(C38:D38,F38:K38)=0,"",(SUM(C38:D38,F38:K38))) | M38: =IFERROR(IF((F38+G38+H38+I38+J38+K38)=0,IF(C38+D38+E38=0,"",1),(C38+D38+E38)/(C38+D38+F38+G38+H38+I38+J38+K38)),"")
B39: 28. | E39: =IF(L39="","",MIN(N(I39),(L39*10%))) | L39: =IF(SUM(C39:D39,F39:K39)=0,"",(SUM(C39:D39,F39:K39))) | M39: =IFERROR(IF((F39+G39+H39+I39+J39+K39)=0,IF(C39+D39+E39=0,"",1),(C39+D39+E39)/(C39+D39+F39+G39+H39+I39+J39+K39)),"") | N39: 110800 | O39: 110800
B40: 29. | E40: =IF(L40="","",MIN(N(I40),(L40*10%))) | L40: =IF(SUM(C40:D40,F40:K40)=0,"",(SUM(C40:D40,F40:K40))) | M40: =IFERROR(IF((F40+G40+H40+I40+J40+K40)=0,IF(C40+D40+E40=0,"",1),(C40+D40+E40)/(C40+D40+F40+G40+H40+I40+J40+K40)),"")
B41: Summe | C41: =IF(SUM(C12:C40)=0,0,SUM(C12:C40)) -> 17 | D41: =IF(SUM(D12:D40)=0,0,SUM(D12:D40)) -> 23 | E41: =IF(SUM(E12:E40)=0,0,SUM(E12:E40)) -> 2.5 | F41: =IF(SUM(F12:F40)=0,0,SUM(F12:F40)) -> 2 | G41: =IF(SUM(G12:G40)=0,0,SUM(G12:G40)) -> 2 | H41: =IF(SUM(H12:H40)=0,0,SUM(H12:H40)) -> 2 | I41: =IF(SUM(I12:I40)=0,0,SUM(I12:I40)) -> 6 | J41: =IF(SUM(J12:J40)=0,0,SUM(J12:J40)) -> 2 | ... L41: =IF(SUM(L12:L40)=0,0,SUM(L12:L40)) -> 56 | M41: =IF((F41+G41+H41+I41+J41+K41)=0,IF(C41+D41=0,"",1),(C41+D41+E41)/(C41+D41+F41+G41+H41+I41+J41+K41)) -> 0.75892857 | N41: =IF(SUM(N39-N12,N12,N39)=0,"",SUM(N39-N12)) -> 54000 | O41: =IF(O39-O13=0,0,O39-O13) -> 54000
C42: Gülle + Mist ► | E42: =IF(SUM(C41:E41)=0,"",SUM(C41:E41)) -> 42.5 | J42: Summe Nawaro ► | K42: =IF(SUM(F41:K41)=0,"",SUM(F41:K41)) -> 16 | L42: ▲ Monatsdurchschnitt | N42: ▲ ▲ Produktion kW/h el.
B44: Hiermit bestätige ich, dass die Vorgaben des EEG und der Biomasseverordnung erfüllt und alle Einsatzstoffe vollständig und korrekt im Tagebuch eingetragen sind.
B45: Datum: | F45: Unterschrift:

Sheet März
N1: © NQ-Anlagentechnik GmbH | S1: ◄Einsatzstofftagebuch bitte täglich ausfüllen
S3: Zusätzlich evtl. tägliche handschriftliche Aufzeichnungen aubewahren, unabhängig von der äußeren Form! (z.B. eigene Listen, Kalender, Notitzblock, Strichlisten...)
B4: entspricht § 27 EEG Abs.4 Nr. 2 (Anlage 2 I.1.b)
B5: Name: | C5: Mustermann
B6: Firma: | C6: Musterfirma
B7: Jahr und Aufzeichnungsmonat: | G7: 2026 | H7: Närz | N7: 80% Gülle & Mist / 20% NawaRo
C9: Gülle & Mist | F9: + NawaRo | L9: = Gesamt
C10: Gülle | D10: Mist | E10: Kleegras (anteilig) | F10: Maissilage | G10: Grassilage | H10: GPS | I10: Kleegras | J10: … | K10: … | L10: Einbringmenge gesamt | M10: Masse-% Gülle & Mist | N10: kW/h el. | O10: kW/h el. | S10: ◄Die Beschriftung der Felder mit ... können verändert werden, falls andere Substrate wie zum Beispiel Kleegras eingesetzt werden! Zelle wählen + neuen Text eingeben
B11: Datum | C11: Tonnen pro Tag | D11: Tonnen pro Tag | E11: Tonnen pro Tag | F11: Tonnen pro Tag | G11: Tonnen pro Tag | H11: Tonnen pro Tag | I11: Tonnen pro Tag | J11: Tonnen pro Tag | K11: Tonnen pro Tag | L11: Tonnen pro Tag | M11: % pro Tag | N11: Zählerstand täglich | O11: Zählerstand Monatsanfang
B12: 1. | C12: 15 | D12: 20 | E12: =IF(L12="","",MIN(N(I12),(L12*10%))) -> 1 | F12: 1 | G12: 1 | H12: 1 | I12: 1 | J12: 1 | K12: 1 | L12: =IF(SUM(C12:D12,F12:K12)=0,"",(SUM(C12:D12,F12:K12))) -> 41 | M12: =IFERROR(IF((F12+G12+H12+I12+J12+K12)=0,IF(C12+D12+E12=0,"",1),(C12+D12+E12)/(C12+D12+F12+G12+H12+I12+J12+K12)),"") -> 0.87804878 | N12: 112600
B13: 2. | C13: 3 | D13: 4 | E13: =IF(L13="","",MIN(N(I13),(L13*10%))) -> 1.7 | F13: 1 | G13: 1 | H13: 1 | I13: 5 | J13: 1 | K13: 1 | L13: =IF(SUM(C13:D13,F13:K13)=0,"",(SUM(C13:D13,F13:K13))) -> 17 | M13: =IFERROR(IF((F13+G13+H13+I13+J13+K13)=0,IF(C13+D13+E13=0,"",1),(C13+D13+E13)/(C13+D13+F13+G13+H13+I13+J13+K13)),"") -> 0.51176471 | N13: 114400 | O13: 112600 | S13: ◄Herkunftsnachweise im Tabellenblatt „Nachweisbuch“
B14: 3. | E14: =IF(L14="","",MIN(N(I14),(L14*10%))) | L14: =IF(SUM(C14:D14,F14:K14)=0,"",(SUM(C14:D14,F14:K14))) | M14: =IFERROR(IF((F14+G14+H14+I14+J14+K14)=0,IF(C14+D14+E14=0,"",1),(C14+D14+E14)/(C14+D14+F14+G14+H14+I14+J14+K14)),"")
B15: 4. | E15: =IF(L15="","",MIN(N(I15),(L15*10%))) | L15: =IF(SUM(C15:D15,F15:K15)=0,"",(SUM(C15:D15,F15:K15))) | M15: =IFERROR(IF((F15+G15+H15+I15+J15+K15)=0,IF(C15+D15+E15=0,"",1),(C15+D15+E15)/(C15+D15+F15+G15+H15+I15+J15+K15)),"")
B16: 5. | E16: =IF(L16="","",MIN(N(I16),(L16*10%))) | L16: =IF(SUM(C16:D16,F16:K16)=0,"",(SUM(C16:D16,F16:K16))) | M16: =IFERROR(IF((F16+G16+H16+I16+J16+K16)=0,IF(C16+D16+E16=0,"",1),(C16+D16+E16)/(C16+D16+F16+G16+H16+I16+J16+K16)),"") | S16: ◄Kleegras-Anrechnung: max. 10% der Gesamteinbringmenge auf Gülle-/Mist-Anteil(Masse-%)
B17: 6. | E17: =IF(L17="","",MIN(N(I17),(L17*10%))) | L17: =IF(SUM(C17:D17,F17:K17)=0,"",(SUM(C17:D17,F17:K17))) | M17: =IFERROR(IF((F17+G17+H17+I17+J17+K17)=0,IF(C17+D17+E17=0,"",1),(C17+D17+E17)/(C17+D17+F17+G17+H17+I17+J17+K17)),"")
B18: 7. | E18: =IF(L18="","",MIN(N(I18),(L18*10%))) | L18: =IF(SUM(C18:D18,F18:K18)=0,"",(SUM(C18:D18,F18:K18))) | M18: =IFERROR(IF((F18+G18+H18+I18+J18+K18)=0,IF(C18+D18+E18=0,"",1),(C18+D18+E18)/(C18+D18+F18+G18+H18+I18+J18+K18)),"")
B19: 8. | E19: =IF(L19="","",MIN(N(I19),(L19*10%))) | L19: =IF(SUM(C19:D19,F19:K19)=0,"",(SUM(C19:D19,F19:K19))) | M19: =IFERROR(IF((F19+G19+H19+I19+J19+K19)=0,IF(C19+D19+E19=0,"",1),(C19+D19+E19)/(C19+D19+F19+G19+H19+I19+J19+K19)),"") | S19: ◄Zählerstände sind je nach Netzbetreiber entweder täglich oder monatlich festzuhalten
B20: 9. | E20: =IF(L20="","",MIN(N(I20),(L20*10%))) | L20: =IF(SUM(C20:D20,F20:K20)=0,"",(SUM(C20:D20,F20:K20))) | M20: =IFERROR(IF((F20+G20+H20+I20+J20+K20)=0,IF(C20+D20+E20=0,"",1),(C20+D20+E20)/(C20+D20+F20+G20+H20+I20+J20+K20)),"")
B21: 10. | E21: =IF(L21="","",MIN(N(I21),(L21*10%))) | L21: =IF(SUM(C21:D21,F21:K21)=0,"",(SUM(C21:D21,F21:K21))) | M21: =IFERROR(IF((F21+G21+H21+I21+J21+K21)=0,IF(C21+D21+E21=0,"",1),(C21+D21+E21)/(C21+D21+F21+G21+H21+I21+J21+K21)),"")
B22: 11. | E22: =IF(L22="","",MIN(N(I22),(L22*10%))) | L22: =IF(SUM(C22:D22,F22:K22)=0,"",(SUM(C22:D22,F22:K22))) | M22: =IFERROR(IF((F22+G22+H22+I22+J22+K22)=0,IF(C22+D22+E22=0,"",1),(C22+D22+E22)/(C22+D22+F22+G22+H22+I22+J22+K22)),"")
B23: 12. | E23: =IF(L23="","",MIN(N(I23),(L23*10%))) | L23: =IF(SUM(C23:D23,F23:K23)=0,"",(SUM(C23:D23,F23:K23))) | M23: =IFERROR(IF((F23+G23+H23+I23+J23+K23)=0,IF(C23+D23+E23=0,"",1),(C23+D23+E23)/(C23+D23+F23+G23+H23+I23+J23+K23)),"")
B24: 13. | E24: =IF(L24="","",MIN(N(I24),(L24*10%))) | L24: =IF(SUM(C24:D24,F24:K24)=0,"",(SUM(C24:D24,F24:K24))) | M24: =IFERROR(IF((F24+G24+H24+I24+J24+K24)=0,IF(C24+D24+E24=0,"",1),(C24+D24+E24)/(C24+D24+F24+G24+H24+I24+J24+K24)),"")
B25: 14. | E25: =IF(L25="","",MIN(N(I25),(L25*10%))) | L25: =IF(SUM(C25:D25,F25:K25)=0,"",(SUM(C25:D25,F25:K25))) | M25: =IFERROR(IF((F25+G25+H25+I25+J25+K25)=0,IF(C25+D25+E25=0,"",1),(C25+D25+E25)/(C25+D25+F25+G25+H25+I25+J25+K25)),"")
B26: 15. | E26: =IF(L26="","",MIN(N(I26),(L26*10%))) | L26: =IF(SUM(C26:D26,F26:K26)=0,"",(SUM(C26:D26,F26:K26))) | M26: =IFERROR(IF((F26+G26+H26+I26+J26+K26)=0,IF(C26+D26+E26=0,"",1),(C26+D26+E26)/(C26+D26+F26+G26+H26+I26+J26+K26)),"")
B27: 16. | E27: =IF(L27="","",MIN(N(I27),(L27*10%))) | L27: =IF(SUM(C27:D27,F27:K27)=0,"",(SUM(C27:D27,F27:K27))) | M27: =IFERROR(IF((F27+G27+H27+I27+J27+K27)=0,IF(C27+D27+E27=0,"",1),(C27+D27+E27)/(C27+D27+F27+G27+H27+I27+J27+K27)),"")
B28: 17. | E28: =IF(L28="","",MIN(N(I28),(L28*10%))) | L28: =IF(SUM(C28:D28,F28:K28)=0,"",(SUM(C28:D28,F28:K28))) | M28: =IFERROR(IF((F28+G28+H28+I28+J28+K28)=0,IF(C28+D28+E28=0,"",1),(C28+D28+E28)/(C28+D28+F28+G28+H28+I28+J28+K28)),"")
B29: 18. | E29: =IF(L29="","",MIN(N(I29),(L29*10%))) | L29: =IF(SUM(C29:D29,F29:K29)=0,"",(SUM(C29:D29,F29:K29))) | M29: =IFERROR(IF((F29+G29+H29+I29+J29+K29)=0,IF(C29+D29+E29=0,"",1),(C29+D29+E29)/(C29+D29+F29+G29+H29+I29+J29+K29)),"")
B30: 19. | E30: =IF(L30="","",MIN(N(I30),(L30*10%))) | L30: =IF(SUM(C30:D30,F30:K30)=0,"",(SUM(C30:D30,F30:K30))) | M30: =IFERROR(IF((F30+G30+H30+I30+J30+K30)=0,IF(C30+D30+E30=0,"",1),(C30+D30+E30)/(C30+D30+F30+G30+H30+I30+J30+K30)),"")
B31: 20. | E31: =IF(L31="","",MIN(N(I31),(L31*10%))) | L31: =IF(SUM(C31:D31,F31:K31)=0,"",(SUM(C31:D31,F31:K31))) | M31: =IFERROR(IF((F31+G31+H31+I31+J31+K31)=0,IF(C31+D31+E31=0,"",1),(C31+D31+E31)/(C31+D31+F31+G31+H31+I31+J31+K31)),"")
... B38: 27. | E38: =IF(L38="","",MIN(N(I38),(L38*10%))) | L38: =IF(SUM(C38:D38,F38:K38)=0,"",(SUM(C38:D38,F38:K38))) | M38: =IFERROR(IF((F38+G38+H38+I38+J38+K38)=0,IF(C38+D38+E38=0,"",1),(C38+D38+E38)/(C38+D38+F38+G38+H38+I38+J38+K38)),"")
B39: 28. | E39: =IF(L39="","",MIN(N(I39),(L39*10%))) | L39: =IF(SUM(C39:D39,F39:K39)=0,"",(SUM(C39:D39,F39:K39))) | M39: =IFERROR(IF((F39+G39+H39+I39+J39+K39)=0,IF(C39+D39+E39=0,"",1),(C39+D39+E39)/(C39+D39+F39+G39+H39+I39+J39+K39)),"") | O39: Zählerstand Monatsende
B40: 29. | E40: =IF(L40="","",MIN(N(I40),(L40*10%))) | L40: =IF(SUM(C40:D40,F40:K40)=0,"",(SUM(C40:D40,F40:K40))) | M40: =IFERROR(IF((F40+G40+H40+I40+J40+K40)=0,IF(C40+D40+E40=0,"",1),(C40+D40+E40)/(C40+D40+F40+G40+H40+I40+J40+K40)),"")
B41: 30. | E41: =IF(L41="","",MIN(N(I41),(L41*10%))) | L41: =IF(SUM(C41:D41,F41:K41)=0,"",(SUM(C41:D41,F41:K41))) | M41: =IFERROR(IF((F41+G41+H41+I41+J41+K41)=0,IF(C41+D41+E41=0,"",1),(C41+D41+E41)/(C41+D41+F41+G41+H41+I41+J41+K41)),"") | O41: 166600
B42: 31. | E42: =IF(L42="","",MIN(N(I42),(L42*10%))) | L42: =IF(SUM(C42:D42,F42:K42)=0,"",(SUM(C42:D42,F42:K42))) | M42: =IFERROR(IF((F42+G42+H42+I42+J42+K42)=0,IF(C42+D42+E42=0,"",1),(C42+D42+E42)/(C42+D42+F42+G42+H42+I42+J42+K42)),"") | N42: 166600
B43: Summe | C43: =IF(SUM(C12:C42)=0,0,SUM(C12:C42)) -> 18 | D43: =IF(SUM(D12:D42)=0,0,SUM(D12:D42)) -> 24 | E43: =IF(SUM(E12:E42)=0,0,SUM(E12:E42)) -> 2.7 | F43: =IF(SUM(F12:F42)=0,0,SUM(F12:F42)) -> 2 | G43: =IF(SUM(G12:G42)=0,0,SUM(G12:G42)) -> 2 | H43: =IF(SUM(H12:H42)=0,0,SUM(H12:H42)) -> 2 | I43: =IF(SUM(I12:I42)=0,0,SUM(I12:I42)) -> 6 | J43: =IF(SUM(J12:J42)=0,0,SUM(J12:J42)) -> 2 | ... L43: =IF(SUM(L12:L42)=0,0,SUM(L12:L42)) -> 58 | M43: =IF((F43+G43+H43+I43+J43+K43)=0,IF(C43+D43=0,"",1),(C43+D43+E43)/(C43+D43+F43+G43+H43+I43+J43+K43)) -> 0.77068966 | N43: =IF(SUM(N42-N12,N12,N42)=0,"",SUM(N42-N12)) -> 54000 | O43: =IF(O41-O13=0,0,O41-O13) -> 54000
C44: Gülle + Mist ► | E44: =IF(SUM(C43:E43)=0,"",SUM(C43:E43)) -> 44.7 | J44: Summe Nawaro ► | K44: =IF(SUM(F43:K43)=0,"",SUM(F43:K43)) -> 16 | L44: ▲ Monatsdurchschnitt | N44: ▲ ▲ Produktion kW/h el.
B46: Hiermit bestätige ich, dass die Vorgaben des EEG und der Biomasseverordnung erfüllt und alle Einsatzstoffe vollständig und korrekt im Tagebuch eingetragen sind.
B47: Datum: | F47: Unterschrift:

Sheet April
N1: © NQ-Anlagentechnik GmbH | S1: ◄Einsatzstofftagebuch bitte täglich ausfüllen
S3: Zusätzlich evtl. tägliche handschriftliche Aufzeichnungen aubewahren, unabhängig von der äußeren Form! (z.B. eigene Listen, Kalender, Notitzblock, Strichlisten...)
B4: entspricht § 27 EEG Abs.4 Nr. 2 (Anlage 2 I.1.b)
B5: Name: | C5: Mustermann
B6: Firma: | C6: Musterfirma
B7: Jahr und Aufzeichnungsmonat: | G7: 2026 | H7: April | N7: 80% Gülle & Mist / 20% NawaRo
C9: Gülle & Mist | F9: + NawaRo | L9: = Gesamt
C10: Gülle | D10: Mist | E10: Kleegras (anteilig) | F10: Maissilage | G10: Grassilage | H10: GPS | I10: Kleegras | J10: … | K10: … | L10: Einbringmenge gesamt | M10: Masse-% Gülle & Mist | N10: kW/h el. | O10: kW/h el. | S10: ◄Die Beschriftung der Felder mit ... können verändert werden, falls andere Substrate wie zum Beispiel Kleegras eingesetzt werden! Zelle wählen + neuen Text eingeben
B11: Datum | C11: Tonnen pro Tag | D11: Tonnen pro Tag | E11: Tonnen pro Tag | F11: Tonnen pro Tag | G11: Tonnen pro Tag | H11: Tonnen pro Tag | I11: Tonnen pro Tag | J11: Tonnen pro Tag | K11: Tonnen pro Tag | L11: Tonnen pro Tag | M11: % pro Tag | N11: Zählerstand täglich | O11: Zählerstand Monatsanfang
B12: 1. | C12: 15 | D12: 20 | E12: =IF(L12="","",MIN(N(I12),(L12*10%))) -> 1 | F12: 1 | G12: 1 | H12: 1 | I12: 1 | J12: 1 | K12: 1 | L12: =IF(SUM(C12:D12,F12:K12)=0,"",(SUM(C12:D12,F12:K12))) -> 41 | M12: =IFERROR(IF((F12+G12+H12+I12+J12+K12)=0,IF(C12+D12+E12=0,"",1),(C12+D12+E12)/(C12+D12+F12+G12+H12+I12+J12+K12)),"") -> 0.87804878 | N12: 168400
B13: 2. | C13: 4 | D13: 5 | E13: =IF(L13="","",MIN(N(I13),(L13*10%))) -> 1.9 | F13: 1 | G13: 1 | H13: 1 | I13: 5 | J13: 1 | K13: 1 | L13: =IF(SUM(C13:D13,F13:K13)=0,"",(SUM(C13:D13,F13:K13))) -> 19 | M13: =IFERROR(IF((F13+G13+H13+I13+J13+K13)=0,IF(C13+D13+E13=0,"",1),(C13+D13+E13)/(C13+D13+F13+G13+H13+I13+J13+K13)),"") -> 0.57368421 | N13: 170200 | O13: 168400 | S13: ◄Herkunftsnachweise im Tabellenblatt „Nachweisbuch“
B14: 3. | E14: =IF(L14="","",MIN(N(I14),(L14*10%))) | L14: =IF(SUM(C14:D14,F14:K14)=0,"",(SUM(C14:D14,F14:K14))) | M14: =IFERROR(IF((F14+G14+H14+I14+J14+K14)=0,IF(C14+D14+E14=0,"",1),(C14+D14+E14)/(C14+D14+F14+G14+H14+I14+J14+K14)),"")
B15: 4. | E15: =IF(L15="","",MIN(N(I15),(L15*10%))) | L15: =IF(SUM(C15:D15,F15:K15)=0,"",(SUM(C15:D15,F15:K15))) | M15: =IFERROR(IF((F15+G15+H15+I15+J15+K15)=0,IF(C15+D15+E15=0,"",1),(C15+D15+E15)/(C15+D15+F15+G15+H15+I15+J15+K15)),"")
B16: 5. | E16: =IF(L16="","",MIN(N(I16),(L16*10%))) | L16: =IF(SUM(C16:D16,F16:K16)=0,"",(SUM(C16:D16,F16:K16))) | M16: =IFERROR(IF((F16+G16+H16+I16+J16+K16)=0,IF(C16+D16+E16=0,"",1),(C16+D16+E16)/(C16+D16+F16+G16+H16+I16+J16+K16)),"") | S16: ◄Kleegras-Anrechnung: max. 10% der Gesamteinbringmenge auf Gülle-/Mist-Anteil(Masse-%)
B17: 6. | E17: =IF(L17="","",MIN(N(I17),(L17*10%))) | L17: =IF(SUM(C17:D17,F17:K17)=0,"",(SUM(C17:D17,F17:K17))) | M17: =IFERROR(IF((F17+G17+H17+I17+J17+K17)=0,IF(C17+D17+E17=0,"",1),(C17+D17+E17)/(C17+D17+F17+G17+H17+I17+J17+K17)),"")
B18: 7. | E18: =IF(L18="","",MIN(N(I18),(L18*10%))) | L18: =IF(SUM(C18:D18,F18:K18)=0,"",(SUM(C18:D18,F18:K18))) | M18: =IFERROR(IF((F18+G18+H18+I18+J18+K18)=0,IF(C18+D18+E18=0,"",1),(C18+D18+E18)/(C18+D18+F18+G18+H18+I18+J18+K18)),"")
B19: 8. | E19: =IF(L19="","",MIN(N(I19),(L19*10%))) | L19: =IF(SUM(C19:D19,F19:K19)=0,"",(SUM(C19:D19,F19:K19))) | M19: =IFERROR(IF((F19+G19+H19+I19+J19+K19)=0,IF(C19+D19+E19=0,"",1),(C19+D19+E19)/(C19+D19+F19+G19+H19+I19+J19+K19)),"") | S19: ◄Zählerstände sind je nach Netzbetreiber entweder täglich oder monatlich festzuhalten
B20: 9. | E20: =IF(L20="","",MIN(N(I20),(L20*10%))) | L20: =IF(SUM(C20:D20,F20:K20)=0,"",(SUM(C20:D20,F20:K20))) | M20: =IFERROR(IF((F20+G20+H20+I20+J20+K20)=0,IF(C20+D20+E20=0,"",1),(C20+D20+E20)/(C20+D20+F20+G20+H20+I20+J20+K20)),"")
B21: 10. | E21: =IF(L21="","",MIN(N(I21),(L21*10%))) | L21: =IF(SUM(C21:D21,F21:K21)=0,"",(SUM(C21:D21,F21:K21))) | M21: =IFERROR(IF((F21+G21+H21+I21+J21+K21)=0,IF(C21+D21+E21=0,"",1),(C21+D21+E21)/(C21+D21+F21+G21+H21+I21+J21+K21)),"")
B22: 11. | E22: =IF(L22="","",MIN(N(I22),(L22*10%))) | L22: =IF(SUM(C22:D22,F22:K22)=0,"",(SUM(C22:D22,F22:K22))) | M22: =IFERROR(IF((F22+G22+H22+I22+J22+K22)=0,IF(C22+D22+E22=0,"",1),(C22+D22+E22)/(C22+D22+F22+G22+H22+I22+J22+K22)),"")
B23: 12. | E23: =IF(L23="","",MIN(N(I23),(L23*10%))) | L23: =IF(SUM(C23:D23,F23:K23)=0,"",(SUM(C23:D23,F23:K23))) | M23: =IFERROR(IF((F23+G23+H23+I23+J23+K23)=0,IF(C23+D23+E23=0,"",1),(C23+D23+E23)/(C23+D23+F23+G23+H23+I23+J23+K23)),"")
B24: 13. | E24: =IF(L24="","",MIN(N(I24),(L24*10%))) | L24: =IF(SUM(C24:D24,F24:K24)=0,"",(SUM(C24:D24,F24:K24))) | M24: =IFERROR(IF((F24+G24+H24+I24+J24+K24)=0,IF(C24+D24+E24=0,"",1),(C24+D24+E24)/(C24+D24+F24+G24+H24+I24+J24+K24)),"")
B25: 14. | E25: =IF(L25="","",MIN(N(I25),(L25*10%))) | L25: =IF(SUM(C25:D25,F25:K25)=0,"",(SUM(C25:D25,F25:K25))) | M25: =IFERROR(IF((F25+G25+H25+I25+J25+K25)=0,IF(C25+D25+E25=0,"",1),(C25+D25+E25)/(C25+D25+F25+G25+H25+I25+J25+K25)),"")
B26: 15. | E26: =IF(L26="","",MIN(N(I26),(L26*10%))) | L26: =IF(SUM(C26:D26,F26:K26)=0,"",(SUM(C26:D26,F26:K26))) | M26: =IFERROR(IF((F26+G26+H26+I26+J26+K26)=0,IF(C26+D26+E26=0,"",1),(C26+D26+E26)/(C26+D26+F26+G26+H26+I26+J26+K26)),"")
B27: 16. | E27: =IF(L27="","",MIN(N(I27),(L27*10%))) | L27: =IF(SUM(C27:D27,F27:K27)=0,"",(SUM(C27:D27,F27:K27))) | M27: =IFERROR(IF((F27+G27+H27+I27+J27+K27)=0,IF(C27+D27+E27=0,"",1),(C27+D27+E27)/(C27+D27+F27+G27+H27+I27+J27+K27)),"")
B28: 17. | E28: =IF(L28="","",MIN(N(I28),(L28*10%))) | L28: =IF(SUM(C28:D28,F28:K28)=0,"",(SUM(C28:D28,F28:K28))) | M28: =IFERROR(IF((F28+G28+H28+I28+J28+K28)=0,IF(C28+D28+E28=0,"",1),(C28+D28+E28)/(C28+D28+F28+G28+H28+I28+J28+K28)),"")
B29: 18. | E29: =IF(L29="","",MIN(N(I29),(L29*10%))) | L29: =IF(SUM(C29:D29,F29:K29)=0,"",(SUM(C29:D29,F29:K29))) | M29: =IFERROR(IF((F29+G29+H29+I29+J29+K29)=0,IF(C29+D29+E29=0,"",1),(C29+D29+E29)/(C29+D29+F29+G29+H29+I29+J29+K29)),"")
B30: 19. | E30: =IF(L30="","",MIN(N(I30),(L30*10%))) | L30: =IF(SUM(C30:D30,F30:K30)=0,"",(SUM(C30:D30,F30:K30))) | M30: =IFERROR(IF((F30+G30+H30+I30+J30+K30)=0,IF(C30+D30+E30=0,"",1),(C30+D30+E30)/(C30+D30+F30+G30+H30+I30+J30+K30)),"")
B31: 20. | E31: =IF(L31="","",MIN(N(I31),(L31*10%))) | L31: =IF(SUM(C31:D31,F31:K31)=0,"",(SUM(C31:D31,F31:K31))) | M31: =IFERROR(IF((F31+G31+H31+I31+J31+K31)=0,IF(C31+D31+E31=0,"",1),(C31+D31+E31)/(C31+D31+F31+G31+H31+I31+J31+K31)),"")
... B37: 26. | E37: =IF(L37="","",MIN(N(I37),(L37*10%))) | L37: =IF(SUM(C37:D37,F37:K37)=0,"",(SUM(C37:D37,F37:K37))) | M37: =IFERROR(IF((F37+G37+H37+I37+J37+K37)=0,IF(C37+D37+E37=0,"",1),(C37+D37+E37)/(C37+D37+F37+G37+H37+I37+J37+K37)),"")
B38: 27. | E38: =IF(L38="","",MIN(N(I38),(L38*10%))) | L38: =IF(SUM(C38:D38,F38:K38)=0,"",(SUM(C38:D38,F38:K38))) | M38: =IFERROR(IF((F38+G38+H38+I38+J38+K38)=0,IF(C38+D38+E38=0,"",1),(C38+D38+E38)/(C38+D38+F38+G38+H38+I38+J38+K38)),"") | O38: Zählerstand Monatsende
B39: 28. | E39: =IF(L39="","",MIN(N(I39),(L39*10%))) | L39: =IF(SUM(C39:D39,F39:K39)=0,"",(SUM(C39:D39,F39:K39))) | M39: =IFERROR(IF((F39+G39+H39+I39+J39+K39)=0,IF(C39+D39+E39=0,"",1),(C39+D39+E39)/(C39+D39+F39+G39+H39+I39+J39+K39)),"")
B40: 29. | E40: =IF(L40="","",MIN(N(I40),(L40*10%))) | L40: =IF(SUM(C40:D40,F40:K40)=0,"",(SUM(C40:D40,F40:K40))) | M40: =IFERROR(IF((F40+G40+H40+I40+J40+K40)=0,IF(C40+D40+E40=0,"",1),(C40+D40+E40)/(C40+D40+F40+G40+H40+I40+J40+K40)),"") | O40: 222400
B41: 30. | E41: =IF(L41="","",MIN(N(I41),(L41*10%))) | L41: =IF(SUM(C41:D41,F41:K41)=0,"",(SUM(C41:D41,F41:K41))) | M41: =IFERROR(IF((F41+G41+H41+I41+J41+K41)=0,IF(C41+D41+E41=0,"",1),(C41+D41+E41)/(C41+D41+F41+G41+H41+I41+J41+K41)),"") | N41: 222400
B42: Summe | C42: =IF(SUM(C12:C41)=0,0,SUM(C12:C41)) -> 19 | D42: =IF(SUM(D12:D41)=0,0,SUM(D12:D41)) -> 25 | E42: =IF(SUM(E12:E41)=0,0,SUM(E12:E41)) -> 2.9 | F42: =IF(SUM(F12:F41)=0,0,SUM(F12:F41)) -> 2 | G42: =IF(SUM(G12:G41)=0,0,SUM(G12:G41)) -> 2 | H42: =IF(SUM(H12:H41)=0,0,SUM(H12:H41)) -> 2 | I42: =IF(SUM(I12:I41)=0,0,SUM(I12:I41)) -> 6 | J42: =IF(SUM(J12:J41)=0,0,SUM(J12:J41)) -> 2 | ... L42: =IF(SUM(L12:L41)=0,0,SUM(L12:L41)) -> 60 | M42: =IF((F42+G42+H42+I42+J42+K42)=0,IF(C42+D42=0,"",1),(C42+D42+E42)/(C42+D42+F42+G42+H42+I42+J42+K42)) -> 0.78166667 | N42: =IF(SUM(N41-N12,N12,N41)=0,"",SUM(N41-N12)) -> 54000 | O42: =IF(O40-O13=0,0,O40-O13) -> 54000
C43: Gülle + Mist ► | E43: =IF(SUM(C42:E42)=0,"",SUM(C42:E42)) -> 46.9 | J43: Summe Nawaro ► | K43: =IF(SUM(F42:K42)=0,"",SUM(F42:K42)) -> 16 | L43: ▲ Monatsdurchschnitt | N43: ▲ ▲ Produktion kW/h el.
B45: Hiermit bestätige ich, dass die Vorgaben des EEG und der Biomasseverordnung erfüllt und alle Einsatzstoffe vollständig und korrekt im Tagebuch eingetragen sind.
B46: Datum: | F46: Unterschrift:

Sheet Mai
N1: © NQ-Anlagentechnik GmbH | S1: ◄Einsatzstofftagebuch bitte täglich ausfüllen
S3: Zusätzlich evtl. tägliche handschriftliche Aufzeichnungen aubewahren, unabhängig von der äußeren Form! (z.B. eigene Listen, Kalender, Notitzblock, Strichlisten...)
B4: entspricht § 27 EEG Abs.4 Nr. 2 (Anlage 2 I.1.b)
B5: Name: | C5: Mustermann
B6: Firma: | C6: Musterfirma
B7: Jahr und Aufzeichnungsmonat: | G7: 2026 | H7: Mai | N7: 80% Gülle & Mist / 20% NawaRo
C9: Gülle & Mist | F9: + NawaRo | L9: = Gesamt
C10: Gülle | D10: Mist | E10: Kleegras (anteilig) | F10: Maissilage | G10: Grassilage | H10: GPS | I10: Kleegras | J10: … | K10: … | L10: Einbringmenge gesamt | M10: Masse-% Gülle & Mist | N10: kW/h el. | O10: kW/h el. | S10: ◄Die Beschriftung der Felder mit ... können verändert werden, falls andere Substrate wie zum Beispiel Kleegras eingesetzt werden! Zelle wählen + neuen Text eingeben
B11: Datum | C11: Tonnen pro Tag | D11: Tonnen pro Tag | E11: Tonnen pro Tag | F11: Tonnen pro Tag | G11: Tonnen pro Tag | H11: Tonnen pro Tag | I11: Tonnen pro Tag | J11: Tonnen pro Tag | K11: Tonnen pro Tag | L11: Tonnen pro Tag | M11: % pro Tag | N11: Zählerstand täglich | O11: Zählerstand Monatsanfang
B12: 1. | C12: 15 | D12: 20 | E12: =IF(L12="","",MIN(N(I12),(L12*10%))) -> 1 | F12: 1 | G12: 1 | H12: 1 | I12: 1 | J12: 1 | K12: 1 | L12: =IF(SUM(C12:D12,F12:K12)=0,"",(SUM(C12:D12,F12:K12))) -> 41 | M12: =IFERROR(IF((F12+G12+H12+I12+J12+K12)=0,IF(C12+D12+E12=0,"",1),(C12+D12+E12)/(C12+D12+F12+G12+H12+I12+J12+K12)),"") -> 0.87804878 | N12: 224200
B13: 2. | C13: 5 | D13: 6 | E13: =IF(L13="","",MIN(N(I13),(L13*10%))) -> 2.1 | F13: 1 | G13: 1 | H13: 1 | I13: 5 | J13: 1 | K13: 1 | L13: =IF(SUM(C13:D13,F13:K13)=0,"",(SUM(C13:D13,F13:K13))) -> 21 | M13: =IFERROR(IF((F13+G13+H13+I13+J13+K13)=0,IF(C13+D13+E13=0,"",1),(C13+D13+E13)/(C13+D13+F13+G13+H13+I13+J13+K13)),"") -> 0.62380952 | N13: 226000 | O13: 224200 | S13: ◄Herkunftsnachweise im Tabellenblatt „Nachweisbuch“
B14: 3. | E14: =IF(L14="","",MIN(N(I14),(L14*10%))) | L14: =IF(SUM(C14:D14,F14:K14)=0,"",(SUM(C14:D14,F14:K14))) | M14: =IFERROR(IF((F14+G14+H14+I14+J14+K14)=0,IF(C14+D14+E14=0,"",1),(C14+D14+E14)/(C14+D14+F14+G14+H14+I14+J14+K14)),"")
B15: 4. | E15: =IF(L15="","",MIN(N(I15),(L15*10%))) | L15: =IF(SUM(C15:D15,F15:K15)=0,"",(SUM(C15:D15,F15:K15))) | M15: =IFERROR(IF((F15+G15+H15+I15+J15+K15)=0,IF(C15+D15+E15=0,"",1),(C15+D15+E15)/(C15+D15+F15+G15+H15+I15+J15+K15)),"")
B16: 5. | E16: =IF(L16="","",MIN(N(I16),(L16*10%))) | L16: =IF(SUM(C16:D16,F16:K16)=0,"",(SUM(C16:D16,F16:K16))) | M16: =IFERROR(IF((F16+G16+H16+I16+J16+K16)=0,IF(C16+D16+E16=0,"",1),(C16+D16+E16)/(C16+D16+F16+G16+H16+I16+J16+K16)),"") | S16: ◄Kleegras-Anrechnung: max. 10% der Gesamteinbringmenge auf Gülle-/Mist-Anteil(Masse-%)
B17: 6. | E17: =IF(L17="","",MIN(N(I17),(L17*10%))) | L17: =IF(SUM(C17:D17,F17:K17)=0,"",(SUM(C17:D17,F17:K17))) | M17: =IFERROR(IF((F17+G17+H17+I17+J17+K17)=0,IF(C17+D17+E17=0,"",1),(C17+D17+E17)/(C17+D17+F17+G17+H17+I17+J17+K17)),"")
B18: 7. | E18: =IF(L18="","",MIN(N(I18),(L18*10%))) | L18: =IF(SUM(C18:D18,F18:K18)=0,"",(SUM(C18:D18,F18:K18))) | M18: =IFERROR(IF((F18+G18+H18+I18+J18+K18)=0,IF(C18+D18+E18=0,"",1),(C18+D18+E18)/(C18+D18+F18+G18+H18+I18+J18+K18)),"")
B19: 8. | E19: =IF(L19="","",MIN(N(I19),(L19*10%))) | L19: =IF(SUM(C19:D19,F19:K19)=0,"",(SUM(C19:D19,F19:K19))) | M19: =IFERROR(IF((F19+G19+H19+I19+J19+K19)=0,IF(C19+D19+E19=0,"",1),(C19+D19+E19)/(C19+D19+F19+G19+H19+I19+J19+K19)),"") | S19: ◄Zählerstände sind je nach Netzbetreiber entweder täglich oder monatlich festzuhalten
B20: 9. | E20: =IF(L20="","",MIN(N(I20),(L20*10%))) | L20: =IF(SUM(C20:D20,F20:K20)=0,"",(SUM(C20:D20,F20:K20))) | M20: =IFERROR(IF((F20+G20+H20+I20+J20+K20)=0,IF(C20+D20+E20=0,"",1),(C20+D20+E20)/(C20+D20+F20+G20+H20+I20+J20+K20)),"")
B21: 10. | E21: =IF(L21="","",MIN(N(I21),(L21*10%))) | L21: =IF(SUM(C21:D21,F21:K21)=0,"",(SUM(C21:D21,F21:K21))) | M21: =IFERROR(IF((F21+G21+H21+I21+J21+K21)=0,IF(C21+D21+E21=0,"",1),(C21+D21+E21)/(C21+D21+F21+G21+H21+I21+J21+K21)),"")
B22: 11. | E22: =IF(L22="","",MIN(N(I22),(L22*10%))) | L22: =IF(SUM(C22:D22,F22:K22)=0,"",(SUM(C22:D22,F22:K22))) | M22: =IFERROR(IF((F22+G22+H22+I22+J22+K22)=0,IF(C22+D22+E22=0,"",1),(C22+D22+E22)/(C22+D22+F22+G22+H22+I22+J22+K22)),"")
B23: 12. | E23: =IF(L23="","",MIN(N(I23),(L23*10%))) | L23: =IF(SUM(C23:D23,F23:K23)=0,"",(SUM(C23:D23,F23:K23))) | M23: =IFERROR(IF((F23+G23+H23+I23+J23+K23)=0,IF(C23+D23+E23=0,"",1),(C23+D23+E23)/(C23+D23+F23+G23+H23+I23+J23+K23)),"")
B24: 13. | E24: =IF(L24="","",MIN(N(I24),(L24*10%))) | L24: =IF(SUM(C24:D24,F24:K24)=0,"",(SUM(C24:D24,F24:K24))) | M24: =IFERROR(IF((F24+G24+H24+I24+J24+K24)=0,IF(C24+D24+E24=0,"",1),(C24+D24+E24)/(C24+D24+F24+G24+H24+I24+J24+K24)),"")
B25: 14. | E25: =IF(L25="","",MIN(N(I25),(L25*10%))) | L25: =IF(SUM(C25:D25,F25:K25)=0,"",(SUM(C25:D25,F25:K25))) | M25: =IFERROR(IF((F25+G25+H25+I25+J25+K25)=0,IF(C25+D25+E25=0,"",1),(C25+D25+E25)/(C25+D25+F25+G25+H25+I25+J25+K25)),"")
B26: 15. | E26: =IF(L26="","",MIN(N(I26),(L26*10%))) | L26: =IF(SUM(C26:D26,F26:K26)=0,"",(SUM(C26:D26,F26:K26))) | M26: =IFERROR(IF((F26+G26+H26+I26+J26+K26)=0,IF(C26+D26+E26=0,"",1),(C26+D26+E26)/(C26+D26+F26+G26+H26+I26+J26+K26)),"")
B27: 16. | E27: =IF(L27="","",MIN(N(I27),(L27*10%))) | L27: =IF(SUM(C27:D27,F27:K27)=0,"",(SUM(C27:D27,F27:K27))) | M27: =IFERROR(IF((F27+G27+H27+I27+J27+K27)=0,IF(C27+D27+E27=0,"",1),(C27+D27+E27)/(C27+D27+F27+G27+H27+I27+J27+K27)),"")
B28: 17. | E28: =IF(L28="","",MIN(N(I28),(L28*10%))) | L28: =IF(SUM(C28:D28,F28:K28)=0,"",(SUM(C28:D28,F28:K28))) | M28: =IFERROR(IF((F28+G28+H28+I28+J28+K28)=0,IF(C28+D28+E28=0,"",1),(C28+D28+E28)/(C28+D28+F28+G28+H28+I28+J28+K28)),"")
B29: 18. | E29: =IF(L29="","",MIN(N(I29),(L29*10%))) | L29: =IF(SUM(C29:D29,F29:K29)=0,"",(SUM(C29:D29,F29:K29))) | M29: =IFERROR(IF((F29+G29+H29+I29+J29+K29)=0,IF(C29+D29+E29=0,"",1),(C29+D29+E29)/(C29+D29+F29+G29+H29+I29+J29+K29)),"")
B30: 19. | E30: =IF(L30="","",MIN(N(I30),(L30*10%))) | L30: =IF(SUM(C30:D30,F30:K30)=0,"",(SUM(C30:D30,F30:K30))) | M30: =IFERROR(IF((F30+G30+H30+I30+J30+K30)=0,IF(C30+D30+E30=0,"",1),(C30+D30+E30)/(C30+D30+F30+G30+H30+I30+J30+K30)),"")
B31: 20. | E31: =IF(L31="","",MIN(N(I31),(L31*10%))) | L31: =IF(SUM(C31:D31,F31:K31)=0,"",(SUM(C31:D31,F31:K31))) | M31: =IFERROR(IF((F31+G31+H31+I31+J31+K31)=0,IF(C31+D31+E31=0,"",1),(C31+D31+E31)/(C31+D31+F31+G31+H31+I31+J31+K31)),"")
... B38: 27. | E38: =IF(L38="","",MIN(N(I38),(L38*10%))) | L38: =IF(SUM(C38:D38,F38:K38)=0,"",(SUM(C38:D38,F38:K38))) | M38: =IFERROR(IF((F38+G38+H38+I38+J38+K38)=0,IF(C38+D38+E38=0,"",1),(C38+D38+E38)/(C38+D38+F38+G38+H38+I38+J38+K38)),"")
B39: 28. | E39: =IF(L39="","",MIN(N(I39),(L39*10%))) | L39: =IF(SUM(C39:D39,F39:K39)=0,"",(SUM(C39:D39,F39:K39))) | M39: =IFERROR(IF((F39+G39+H39+I39+J39+K39)=0,IF(C39+D39+E39=0,"",1),(C39+D39+E39)/(C39+D39+F39+G39+H39+I39+J39+K39)),"") | O39: Zählerstand Monatsende
B40: 29. | E40: =IF(L40="","",MIN(N(I40),(L40*10%))) | L40: =IF(SUM(C40:D40,F40:K40)=0,"",(SUM(C40:D40,F40:K40))) | M40: =IFERROR(IF((F40+G40+H40+I40+J40+K40)=0,IF(C40+D40+E40=0,"",1),(C40+D40+E40)/(C40+D40+F40+G40+H40+I40+J40+K40)),"")
B41: 30. | E41: =IF(L41="","",MIN(N(I41),(L41*10%))) | L41: =IF(SUM(C41:D41,F41:K41)=0,"",(SUM(C41:D41,F41:K41))) | M41: =IFERROR(IF((F41+G41+H41+I41+J41+K41)=0,IF(C41+D41+E41=0,"",1),(C41+D41+E41)/(C41+D41+F41+G41+H41+I41+J41+K41)),"") | O41: 278200
B42: 31. | E42: =IF(L42="","",MIN(N(I42),(L42*10%))) | L42: =IF(SUM(C42:D42,F42:K42)=0,"",(SUM(C42:D42,F42:K42))) | M42: =IFERROR(IF((F42+G42+H42+I42+J42+K42)=0,IF(C42+D42+E42=0,"",1),(C42+D42+E42)/(C42+D42+F42+G42+H42+I42+J42+K42)),"") | N42: 278200
B43: Summe | C43: =IF(SUM(C12:C42)=0,0,SUM(C12:C42)) -> 20 | D43: =IF(SUM(D12:D42)=0,0,SUM(D12:D42)) -> 26 | E43: =IF(SUM(E12:E42)=0,0,SUM(E12:E42)) -> 3.1 | F43: =IF(SUM(F12:F42)=0,0,SUM(F12:F42)) -> 2 | G43: =IF(SUM(G12:G42)=0,0,SUM(G12:G42)) -> 2 | H43: =IF(SUM(H12:H42)=0,0,SUM(H12:H42)) -> 2 | I43: =IF(SUM(I12:I42)=0,0,SUM(I12:I42)) -> 6 | J43: =IF(SUM(J12:J42)=0,0,SUM(J12:J42)) -> 2 | ... L43: =IF(SUM(L12:L42)=0,0,SUM(L12:L42)) -> 62 | M43: =IF((F43+G43+H43+I43+J43+K43)=0,IF(C43+D43=0,"",1),(C43+D43+E43)/(C43+D43+F43+G43+H43+I43+J43+K43)) -> 0.79193548 | N43: =IF(SUM(N42-N12,N12,N42)=0,"",SUM(N42-N12)) -> 54000 | O43: =IF(O41-O13=0,0,O41-O13) -> 54000
C44: Gülle + Mist ► | E44: =IF(SUM(C43:E43)=0,"",SUM(C43:E43)) -> 49.1 | J44: Summe Nawaro ► | K44: =IF(SUM(F43:K43)=0,"",SUM(F43:K43)) -> 16 | L44: ▲ Monatsdurchschnitt | N44: ▲ ▲ Produktion kW/h el.
B46: Hiermit bestätige ich, dass die Vorgaben des EEG und der Biomasseverordnung erfüllt und alle Einsatzstoffe vollständig und korrekt im Tagebuch eingetragen sind.
B47: Datum: | F47: Unterschrift:

Sheet Juni
N1: © NQ-Anlagentechnik GmbH | S1: ◄Einsatzstofftagebuch bitte täglich ausfüllen
S3: Zusätzlich evtl. tägliche handschriftliche Aufzeichnungen aubewahren, unabhängig von der äußeren Form! (z.B. eigene Listen, Kalender, Notitzblock, Strichlisten...)
B4: entspricht § 27 EEG Abs.4 Nr. 2 (Anlage 2 I.1.b)
B5: Name: | C5: Mustermann
B6: Firma: | C6: Musterfirma
B7: Jahr und Aufzeichnungsmonat: | G7: 2026 | H7: Juni | N7: 80% Gülle & Mist / 20% NawaRo
C9: Gülle & Mist | F9: + NawaRo | L9: = Gesamt
C10: Gülle | D10: Mist | E10: Kleegras (anteilig) | F10: Maissilage | G10: Grassilage | H10: GPS | I10: Kleegras | J10: … | K10: … | L10: Einbringmenge gesamt | M10: Masse-% Gülle & Mist | N10: kW/h el. | O10: kW/h el. | S10: ◄Die Beschriftung der Felder mit ... können verändert werden, falls andere Substrate wie zum Beispiel Kleegras eingesetzt werden! Zelle wählen + neuen Text eingeben
B11: Datum | C11: Tonnen pro Tag | D11: Tonnen pro Tag | E11: Tonnen pro Tag | F11: Tonnen pro Tag | G11: Tonnen pro Tag | H11: Tonnen pro Tag | I11: Tonnen pro Tag | J11: Tonnen pro Tag | K11: Tonnen pro Tag | L11: Tonnen pro Tag | M11: % pro Tag | N11: Zählerstand täglich | O11: Zählerstand Monatsanfang
B12: 1. | C12: 15 | D12: 20 | E12: =IF(L12="","",MIN(N(I12),(L12*10%))) -> 1 | F12: 1 | G12: 1 | H12: 1 | I12: 1 | J12: 1 | K12: 1 | L12: =IF(SUM(C12:D12,F12:K12)=0,"",(SUM(C12:D12,F12:K12))) -> 41 | M12: =IFERROR(IF((F12+G12+H12+I12+J12+K12)=0,IF(C12+D12+E12=0,"",1),(C12+D12+E12)/(C12+D12+F12+G12+H12+I12+J12+K12)),"") -> 0.87804878 | N12: 280000
B13: 2. | C13: 6 | D13: 7 | E13: =IF(L13="","",MIN(N(I13),(L13*10%))) -> 2.3 | F13: 1 | G13: 1 | H13: 1 | I13: 5 | J13: 1 | K13: 1 | L13: =IF(SUM(C13:D13,F13:K13)=0,"",(SUM(C13:D13,F13:K13))) -> 23 | M13: =IFERROR(IF((F13+G13+H13+I13+J13+K13)=0,IF(C13+D13+E13=0,"",1),(C13+D13+E13)/(C13+D13+F13+G13+H13+I13+J13+K13)),"") -> 0.66521739 | N13: 281800 | O13: 280000 | S13: ◄Herkunftsnachweise im Tabellenblatt „Nachweisbuch“
B14: 3. | E14: =IF(L14="","",MIN(N(I14),(L14*10%))) | L14: =IF(SUM(C14:D14,F14:K14)=0,"",(SUM(C14:D14,F14:K14))) | M14: =IFERROR(IF((F14+G14+H14+I14+J14+K14)=0,IF(C14+D14+E14=0,"",1),(C14+D14+E14)/(C14+D14+F14+G14+H14+I14+J14+K14)),"")
B15: 4. | E15: =IF(L15="","",MIN(N(I15),(L15*10%))) | L15: =IF(SUM(C15:D15,F15:K15)=0,"",(SUM(C15:D15,F15:K15))) | M15: =IFERROR(IF((F15+G15+H15+I15+J15+K15)=0,IF(C15+D15+E15=0,"",1),(C15+D15+E15)/(C15+D15+F15+G15+H15+I15+J15+K15)),"")
B16: 5. | E16: =IF(L16="","",MIN(N(I16),(L16*10%))) | L16: =IF(SUM(C16:D16,F16:K16)=0,"",(SUM(C16:D16,F16:K16))) | M16: =IFERROR(IF((F16+G16+H16+I16+J16+K16)=0,IF(C16+D16+E16=0,"",1),(C16+D16+E16)/(C16+D16+F16+G16+H16+I16+J16+K16)),"") | S16: ◄Kleegras-Anrechnung: max. 10% der Gesamteinbringmenge auf Gülle-/Mist-Anteil(Masse-%)
B17: 6. | E17: =IF(L17="","",MIN(N(I17),(L17*10%))) | L17: =IF(SUM(C17:D17,F17:K17)=0,"",(SUM(C17:D17,F17:K17))) | M17: =IFERROR(IF((F17+G17+H17+I17+J17+K17)=0,IF(C17+D17+E17=0,"",1),(C17+D17+E17)/(C17+D17+F17+G17+H17+I17+J17+K17)),"")
B18: 7. | E18: =IF(L18="","",MIN(N(I18),(L18*10%))) | L18: =IF(SUM(C18:D18,F18:K18)=0,"",(SUM(C18:D18,F18:K18))) | M18: =IFERROR(IF((F18+G18+H18+I18+J18+K18)=0,IF(C18+D18+E18=0,"",1),(C18+D18+E18)/(C18+D18+F18+G18+H18+I18+J18+K18)),"")
B19: 8. | E19: =IF(L19="","",MIN(N(I19),(L19*10%))) | L19: =IF(SUM(C19:D19,F19:K19)=0,"",(SUM(C19:D19,F19:K19))) | M19: =IFERROR(IF((F19+G19+H19+I19+J19+K19)=0,IF(C19+D19+E19=0,"",1),(C19+D19+E19)/(C19+D19+F19+G19+H19+I19+J19+K19)),"") | S19: ◄Zählerstände sind je nach Netzbetreiber entweder täglich oder monatlich festzuhalten
B20: 9. | E20: =IF(L20="","",MIN(N(I20),(L20*10%))) | L20: =IF(SUM(C20:D20,F20:K20)=0,"",(SUM(C20:D20,F20:K20))) | M20: =IFERROR(IF((F20+G20+H20+I20+J20+K20)=0,IF(C20+D20+E20=0,"",1),(C20+D20+E20)/(C20+D20+F20+G20+H20+I20+J20+K20)),"")
B21: 10. | E21: =IF(L21="","",MIN(N(I21),(L21*10%))) | L21: =IF(SUM(C21:D21,F21:K21)=0,"",(SUM(C21:D21,F21:K21))) | M21: =IFERROR(IF((F21+G21+H21+I21+J21+K21)=0,IF(C21+D21+E21=0,"",1),(C21+D21+E21)/(C21+D21+F21+G21+H21+I21+J21+K21)),"")
B22: 11. | E22: =IF(L22="","",MIN(N(I22),(L22*10%))) | L22: =IF(SUM(C22:D22,F22:K22)=0,"",(SUM(C22:D22,F22:K22))) | M22: =IFERROR(IF((F22+G22+H22+I22+J22+K22)=0,IF(C22+D22+E22=0,"",1),(C22+D22+E22)/(C22+D22+F22+G22+H22+I22+J22+K22)),"")
B23: 12. | E23: =IF(L23="","",MIN(N(I23),(L23*10%))) | L23: =IF(SUM(C23:D23,F23:K23)=0,"",(SUM(C23:D23,F23:K23))) | M23: =IFERROR(IF((F23+G23+H23+I23+J23+K23)=0,IF(C23+D23+E23=0,"",1),(C23+D23+E23)/(C23+D23+F23+G23+H23+I23+J23+K23)),"")
B24: 13. | E24: =IF(L24="","",MIN(N(I24),(L24*10%))) | L24: =IF(SUM(C24:D24,F24:K24)=0,"",(SUM(C24:D24,F24:K24))) | M24: =IFERROR(IF((F24+G24+H24+I24+J24+K24)=0,IF(C24+D24+E24=0,"",1),(C24+D24+E24)/(C24+D24+F24+G24+H24+I24+J24+K24)),"")
B25: 14. | E25: =IF(L25="","",MIN(N(I25),(L25*10%))) | L25: =IF(SUM(C25:D25,F25:K25)=0,"",(SUM(C25:D25,F25:K25))) | M25: =IFERROR(IF((F25+G25+H25+I25+J25+K25)=0,IF(C25+D25+E25=0,"",1),(C25+D25+E25)/(C25+D25+F25+G25+H25+I25+J25+K25)),"")
B26: 15. | E26: =IF(L26="","",MIN(N(I26),(L26*10%))) | L26: =IF(SUM(C26:D26,F26:K26)=0,"",(SUM(C26:D26,F26:K26))) | M26: =IFERROR(IF((F26+G26+H26+I26+J26+K26)=0,IF(C26+D26+E26=0,"",1),(C26+D26+E26)/(C26+D26+F26+G26+H26+I26+J26+K26)),"")
B27: 16. | E27: =IF(L27="","",MIN(N(I27),(L27*10%))) | L27: =IF(SUM(C27:D27,F27:K27)=0,"",(SUM(C27:D27,F27:K27))) | M27: =IFERROR(IF((F27+G27+H27+I27+J27+K27)=0,IF(C27+D27+E27=0,"",1),(C27+D27+E27)/(C27+D27+F27+G27+H27+I27+J27+K27)),"")
B28: 17. | E28: =IF(L28="","",MIN(N(I28),(L28*10%))) | L28: =IF(SUM(C28:D28,F28:K28)=0,"",(SUM(C28:D28,F28:K28))) | M28: =IFERROR(IF((F28+G28+H28+I28+J28+K28)=0,IF(C28+D28+E28=0,"",1),(C28+D28+E28)/(C28+D28+F28+G28+H28+I28+J28+K28)),"")
B29: 18. | E29: =IF(L29="","",MIN(N(I29),(L29*10%))) | L29: =IF(SUM(C29:D29,F29:K29)=0,"",(SUM(C29:D29,F29:K29))) | M29: =IFERROR(IF((F29+G29+H29+I29+J29+K29)=0,IF(C29+D29+E29=0,"",1),(C29+D29+E29)/(C29+D29+F29+G29+H29+I29+J29+K29)),"")
B30: 19. | E30: =IF(L30="","",MIN(N(I30),(L30*10%))) | L30: =IF(SUM(C30:D30,F30:K30)=0,"",(SUM(C30:D30,F30:K30))) | M30: =IFERROR(IF((F30+G30+H30+I30+J30+K30)=0,IF(C30+D30+E30=0,"",1),(C30+D30+E30)/(C30+D30+F30+G30+H30+I30+J30+K30)),"")
B31: 20. | E31: =IF(L31="","",MIN(N(I31),(L31*10%))) | L31: =IF(SUM(C31:D31,F31:K31)=0,"",(SUM(C31:D31,F31:K31))) | M31: =IFERROR(IF((F31+G31+H31+I31+J31+K31)=0,IF(C31+D31+E31=0,"",1),(C31+D31+E31)/(C31+D31+F31+G31+H31+I31+J31+K31)),"")
... B37: 26. | E37: =IF(L37="","",MIN(N(I37),(L37*10%))) | L37: =IF(SUM(C37:D37,F37:K37)=0,"",(SUM(C37:D37,F37:K37))) | M37: =IFERROR(IF((F37+G37+H37+I37+J37+K37)=0,IF(C37+D37+E37=0,"",1),(C37+D37+E37)/(C37+D37+F37+G37+H37+I37+J37+K37)),"")
B38: 27. | E38: =IF(L38="","",MIN(N(I38),(L38*10%))) | L38: =IF(SUM(C38:D38,F38:K38)=0,"",(SUM(C38:D38,F38:K38))) | M38: =IFERROR(IF((F38+G38+H38+I38+J38+K38)=0,IF(C38+D38+E38=0,"",1),(C38+D38+E38)/(C38+D38+F38+G38+H38+I38+J38+K38)),"") | O38: Zählerstand Monatsende
B39: 28. | E39: =IF(L39="","",MIN(N(I39),(L39*10%))) | L39: =IF(SUM(C39:D39,F39:K39)=0,"",(SUM(C39:D39,F39:K39))) | M39: =IFERROR(IF((F39+G39+H39+I39+J39+K39)=0,IF(C39+D39+E39=0,"",1),(C39+D39+E39)/(C39+D39+F39+G39+H39+I39+J39+K39)),"")
B40: 29. | E40: =IF(L40="","",MIN(N(I40),(L40*10%))) | L40: =IF(SUM(C40:D40,F40:K40)=0,"",(SUM(C40:D40,F40:K40))) | M40: =IFERROR(IF((F40+G40+H40+I40+J40+K40)=0,IF(C40+D40+E40=0,"",1),(C40+D40+E40)/(C40+D40+F40+G40+H40+I40+J40+K40)),"") | O40: 334000
B41: 30. | E41: =IF(L41="","",MIN(N(I41),(L41*10%))) | L41: =IF(SUM(C41:D41,F41:K41)=0,"",(SUM(C41:D41,F41:K41))) | M41: =IFERROR(IF((F41+G41+H41+I41+J41+K41)=0,IF(C41+D41+E41=0,"",1),(C41+D41+E41)/(C41+D41+F41+G41+H41+I41+J41+K41)),"") | N41: 334000
B42: Summe | C42: =IF(SUM(C12:C41)=0,0,SUM(C12:C41)) -> 21 | D42: =IF(SUM(D12:D41)=0,0,SUM(D12:D41)) -> 27 | E42: =IF(SUM(E12:E41)=0,0,SUM(E12:E41)) -> 3.3 | F42: =IF(SUM(F12:F41)=0,0,SUM(F12:F41)) -> 2 | G42: =IF(SUM(G12:G41)=0,0,SUM(G12:G41)) -> 2 | H42: =IF(SUM(H12:H41)=0,0,SUM(H12:H41)) -> 2 | I42: =IF(SUM(I12:I41)=0,0,SUM(I12:I41)) -> 6 | J42: =IF(SUM(J12:J41)=0,0,SUM(J12:J41)) -> 2 | ... L42: =IF(SUM(L12:L41)=0,0,SUM(L12:L41)) -> 64 | M42: =IF((F42+G42+H42+I42+J42+K42)=0,IF(C42+D42=0,"",1),(C42+D42+E42)/(C42+D42+F42+G42+H42+I42+J42+K42)) -> 0.8015625 | N42: =IF(SUM(N41-N12,N12,N41)=0,"",SUM(N41-N12)) -> 54000 | O42: =IF(O40-O13=0,0,O40-O13) -> 54000
C43: Gülle + Mist ► | E43: =IF(SUM(C42:E42)=0,"",SUM(C42:E42)) -> 51.3 | J43: Summe Nawaro ► | K43: =IF(SUM(F42:K42)=0,"",SUM(F42:K42)) -> 16 | L43: ▲ Monatsdurchschnitt | N43: ▲ ▲ Produktion kW/h el.
B45: Hiermit bestätige ich, dass die Vorgaben des EEG und der Biomasseverordnung erfüllt und alle Einsatzstoffe vollständig und korrekt im Tagebuch eingetragen sind.
B46: Datum: | F46: Unterschrift:

Sheet Juli
N1: © NQ-Anlagentechnik GmbH | S1: ◄Einsatzstofftagebuch bitte täglich ausfüllen
S3: Zusätzlich evtl. tägliche handschriftliche Aufzeichnungen aubewahren, unabhängig von der äußeren Form! (z.B. eigene Listen, Kalender, Notitzblock, Strichlisten...)
B4: entspricht § 27 EEG Abs.4 Nr. 2 (Anlage 2 I.1.b)
B5: Name: | C5: Mustermann
B6: Firma: | C6: Musterfirma
B7: Jahr und Aufzeichnungsmonat: | G7: 2026 | H7: Juli | N7: 80% Gülle & Mist / 20% NawaRo
C9: Gülle & Mist | F9: + NawaRo | L9: = Gesamt
C10: Gülle | D10: Mist | E10: Kleegras (anteilig) | F10: Maissilage | G10: Grassilage | H10: GPS | I10: Kleegras | J10: … | K10: … | L10: Einbringmenge gesamt | M10: Masse-% Gülle & Mist | N10: kW/h el. | O10: kW/h el. | S10: ◄Die Beschriftung der Felder mit ... können verändert werden, falls andere Substrate wie zum Beispiel Kleegras eingesetzt werden! Zelle wählen + neuen Text eingeben
B11: Datum | C11: Tonnen pro Tag | D11: Tonnen pro Tag | E11: Tonnen pro Tag | F11: Tonnen pro Tag | G11: Tonnen pro Tag | H11: Tonnen pro Tag | I11: Tonnen pro Tag | J11: Tonnen pro Tag | K11: Tonnen pro Tag | L11: Tonnen pro Tag | M11: % pro Tag | N11: Zählerstand täglich | O11: Zählerstand Monatsanfang
B12: 1. | C12: 15 | D12: 20 | E12: =IF(L12="","",MIN(N(I12),(L12*10%))) -> 1 | F12: 1 | G12: 1 | H12: 1 | I12: 1 | J12: 1 | K12: 1 | L12: =IF(SUM(C12:D12,F12:K12)=0,"",(SUM(C12:D12,F12:K12))) -> 41 | M12: =IFERROR(IF((F12+G12+H12+I12+J12+K12)=0,IF(C12+D12+E12=0,"",1),(C12+D12+E12)/(C12+D12+F12+G12+H12+I12+J12+K12)),"") -> 0.87804878 | N12: 335800
B13: 2. | C13: 7 | D13: 8 | E13: =IF(L13="","",MIN(N(I13),(L13*10%))) -> 2.5 | F13: 1 | G13: 1 | H13: 1 | I13: 5 | J13: 1 | K13: 1 | L13: =IF(SUM(C13:D13,F13:K13)=0,"",(SUM(C13:D13,F13:K13))) -> 25 | M13: =IFERROR(IF((F13+G13+H13+I13+J13+K13)=0,IF(C13+D13+E13=0,"",1),(C13+D13+E13)/(C13+D13+F13+G13+H13+I13+J13+K13)),"") -> 0.7 | N13: 337600 | O13: 335800 | S13: ◄Herkunftsnachweise im Tabellenblatt „Nachweisbuch“
B14: 3. | E14: =IF(L14="","",MIN(N(I14),(L14*10%))) | L14: =IF(SUM(C14:D14,F14:K14)=0,"",(SUM(C14:D14,F14:K14))) | M14: =IFERROR(IF((F14+G14+H14+I14+J14+K14)=0,IF(C14+D14+E14=0,"",1),(C14+D14+E14)/(C14+D14+F14+G14+H14+I14+J14+K14)),"")
B15: 4. | E15: =IF(L15="","",MIN(N(I15),(L15*10%))) | L15: =IF(SUM(C15:D15,F15:K15)=0,"",(SUM(C15:D15,F15:K15))) | M15: =IFERROR(IF((F15+G15+H15+I15+J15+K15)=0,IF(C15+D15+E15=0,"",1),(C15+D15+E15)/(C15+D15+F15+G15+H15+I15+J15+K15)),"")
B16: 5. | E16: =IF(L16="","",MIN(N(I16),(L16*10%))) | L16: =IF(SUM(C16:D16,F16:K16)=0,"",(SUM(C16:D16,F16:K16))) | M16: =IFERROR(IF((F16+G16+H16+I16+J16+K16)=0,IF(C16+D16+E16=0,"",1),(C16+D16+E16)/(C16+D16+F16+G16+H16+I16+J16+K16)),"") | S16: ◄Kleegras-Anrechnung: max. 10% der Gesamteinbringmenge auf Gülle-/Mist-Anteil(Masse-%)
B17: 6. | E17: =IF(L17="","",MIN(N(I17),(L17*10%))) | L17: =IF(SUM(C17:D17,F17:K17)=0,"",(SUM(C17:D17,F17:K17))) | M17: =IFERROR(IF((F17+G17+H17+I17+J17+K17)=0,IF(C17+D17+E17=0,"",1),(C17+D17+E17)/(C17+D17+F17+G17+H17+I17+J17+K17)),"")
B18: 7. | E18: =IF(L18="","",MIN(N(I18),(L18*10%))) | L18: =IF(SUM(C18:D18,F18:K18)=0,"",(SUM(C18:D18,F18:K18))) | M18: =IFERROR(IF((F18+G18+H18+I18+J18+K18)=0,IF(C18+D18+E18=0,"",1),(C18+D18+E18)/(C18+D18+F18+G18+H18+I18+J18+K18)),"")
B19: 8. | E19: =IF(L19="","",MIN(N(I19),(L19*10%))) | L19: =IF(SUM(C19:D19,F19:K19)=0,"",(SUM(C19:D19,F19:K19))) | M19: =IFERROR(IF((F19+G19+H19+I19+J19+K19)=0,IF(C19+D19+E19=0,"",1),(C19+D19+E19)/(C19+D19+F19+G19+H19+I19+J19+K19)),"") | S19: ◄Zählerstände sind je nach Netzbetreiber entweder täglich oder monatlich festzuhalten
B20: 9. | E20: =IF(L20="","",MIN(N(I20),(L20*10%))) | L20: =IF(SUM(C20:D20,F20:K20)=0,"",(SUM(C20:D20,F20:K20))) | M20: =IFERROR(IF((F20+G20+H20+I20+J20+K20)=0,IF(C20+D20+E20=0,"",1),(C20+D20+E20)/(C20+D20+F20+G20+H20+I20+J20+K20)),"")
B21: 10. | E21: =IF(L21="","",MIN(N(I21),(L21*10%))) | L21: =IF(SUM(C21:D21,F21:K21)=0,"",(SUM(C21:D21,F21:K21))) | M21: =IFERROR(IF((F21+G21+H21+I21+J21+K21)=0,IF(C21+D21+E21=0,"",1),(C21+D21+E21)/(C21+D21+F21+G21+H21+I21+J21+K21)),"")
B22: 11. | E22: =IF(L22="","",MIN(N(I22),(L22*10%))) | L22: =IF(SUM(C22:D22,F22:K22)=0,"",(SUM(C22:D22,F22:K22))) | M22: =IFERROR(IF((F22+G22+H22+I22+J22+K22)=0,IF(C22+D22+E22=0,"",1),(C22+D22+E22)/(C22+D22+F22+G22+H22+I22+J22+K22)),"")
B23: 12. | E23: =IF(L23="","",MIN(N(I23),(L23*10%))) | L23: =IF(SUM(C23:D23,F23:K23)=0,"",(SUM(C23:D23,F23:K23))) | M23: =IFERROR(IF((F23+G23+H23+I23+J23+K23)=0,IF(C23+D23+E23=0,"",1),(C23+D23+E23)/(C23+D23+F23+G23+H23+I23+J23+K23)),"")
B24: 13. | E24: =IF(L24="","",MIN(N(I24),(L24*10%))) | L24: =IF(SUM(C24:D24,F24:K24)=0,"",(SUM(C24:D24,F24:K24))) | M24: =IFERROR(IF((F24+G24+H24+I24+J24+K24)=0,IF(C24+D24+E24=0,"",1),(C24+D24+E24)/(C24+D24+F24+G24+H24+I24+J24+K24)),"")
B25: 14. | E25: =IF(L25="","",MIN(N(I25),(L25*10%))) | L25: =IF(SUM(C25:D25,F25:K25)=0,"",(SUM(C25:D25,F25:K25))) | M25: =IFERROR(IF((F25+G25+H25+I25+J25+K25)=0,IF(C25+D25+E25=0,"",1),(C25+D25+E25)/(C25+D25+F25+G25+H25+I25+J25+K25)),"")
B26: 15. | E26: =IF(L26="","",MIN(N(I26),(L26*10%))) | L26: =IF(SUM(C26:D26,F26:K26)=0,"",(SUM(C26:D26,F26:K26))) | M26: =IFERROR(IF((F26+G26+H26+I26+J26+K26)=0,IF(C26+D26+E26=0,"",1),(C26+D26+E26)/(C26+D26+F26+G26+H26+I26+J26+K26)),"")
B27: 16. | E27: =IF(L27="","",MIN(N(I27),(L27*10%))) | L27: =IF(SUM(C27:D27,F27:K27)=0,"",(SUM(C27:D27,F27:K27))) | M27: =IFERROR(IF((F27+G27+H27+I27+J27+K27)=0,IF(C27+D27+E27=0,"",1),(C27+D27+E27)/(C27+D27+F27+G27+H27+I27+J27+K27)),"")
B28: 17. | E28: =IF(L28="","",MIN(N(I28),(L28*10%))) | L28: =IF(SUM(C28:D28,F28:K28)=0,"",(SUM(C28:D28,F28:K28))) | M28: =IFERROR(IF((F28+G28+H28+I28+J28+K28)=0,IF(C28+D28+E28=0,"",1),(C28+D28+E28)/(C28+D28+F28+G28+H28+I28+J28+K28)),"")
B29: 18. | E29: =IF(L29="","",MIN(N(I29),(L29*10%))) | L29: =IF(SUM(C29:D29,F29:K29)=0,"",(SUM(C29:D29,F29:K29))) | M29: =IFERROR(IF((F29+G29+H29+I29+J29+K29)=0,IF(C29+D29+E29=0,"",1),(C29+D29+E29)/(C29+D29+F29+G29+H29+I29+J29+K29)),"")
B30: 19. | E30: =IF(L30="","",MIN(N(I30),(L30*10%))) | L30: =IF(SUM(C30:D30,F30:K30)=0,"",(SUM(C30:D30,F30:K30))) | M30: =IFERROR(IF((F30+G30+H30+I30+J30+K30)=0,IF(C30+D30+E30=0,"",1),(C30+D30+E30)/(C30+D30+F30+G30+H30+I30+J30+K30)),"")
B31: 20. | E31: =IF(L31="","",MIN(N(I31),(L31*10%))) | L31: =IF(SUM(C31:D31,F31:K31)=0,"",(SUM(C31:D31,F31:K31))) | M31: =IFERROR(IF((F31+G31+H31+I31+J31+K31)=0,IF(C31+D31+E31=0,"",1),(C31+D31+E31)/(C31+D31+F31+G31+H31+I31+J31+K31)),"")
... B38: 27. | E38: =IF(L38="","",MIN(N(I38),(L38*10%))) | L38: =IF(SUM(C38:D38,F38:K38)=0,"",(SUM(C38:D38,F38:K38))) | M38: =IFERROR(IF((F38+G38+H38+I38+J38+K38)=0,IF(C38+D38+E38=0,"",1),(C38+D38+E38)/(C38+D38+F38+G38+H38+I38+J38+K38)),"")
B39: 28. | E39: =IF(L39="","",MIN(N(I39),(L39*10%))) | L39: =IF(SUM(C39:D39,F39:K39)=0,"",(SUM(C39:D39,F39:K39))) | M39: =IFERROR(IF((F39+G39+H39+I39+J39+K39)=0,IF(C39+D39+E39=0,"",1),(C39+D39+E39)/(C39+D39+F39+G39+H39+I39+J39+K39)),"") | O39: Zählerstand Monatsende
B40: 29. | E40: =IF(L40="","",MIN(N(I40),(L40*10%))) | L40: =IF(SUM(C40:D40,F40:K40)=0,"",(SUM(C40:D40,F40:K40))) | M40: =IFERROR(IF((F40+G40+H40+I40+J40+K40)=0,IF(C40+D40+E40=0,"",1),(C40+D40+E40)/(C40+D40+F40+G40+H40+I40+J40+K40)),"")
B41: 30. | E41: =IF(L41="","",MIN(N(I41),(L41*10%))) | L41: =IF(SUM(C41:D41,F41:K41)=0,"",(SUM(C41:D41,F41:K41))) | M41: =IFERROR(IF((F41+G41+H41+I41+J41+K41)=0,IF(C41+D41+E41=0,"",1),(C41+D41+E41)/(C41+D41+F41+G41+H41+I41+J41+K41)),"") | O41: 389800
B42: 31. | E42: =IF(L42="","",MIN(N(I42),(L42*10%))) | L42: =IF(SUM(C42:D42,F42:K42)=0,"",(SUM(C42:D42,F42:K42))) | M42: =IFERROR(IF((F42+G42+H42+I42+J42+K42)=0,IF(C42+D42+E42=0,"",1),(C42+D42+E42)/(C42+D42+F42+G42+H42+I42+J42+K42)),"") | N42: 389800
B43: Summe | C43: =IF(SUM(C12:C42)=0,0,SUM(C12:C42)) -> 22 | D43: =IF(SUM(D12:D42)=0,0,SUM(D12:D42)) -> 28 | E43: =IF(SUM(E12:E42)=0,0,SUM(E12:E42)) -> 3.5 | F43: =IF(SUM(F12:F42)=0,0,SUM(F12:F42)) -> 2 | G43: =IF(SUM(G12:G42)=0,0,SUM(G12:G42)) -> 2 | H43: =IF(SUM(H12:H42)=0,0,SUM(H12:H42)) -> 2 | I43: =IF(SUM(I12:I42)=0,0,SUM(I12:I42)) -> 6 | J43: =IF(SUM(J12:J42)=0,0,SUM(J12:J42)) -> 2 | ... L43: =IF(SUM(L12:L42)=0,0,SUM(L12:L42)) -> 66 | M43: =IF((F43+G43+H43+I43+J43+K43)=0,IF(C43+D43=0,"",1),(C43+D43+E43)/(C43+D43+F43+G43+H43+I43+J43+K43)) -> 0.81060606 | N43: =IF(SUM(N42-N12,N12,N42)=0,"",SUM(N42-N12)) -> 54000 | O43: =IF(O41-O13=0,0,O41-O13) -> 54000
C44: Gülle + Mist ► | E44: =IF(SUM(C43:E43)=0,"",SUM(C43:E43)) -> 53.5 | J44: Summe Nawaro ► | K44: =IF(SUM(F43:K43)=0,"",SUM(F43:K43)) -> 16 | L44: ▲ Monatsdurchschnitt | N44: ▲ ▲ Produktion kW/h el.
B46: Hiermit bestätige ich, dass die Vorgaben des EEG und der Biomasseverordnung erfüllt und alle Einsatzstoffe vollständig und korrekt im Tagebuch eingetragen sind.
B47: Datum: | F47: Unterschrift:

Sheet August
N1: © NQ-Anlagentechnik GmbH | S1: ◄Einsatzstofftagebuch bitte täglich ausfüllen
S3: Zusätzlich evtl. tägliche handschriftliche Aufzeichnungen aubewahren, unabhängig von der äußeren Form! (z.B. eigene Listen, Kalender, Notitzblock, Strichlisten...)
B4: entspricht § 27 EEG Abs.4 Nr. 2 (Anlage 2 I.1.b)
B5: Name: | C5: Mustermann
B6: Firma: | C6: Musterfirma
B7: Jahr und Aufzeichnungsmonat: | G7: 2026 | H7: August | N7: 80% Gülle & Mist / 20% NawaRo
C9: Gülle & Mist | F9: + NawaRo | L9: = Gesamt
C10: Gülle | D10: Mist | E10: Kleegras (anteilig) | F10: Maissilage | G10: Grassilage | H10: GPS | I10: Kleegras | J10: … | K10: … | L10: Einbringmenge gesamt | M10: Masse-% Gülle & Mist | N10: kW/h el. | O10: kW/h el. | S10: ◄Die Beschriftung der Felder mit ... können verändert werden, falls andere Substrate wie zum Beispiel Kleegras eingesetzt werden! Zelle wählen + neuen Text eingeben
B11: Datum | C11: Tonnen pro Tag | D11: Tonnen pro Tag | E11: Tonnen pro Tag | F11: Tonnen pro Tag | G11: Tonnen pro Tag | H11: Tonnen pro Tag | I11: Tonnen pro Tag | J11: Tonnen pro Tag | K11: Tonnen pro Tag | L11: Tonnen pro Tag | M11: % pro Tag | N11: Zählerstand täglich | O11: Zählerstand Monatsanfang
B12: 1. | C12: 15 | D12: 20 | E12: =IF(L12="","",MIN(N(I12),(L12*10%))) -> 1 | F12: 1 | G12: 1 | H12: 1 | I12: 1 | J12: 1 | K12: 1 | L12: =IF(SUM(C12:D12,F12:K12)=0,"",(SUM(C12:D12,F12:K12))) -> 41 | M12: =IFERROR(IF((F12+G12+H12+I12+J12+K12)=0,IF(C12+D12+E12=0,"",1),(C12+D12+E12)/(C12+D12+F12+G12+H12+I12+J12+K12)),"") -> 0.87804878 | N12: 391600
B13: 2. | C13: 8 | D13: 9 | E13: =IF(L13="","",MIN(N(I13),(L13*10%))) -> 2.7 | F13: 1 | G13: 1 | H13: 1 | I13: 5 | J13: 1 | K13: 1 | L13: =IF(SUM(C13:D13,F13:K13)=0,"",(SUM(C13:D13,F13:K13))) -> 27 | M13: =IFERROR(IF((F13+G13+H13+I13+J13+K13)=0,IF(C13+D13+E13=0,"",1),(C13+D13+E13)/(C13+D13+F13+G13+H13+I13+J13+K13)),"") -> 0.72962963 | N13: 392400 | O13: 391600 | S13: ◄Herkunftsnachweise im Tabellenblatt „Nachweisbuch“
B14: 3. | E14: =IF(L14="","",MIN(N(I14),(L14*10%))) | L14: =IF(SUM(C14:D14,F14:K14)=0,"",(SUM(C14:D14,F14:K14))) | M14: =IFERROR(IF((F14+G14+H14+I14+J14+K14)=0,IF(C14+D14+E14=0,"",1),(C14+D14+E14)/(C14+D14+F14+G14+H14+I14+J14+K14)),"")
B15: 4. | E15: =IF(L15="","",MIN(N(I15),(L15*10%))) | L15: =IF(SUM(C15:D15,F15:K15)=0,"",(SUM(C15:D15,F15:K15))) | M15: =IFERROR(IF((F15+G15+H15+I15+J15+K15)=0,IF(C15+D15+E15=0,"",1),(C15+D15+E15)/(C15+D15+F15+G15+H15+I15+J15+K15)),"")
B16: 5. | E16: =IF(L16="","",MIN(N(I16),(L16*10%))) | L16: =IF(SUM(C16:D16,F16:K16)=0,"",(SUM(C16:D16,F16:K16))) | M16: =IFERROR(IF((F16+G16+H16+I16+J16+K16)=0,IF(C16+D16+E16=0,"",1),(C16+D16+E16)/(C16+D16+F16+G16+H16+I16+J16+K16)),"") | S16: ◄Kleegras-Anrechnung: max. 10% der Gesamteinbringmenge auf Gülle-/Mist-Anteil(Masse-%)
B17: 6. | E17: =IF(L17="","",MIN(N(I17),(L17*10%))) | L17: =IF(SUM(C17:D17,F17:K17)=0,"",(SUM(C17:D17,F17:K17))) | M17: =IFERROR(IF((F17+G17+H17+I17+J17+K17)=0,IF(C17+D17+E17=0,"",1),(C17+D17+E17)/(C17+D17+F17+G17+H17+I17+J17+K17)),"")
B18: 7. | E18: =IF(L18="","",MIN(N(I18),(L18*10%))) | L18: =IF(SUM(C18:D18,F18:K18)=0,"",(SUM(C18:D18,F18:K18))) | M18: =IFERROR(IF((F18+G18+H18+I18+J18+K18)=0,IF(C18+D18+E18=0,"",1),(C18+D18+E18)/(C18+D18+F18+G18+H18+I18+J18+K18)),"")
B19: 8. | E19: =IF(L19="","",MIN(N(I19),(L19*10%))) | L19: =IF(SUM(C19:D19,F19:K19)=0,"",(SUM(C19:D19,F19:K19))) | M19: =IFERROR(IF((F19+G19+H19+I19+J19+K19)=0,IF(C19+D19+E19=0,"",1),(C19+D19+E19)/(C19+D19+F19+G19+H19+I19+J19+K19)),"") | S19: ◄Zählerstände sind je nach Netzbetreiber entweder täglich oder monatlich festzuhalten
B20: 9. | E20: =IF(L20="","",MIN(N(I20),(L20*10%))) | L20: =IF(SUM(C20:D20,F20:K20)=0,"",(SUM(C20:D20,F20:K20))) | M20: =IFERROR(IF((F20+G20+H20+I20+J20+K20)=0,IF(C20+D20+E20=0,"",1),(C20+D20+E20)/(C20+D20+F20+G20+H20+I20+J20+K20)),"")
B21: 10. | E21: =IF(L21="","",MIN(N(I21),(L21*10%))) | L21: =IF(SUM(C21:D21,F21:K21)=0,"",(SUM(C21:D21,F21:K21))) | M21: =IFERROR(IF((F21+G21+H21+I21+J21+K21)=0,IF(C21+D21+E21=0,"",1),(C21+D21+E21)/(C21+D21+F21+G21+H21+I21+J21+K21)),"")
B22: 11. | E22: =IF(L22="","",MIN(N(I22),(L22*10%))) | L22: =IF(SUM(C22:D22,F22:K22)=0,"",(SUM(C22:D22,F22:K22))) | M22: =IFERROR(IF((F22+G22+H22+I22+J22+K22)=0,IF(C22+D22+E22=0,"",1),(C22+D22+E22)/(C22+D22+F22+G22+H22+I22+J22+K22)),"")
B23: 12. | E23: =IF(L23="","",MIN(N(I23),(L23*10%))) | L23: =IF(SUM(C23:D23,F23:K23)=0,"",(SUM(C23:D23,F23:K23))) | M23: =IFERROR(IF((F23+G23+H23+I23+J23+K23)=0,IF(C23+D23+E23=0,"",1),(C23+D23+E23)/(C23+D23+F23+G23+H23+I23+J23+K23)),"")
B24: 13. | E24: =IF(L24="","",MIN(N(I24),(L24*10%))) | L24: =IF(SUM(C24:D24,F24:K24)=0,"",(SUM(C24:D24,F24:K24))) | M24: =IFERROR(IF((F24+G24+H24+I24+J24+K24)=0,IF(C24+D24+E24=0,"",1),(C24+D24+E24)/(C24+D24+F24+G24+H24+I24+J24+K24)),"")
B25: 14. | E25: =IF(L25="","",MIN(N(I25),(L25*10%))) | L25: =IF(SUM(C25:D25,F25:K25)=0,"",(SUM(C25:D25,F25:K25))) | M25: =IFERROR(IF((F25+G25+H25+I25+J25+K25)=0,IF(C25+D25+E25=0,"",1),(C25+D25+E25)/(C25+D25+F25+G25+H25+I25+J25+K25)),"")
B26: 15. | E26: =IF(L26="","",MIN(N(I26),(L26*10%))) | L26: =IF(SUM(C26:D26,F26:K26)=0,"",(SUM(C26:D26,F26:K26))) | M26: =IFERROR(IF((F26+G26+H26+I26+J26+K26)=0,IF(C26+D26+E26=0,"",1),(C26+D26+E26)/(C26+D26+F26+G26+H26+I26+J26+K26)),"")
B27: 16. | E27: =IF(L27="","",MIN(N(I27),(L27*10%))) | L27: =IF(SUM(C27:D27,F27:K27)=0,"",(SUM(C27:D27,F27:K27))) | M27: =IFERROR(IF((F27+G27+H27+I27+J27+K27)=0,IF(C27+D27+E27=0,"",1),(C27+D27+E27)/(C27+D27+F27+G27+H27+I27+J27+K27)),"")
B28: 17. | E28: =IF(L28="","",MIN(N(I28),(L28*10%))) | L28: =IF(SUM(C28:D28,F28:K28)=0,"",(SUM(C28:D28,F28:K28))) | M28: =IFERROR(IF((F28+G28+H28+I28+J28+K28)=0,IF(C28+D28+E28=0,"",1),(C28+D28+E28)/(C28+D28+F28+G28+H28+I28+J28+K28)),"")
B29: 18. | E29: =IF(L29="","",MIN(N(I29),(L29*10%))) | L29: =IF(SUM(C29:D29,F29:K29)=0,"",(SUM(C29:D29,F29:K29))) | M29: =IFERROR(IF((F29+G29+H29+I29+J29+K29)=0,IF(C29+D29+E29=0,"",1),(C29+D29+E29)/(C29+D29+F29+G29+H29+I29+J29+K29)),"")
B30: 19. | E30: =IF(L30="","",MIN(N(I30),(L30*10%))) | L30: =IF(SUM(C30:D30,F30:K30)=0,"",(SUM(C30:D30,F30:K30))) | M30: =IFERROR(IF((F30+G30+H30+I30+J30+K30)=0,IF(C30+D30+E30=0,"",1),(C30+D30+E30)/(C30+D30+F30+G30+H30+I30+J30+K30)),"")
B31: 20. | E31: =IF(L31="","",MIN(N(I31),(L31*10%))) | L31: =IF(SUM(C31:D31,F31:K31)=0,"",(SUM(C31:D31,F31:K31))) | M31: =IFERROR(IF((F31+G31+H31+I31+J31+K31)=0,IF(C31+D31+E31=0,"",1),(C31+D31+E31)/(C31+D31+F31+G31+H31+I31+J31+K31)),"")
... B38: 27. | E38: =IF(L38="","",MIN(N(I38),(L38*10%))) | L38: =IF(SUM(C38:D38,F38:K38)=0,"",(SUM(C38:D38,F38:K38))) | M38: =IFERROR(IF((F38+G38+H38+I38+J38+K38)=0,IF(C38+D38+E38=0,"",1),(C38+D38+E38)/(C38+D38+F38+G38+H38+I38+J38+K38)),"")
B39: 28. | E39: =IF(L39="","",MIN(N(I39),(L39*10%))) | L39: =IF(SUM(C39:D39,F39:K39)=0,"",(SUM(C39:D39,F39:K39))) | M39: =IFERROR(IF((F39+G39+H39+I39+J39+K39)=0,IF(C39+D39+E39=0,"",1),(C39+D39+E39)/(C39+D39+F39+G39+H39+I39+J39+K39)),"") | O39: Zählerstand Monatsende
B40: 29. | E40: =IF(L40="","",MIN(N(I40),(L40*10%))) | L40: =IF(SUM(C40:D40,F40:K40)=0,"",(SUM(C40:D40,F40:K40))) | M40: =IFERROR(IF((F40+G40+H40+I40+J40+K40)=0,IF(C40+D40+E40=0,"",1),(C40+D40+E40)/(C40+D40+F40+G40+H40+I40+J40+K40)),"")
B41: 30. | E41: =IF(L41="","",MIN(N(I41),(L41*10%))) | L41: =IF(SUM(C41:D41,F41:K41)=0,"",(SUM(C41:D41,F41:K41))) | M41: =IFERROR(IF((F41+G41+H41+I41+J41+K41)=0,IF(C41+D41+E41=0,"",1),(C41+D41+E41)/(C41+D41+F41+G41+H41+I41+J41+K41)),"") | O41: 445600
B42: 31. | E42: =IF(L42="","",MIN(N(I42),(L42*10%))) | L42: =IF(SUM(C42:D42,F42:K42)=0,"",(SUM(C42:D42,F42:K42))) | M42: =IFERROR(IF((F42+G42+H42+I42+J42+K42)=0,IF(C42+D42+E42=0,"",1),(C42+D42+E42)/(C42+D42+F42+G42+H42+I42+J42+K42)),"") | N42: 445600
B43: Summe | C43: =IF(SUM(C12:C42)=0,0,SUM(C12:C42)) -> 23 | D43: =IF(SUM(D12:D42)=0,0,SUM(D12:D42)) -> 29 | E43: =IF(SUM(E12:E42)=0,0,SUM(E12:E42)) -> 3.7 | F43: =IF(SUM(F12:F42)=0,0,SUM(F12:F42)) -> 2 | G43: =IF(SUM(G12:G42)=0,0,SUM(G12:G42)) -> 2 | H43: =IF(SUM(H12:H42)=0,0,SUM(H12:H42)) -> 2 | I43: =IF(SUM(I12:I42)=0,0,SUM(I12:I42)) -> 6 | J43: =IF(SUM(J12:J42)=0,0,SUM(J12:J42)) -> 2 | ... L43: =IF(SUM(L12:L42)=0,0,SUM(L12:L42)) -> 68 | M43: =IF((F43+G43+H43+I43+J43+K43)=0,IF(C43+D43=0,"",1),(C43+D43+E43)/(C43+D43+F43+G43+H43+I43+J43+K43)) -> 0.81911765 | N43: =IF(SUM(N42-N12,N12,N42)=0,"",SUM(N42-N12)) -> 54000 | O43: =IF(O41-O13=0,0,O41-O13) -> 54000
C44: Gülle + Mist ► | E44: =IF(SUM(C43:E43)=0,"",SUM(C43:E43)) -> 55.7 | J44: Summe Nawaro ► | K44: =IF(SUM(F43:K43)=0,"",SUM(F43:K43)) -> 16 | L44: ▲ Monatsdurchschnitt | N44: ▲ ▲ Produktion kW/h el.
B46: Hiermit bestätige ich, dass die Vorgaben des EEG und der Biomasseverordnung erfüllt und alle Einsatzstoffe vollständig und korrekt im Tagebuch eingetragen sind.
B47: Datum: | F47: Unterschrift:

Sheet September
N1: © NQ-Anlagentechnik GmbH | S1: ◄Einsatzstofftagebuch bitte täglich ausfüllen
S3: Zusätzlich evtl. tägliche handschriftliche Aufzeichnungen aubewahren, unabhängig von der äußeren Form! (z.B. eigene Listen, Kalender, Notitzblock, Strichlisten...)
B4: entspricht § 27 EEG Abs.4 Nr. 2 (Anlage 2 I.1.b)
B5: Name: | C5: Mustermann
B6: Firma: | C6: Musterfirma
B7: Jahr und Aufzeichnungsmonat: | G7: 2026 | H7: September | N7: 80% Gülle & Mist / 20% NawaRo
C9: Gülle & Mist | F9: + NawaRo | L9: = Gesamt
C10: Gülle | D10: Mist | E10: Kleegras (anteilig) | F10: Maissilage | G10: Grassilage | H10: GPS | I10: Kleegras | J10: … | K10: … | L10: Einbringmenge gesamt | M10: Masse-% Gülle & Mist | N10: kW/h el. | O10: kW/h el. | S10: ◄Die Beschriftung der Felder mit ... können verändert werden, falls andere Substrate wie zum Beispiel Kleegras eingesetzt werden! Zelle wählen + neuen Text eingeben
B11: Datum | C11: Tonnen pro Tag | D11: Tonnen pro Tag | E11: Tonnen pro Tag | F11: Tonnen pro Tag | G11: Tonnen pro Tag | H11: Tonnen pro Tag | I11: Tonnen pro Tag | J11: Tonnen pro Tag | K11: Tonnen pro Tag | L11: Tonnen pro Tag | M11: % pro Tag | N11: Zählerstand täglich | O11: Zählerstand Monatsanfang
B12: 1. | C12: 15 | D12: 20 | E12: =IF(L12="","",MIN(N(I12),(L12*10%))) -> 1 | F12: 1 | G12: 1 | H12: 1 | I12: 1 | J12: 1 | K12: 1 | L12: =IF(SUM(C12:D12,F12:K12)=0,"",(SUM(C12:D12,F12:K12))) -> 41 | M12: =IFERROR(IF((F12+G12+H12+I12+J12+K12)=0,IF(C12+D12+E12=0,"",1),(C12+D12+E12)/(C12+D12+F12+G12+H12+I12+J12+K12)),"") -> 0.87804878 | N12: 447400
B13: 2. | C13: 9 | D13: 10 | E13: =IF(L13="","",MIN(N(I13),(L13*10%))) -> 2.9 | F13: 1 | G13: 1 | H13: 1 | I13: 5 | J13: 1 | K13: 1 | L13: =IF(SUM(C13:D13,F13:K13)=0,"",(SUM(C13:D13,F13:K13))) -> 29 | M13: =IFERROR(IF((F13+G13+H13+I13+J13+K13)=0,IF(C13+D13+E13=0,"",1),(C13+D13+E13)/(C13+D13+F13+G13+H13+I13+J13+K13)),"") -> 0.75517241 | N13: 449200 | O13: 447400 | S13: ◄Herkunftsnachweise im Tabellenblatt „Nachweisbuch“
B14: 3. | E14: =IF(L14="","",MIN(N(I14),(L14*10%))) | L14: =IF(SUM(C14:D14,F14:K14)=0,"",(SUM(C14:D14,F14:K14))) | M14: =IFERROR(IF((F14+G14+H14+I14+J14+K14)=0,IF(C14+D14+E14=0,"",1),(C14+D14+E14)/(C14+D14+F14+G14+H14+I14+J14+K14)),"")
B15: 4. | E15: =IF(L15="","",MIN(N(I15),(L15*10%))) | L15: =IF(SUM(C15:D15,F15:K15)=0,"",(SUM(C15:D15,F15:K15))) | M15: =IFERROR(IF((F15+G15+H15+I15+J15+K15)=0,IF(C15+D15+E15=0,"",1),(C15+D15+E15)/(C15+D15+F15+G15+H15+I15+J15+K15)),"")
B16: 5. | E16: =IF(L16="","",MIN(N(I16),(L16*10%))) | L16: =IF(SUM(C16:D16,F16:K16)=0,"",(SUM(C16:D16,F16:K16))) | M16: =IFERROR(IF((F16+G16+H16+I16+J16+K16)=0,IF(C16+D16+E16=0,"",1),(C16+D16+E16)/(C16+D16+F16+G16+H16+I16+J16+K16)),"") | S16: ◄Kleegras-Anrechnung: max. 10% der Gesamteinbringmenge auf Gülle-/Mist-Anteil(Masse-%)
B17: 6. | E17: =IF(L17="","",MIN(N(I17),(L17*10%))) | L17: =IF(SUM(C17:D17,F17:K17)=0,"",(SUM(C17:D17,F17:K17))) | M17: =IFERROR(IF((F17+G17+H17+I17+J17+K17)=0,IF(C17+D17+E17=0,"",1),(C17+D17+E17)/(C17+D17+F17+G17+H17+I17+J17+K17)),"")
B18: 7. | E18: =IF(L18="","",MIN(N(I18),(L18*10%))) | L18: =IF(SUM(C18:D18,F18:K18)=0,"",(SUM(C18:D18,F18:K18))) | M18: =IFERROR(IF((F18+G18+H18+I18+J18+K18)=0,IF(C18+D18+E18=0,"",1),(C18+D18+E18)/(C18+D18+F18+G18+H18+I18+J18+K18)),"")
B19: 8. | E19: =IF(L19="","",MIN(N(I19),(L19*10%))) | L19: =IF(SUM(C19:D19,F19:K19)=0,"",(SUM(C19:D19,F19:K19))) | M19: =IFERROR(IF((F19+G19+H19+I19+J19+K19)=0,IF(C19+D19+E19=0,"",1),(C19+D19+E19)/(C19+D19+F19+G19+H19+I19+J19+K19)),"") | S19: ◄Zählerstände sind je nach Netzbetreiber entweder täglich oder monatlich festzuhalten
B20: 9. | E20: =IF(L20="","",MIN(N(I20),(L20*10%))) | L20: =IF(SUM(C20:D20,F20:K20)=0,"",(SUM(C20:D20,F20:K20))) | M20: =IFERROR(IF((F20+G20+H20+I20+J20+K20)=0,IF(C20+D20+E20=0,"",1),(C20+D20+E20)/(C20+D20+F20+G20+H20+I20+J20+K20)),"")
B21: 10. | E21: =IF(L21="","",MIN(N(I21),(L21*10%))) | L21: =IF(SUM(C21:D21,F21:K21)=0,"",(SUM(C21:D21,F21:K21))) | M21: =IFERROR(IF((F21+G21+H21+I21+J21+K21)=0,IF(C21+D21+E21=0,"",1),(C21+D21+E21)/(C21+D21+F21+G21+H21+I21+J21+K21)),"")
B22: 11. | E22: =IF(L22="","",MIN(N(I22),(L22*10%))) | L22: =IF(SUM(C22:D22,F22:K22)=0,"",(SUM(C22:D22,F22:K22))) | M22: =IFERROR(IF((F22+G22+H22+I22+J22+K22)=0,IF(C22+D22+E22=0,"",1),(C22+D22+E22)/(C22+D22+F22+G22+H22+I22+J22+K22)),"")
B23: 12. | E23: =IF(L23="","",MIN(N(I23),(L23*10%))) | L23: =IF(SUM(C23:D23,F23:K23)=0,"",(SUM(C23:D23,F23:K23))) | M23: =IFERROR(IF((F23+G23+H23+I23+J23+K23)=0,IF(C23+D23+E23=0,"",1),(C23+D23+E23)/(C23+D23+F23+G23+H23+I23+J23+K23)),"")
B24: 13. | E24: =IF(L24="","",MIN(N(I24),(L24*10%))) | L24: =IF(SUM(C24:D24,F24:K24)=0,"",(SUM(C24:D24,F24:K24))) | M24: =IFERROR(IF((F24+G24+H24+I24+J24+K24)=0,IF(C24+D24+E24=0,"",1),(C24+D24+E24)/(C24+D24+F24+G24+H24+I24+J24+K24)),"")
B25: 14. | E25: =IF(L25="","",MIN(N(I25),(L25*10%))) | L25: =IF(SUM(C25:D25,F25:K25)=0,"",(SUM(C25:D25,F25:K25))) | M25: =IFERROR(IF((F25+G25+H25+I25+J25+K25)=0,IF(C25+D25+E25=0,"",1),(C25+D25+E25)/(C25+D25+F25+G25+H25+I25+J25+K25)),"")
B26: 15. | E26: =IF(L26="","",MIN(N(I26),(L26*10%))) | L26: =IF(SUM(C26:D26,F26:K26)=0,"",(SUM(C26:D26,F26:K26))) | M26: =IFERROR(IF((F26+G26+H26+I26+J26+K26)=0,IF(C26+D26+E26=0,"",1),(C26+D26+E26)/(C26+D26+F26+G26+H26+I26+J26+K26)),"")
B27: 16. | E27: =IF(L27="","",MIN(N(I27),(L27*10%))) | L27: =IF(SUM(C27:D27,F27:K27)=0,"",(SUM(C27:D27,F27:K27))) | M27: =IFERROR(IF((F27+G27+H27+I27+J27+K27)=0,IF(C27+D27+E27=0,"",1),(C27+D27+E27)/(C27+D27+F27+G27+H27+I27+J27+K27)),"")
B28: 17. | E28: =IF(L28="","",MIN(N(I28),(L28*10%))) | L28: =IF(SUM(C28:D28,F28:K28)=0,"",(SUM(C28:D28,F28:K28))) | M28: =IFERROR(IF((F28+G28+H28+I28+J28+K28)=0,IF(C28+D28+E28=0,"",1),(C28+D28+E28)/(C28+D28+F28+G28+H28+I28+J28+K28)),"")
B29: 18. | E29: =IF(L29="","",MIN(N(I29),(L29*10%))) | L29: =IF(SUM(C29:D29,F29:K29)=0,"",(SUM(C29:D29,F29:K29))) | M29: =IFERROR(IF((F29+G29+H29+I29+J29+K29)=0,IF(C29+D29+E29=0,"",1),(C29+D29+E29)/(C29+D29+F29+G29+H29+I29+J29+K29)),"")
B30: 19. | E30: =IF(L30="","",MIN(N(I30),(L30*10%))) | L30: =IF(SUM(C30:D30,F30:K30)=0,"",(SUM(C30:D30,F30:K30))) | M30: =IFERROR(IF((F30+G30+H30+I30+J30+K30)=0,IF(C30+D30+E30=0,"",1),(C30+D30+E30)/(C30+D30+F30+G30+H30+I30+J30+K30)),"")
B31: 20. | E31: =IF(L31="","",MIN(N(I31),(L31*10%))) | L31: =IF(SUM(C31:D31,F31:K31)=0,"",(SUM(C31:D31,F31:K31))) | M31: =IFERROR(IF((F31+G31+H31+I31+J31+K31)=0,IF(C31+D31+E31=0,"",1),(C31+D31+E31)/(C31+D31+F31+G31+H31+I31+J31+K31)),"")
... B37: 26. | E37: =IF(L37="","",MIN(N(I37),(L37*10%))) | L37: =IF(SUM(C37:D37,F37:K37)=0,"",(SUM(C37:D37,F37:K37))) | M37: =IFERROR(IF((F37+G37+H37+I37+J37+K37)=0,IF(C37+D37+E37=0,"",1),(C37+D37+E37)/(C37+D37+F37+G37+H37+I37+J37+K37)),"")
B38: 27. | E38: =IF(L38="","",MIN(N(I38),(L38*10%))) | L38: =IF(SUM(C38:D38,F38:K38)=0,"",(SUM(C38:D38,F38:K38))) | M38: =IFERROR(IF((F38+G38+H38+I38+J38+K38)=0,IF(C38+D38+E38=0,"",1),(C38+D38+E38)/(C38+D38+F38+G38+H38+I38+J38+K38)),"") | O38: Zählerstand Monatsende
B39: 28. | E39: =IF(L39="","",MIN(N(I39),(L39*10%))) | L39: =IF(SUM(C39:D39,F39:K39)=0,"",(SUM(C39:D39,F39:K39))) | M39: =IFERROR(IF((F39+G39+H39+I39+J39+K39)=0,IF(C39+D39+E39=0,"",1),(C39+D39+E39)/(C39+D39+F39+G39+H39+I39+J39+K39)),"")
B40: 29. | E40: =IF(L40="","",MIN(N(I40),(L40*10%))) | L40: =IF(SUM(C40:D40,F40:K40)=0,"",(SUM(C40:D40,F40:K40))) | M40: =IFERROR(IF((F40+G40+H40+I40+J40+K40)=0,IF(C40+D40+E40=0,"",1),(C40+D40+E40)/(C40+D40+F40+G40+H40+I40+J40+K40)),"") | O40: 501400
B41: 30. | E41: =IF(L41="","",MIN(N(I41),(L41*10%))) | L41: =IF(SUM(C41:D41,F41:K41)=0,"",(SUM(C41:D41,F41:K41))) | M41: =IFERROR(IF((F41+G41+H41+I41+J41+K41)=0,IF(C41+D41+E41=0,"",1),(C41+D41+E41)/(C41+D41+F41+G41+H41+I41+J41+K41)),"") | N41: 501400
B42: Summe | C42: =IF(SUM(C12:C41)=0,0,SUM(C12:C41)) -> 24 | D42: =IF(SUM(D12:D41)=0,0,SUM(D12:D41)) -> 30 | E42: =IF(SUM(E12:E41)=0,0,SUM(E12:E41)) -> 3.9 | F42: =IF(SUM(F12:F41)=0,0,SUM(F12:F41)) -> 2 | G42: =IF(SUM(G12:G41)=0,0,SUM(G12:G41)) -> 2 | H42: =IF(SUM(H12:H41)=0,0,SUM(H12:H41)) -> 2 | I42: =IF(SUM(I12:I41)=0,0,SUM(I12:I41)) -> 6 | J42: =IF(SUM(J12:J41)=0,0,SUM(J12:J41)) -> 2 | ... L42: =IF(SUM(L12:L41)=0,0,SUM(L12:L41)) -> 70 | M42: =IF((F42+G42+H42+I42+J42+K42)=0,IF(C42+D42=0,"",1),(C42+D42+E42)/(C42+D42+F42+G42+H42+I42+J42+K42)) -> 0.82714286 | N42: =IF(SUM(N41-N12,N12,N41)=0,"",SUM(N41-N12)) -> 54000 | O42: =IF(O40-O13=0,0,O40-O13) -> 54000
C43: Gülle + Mist ► | E43: =IF(SUM(C42:E42)=0,"",SUM(C42:E42)) -> 57.9 | J43: Summe Nawaro ► | K43: =IF(SUM(F42:K42)=0,"",SUM(F42:K42)) -> 16 | L43: ▲ Monatsdurchschnitt | N43: ▲ ▲ Produktion kW/h el.
B45: Hiermit bestätige ich, dass die Vorgaben des EEG und der Biomasseverordnung erfüllt und alle Einsatzstoffe vollständig und korrekt im Tagebuch eingetragen sind.
B46: Datum: | F46: Unterschrift:

Sheet Oktober
N1: © NQ-Anlagentechnik GmbH | S1: ◄Einsatzstofftagebuch bitte täglich ausfüllen
S3: Zusätzlich evtl. tägliche handschriftliche Aufzeichnungen aubewahren, unabhängig von der äußeren Form! (z.B. eigene Listen, Kalender, Notitzblock, Strichlisten...)
B4: entspricht § 27 EEG Abs.4 Nr. 2 (Anlage 2 I.1.b)
B5: Name: | C5: Mustermann
B6: Firma: | C6: Musterfirma
B7: Jahr und Aufzeichnungsmonat: | G7: 2026 | H7: Oktober | N7: 80% Gülle & Mist / 20% NawaRo
C9: Gülle & Mist | F9: + NawaRo | L9: = Gesamt
C10: Gülle | D10: Mist | E10: Kleegras (anteilig) | F10: Maissilage | G10: Grassilage | H10: GPS | I10: Kleegras | J10: … | K10: … | L10: Einbringmenge gesamt | M10: Masse-% Gülle & Mist | N10: kW/h el. | O10: kW/h el. | S10: ◄Die Beschriftung der Felder mit ... können verändert werden, falls andere Substrate wie zum Beispiel Kleegras eingesetzt werden! Zelle wählen + neuen Text eingeben
B11: Datum | C11: Tonnen pro Tag | D11: Tonnen pro Tag | E11: Tonnen pro Tag | F11: Tonnen pro Tag | G11: Tonnen pro Tag | H11: Tonnen pro Tag | I11: Tonnen pro Tag | J11: Tonnen pro Tag | K11: Tonnen pro Tag | L11: Tonnen pro Tag | M11: % pro Tag | N11: Zählerstand täglich | O11: Zählerstand Monatsanfang
B12: 1. | C12: 15 | D12: 20 | E12: =IF(L12="","",MIN(N(I12),(L12*10%))) -> 1 | F12: 1 | G12: 1 | H12: 1 | I12: 1 | J12: 1 | K12: 1 | L12: =IF(SUM(C12:D12,F12:K12)=0,"",(SUM(C12:D12,F12:K12))) -> 41 | M12: =IFERROR(IF((F12+G12+H12+I12+J12+K12)=0,IF(C12+D12+E12=0,"",1),(C12+D12+E12)/(C12+D12+F12+G12+H12+I12+J12+K12)),"") -> 0.87804878 | N12: 503200
B13: 2. | C13: 10 | D13: 11 | E13: =IF(L13="","",MIN(N(I13),(L13*10%))) -> 3.1 | F13: 1 | G13: 1 | H13: 1 | I13: 5 | J13: 1 | K13: 1 | L13: =IF(SUM(C13:D13,F13:K13)=0,"",(SUM(C13:D13,F13:K13))) -> 31 | M13: =IFERROR(IF((F13+G13+H13+I13+J13+K13)=0,IF(C13+D13+E13=0,"",1),(C13+D13+E13)/(C13+D13+F13+G13+H13+I13+J13+K13)),"") -> 0.77741935 | N13: 505000 | O13: 503200 | S13: ◄Herkunftsnachweise im Tabellenblatt „Nachweisbuch“
B14: 3. | E14: =IF(L14="","",MIN(N(I14),(L14*10%))) | L14: =IF(SUM(C14:D14,F14:K14)=0,"",(SUM(C14:D14,F14:K14))) | M14: =IFERROR(IF((F14+G14+H14+I14+J14+K14)=0,IF(C14+D14+E14=0,"",1),(C14+D14+E14)/(C14+D14+F14+G14+H14+I14+J14+K14)),"")
B15: 4. | E15: =IF(L15="","",MIN(N(I15),(L15*10%))) | L15: =IF(SUM(C15:D15,F15:K15)=0,"",(SUM(C15:D15,F15:K15))) | M15: =IFERROR(IF((F15+G15+H15+I15+J15+K15)=0,IF(C15+D15+E15=0,"",1),(C15+D15+E15)/(C15+D15+F15+G15+H15+I15+J15+K15)),"")
B16: 5. | E16: =IF(L16="","",MIN(N(I16),(L16*10%))) | L16: =IF(SUM(C16:D16,F16:K16)=0,"",(SUM(C16:D16,F16:K16))) | M16: =IFERROR(IF((F16+G16+H16+I16+J16+K16)=0,IF(C16+D16+E16=0,"",1),(C16+D16+E16)/(C16+D16+F16+G16+H16+I16+J16+K16)),"") | S16: ◄Kleegras-Anrechnung: max. 10% der Gesamteinbringmenge auf Gülle-/Mist-Anteil(Masse-%)
B17: 6. | E17: =IF(L17="","",MIN(N(I17),(L17*10%))) | L17: =IF(SUM(C17:D17,F17:K17)=0,"",(SUM(C17:D17,F17:K17))) | M17: =IFERROR(IF((F17+G17+H17+I17+J17+K17)=0,IF(C17+D17+E17=0,"",1),(C17+D17+E17)/(C17+D17+F17+G17+H17+I17+J17+K17)),"")
B18: 7. | E18: =IF(L18="","",MIN(N(I18),(L18*10%))) | L18: =IF(SUM(C18:D18,F18:K18)=0,"",(SUM(C18:D18,F18:K18))) | M18: =IFERROR(IF((F18+G18+H18+I18+J18+K18)=0,IF(C18+D18+E18=0,"",1),(C18+D18+E18)/(C18+D18+F18+G18+H18+I18+J18+K18)),"")
B19: 8. | E19: =IF(L19="","",MIN(N(I19),(L19*10%))) | L19: =IF(SUM(C19:D19,F19:K19)=0,"",(SUM(C19:D19,F19:K19))) | M19: =IFERROR(IF((F19+G19+H19+I19+J19+K19)=0,IF(C19+D19+E19=0,"",1),(C19+D19+E19)/(C19+D19+F19+G19+H19+I19+J19+K19)),"") | S19: ◄Zählerstände sind je nach Netzbetreiber entweder täglich oder monatlich festzuhalten
B20: 9. | E20: =IF(L20="","",MIN(N(I20),(L20*10%))) | L20: =IF(SUM(C20:D20,F20:K20)=0,"",(SUM(C20:D20,F20:K20))) | M20: =IFERROR(IF((F20+G20+H20+I20+J20+K20)=0,IF(C20+D20+E20=0,"",1),(C20+D20+E20)/(C20+D20+F20+G20+H20+I20+J20+K20)),"")
B21: 10. | E21: =IF(L21="","",MIN(N(I21),(L21*10%))) | L21: =IF(SUM(C21:D21,F21:K21)=0,"",(SUM(C21:D21,F21:K21))) | M21: =IFERROR(IF((F21+G21+H21+I21+J21+K21)=0,IF(C21+D21+E21=0,"",1),(C21+D21+E21)/(C21+D21+F21+G21+H21+I21+J21+K21)),"")
B22: 11. | E22: =IF(L22="","",MIN(N(I22),(L22*10%))) | L22: =IF(SUM(C22:D22,F22:K22)=0,"",(SUM(C22:D22,F22:K22))) | M22: =IFERROR(IF((F22+G22+H22+I22+J22+K22)=0,IF(C22+D22+E22=0,"",1),(C22+D22+E22)/(C22+D22+F22+G22+H22+I22+J22+K22)),"")
B23: 12. | E23: =IF(L23="","",MIN(N(I23),(L23*10%))) | L23: =IF(SUM(C23:D23,F23:K23)=0,"",(SUM(C23:D23,F23:K23))) | M23: =IFERROR(IF((F23+G23+H23+I23+J23+K23)=0,IF(C23+D23+E23=0,"",1),(C23+D23+E23)/(C23+D23+F23+G23+H23+I23+J23+K23)),"")
B24: 13. | E24: =IF(L24="","",MIN(N(I24),(L24*10%))) | L24: =IF(SUM(C24:D24,F24:K24)=0,"",(SUM(C24:D24,F24:K24))) | M24: =IFERROR(IF((F24+G24+H24+I24+J24+K24)=0,IF(C24+D24+E24=0,"",1),(C24+D24+E24)/(C24+D24+F24+G24+H24+I24+J24+K24)),"")
B25: 14. | E25: =IF(L25="","",MIN(N(I25),(L25*10%))) | L25: =IF(SUM(C25:D25,F25:K25)=0,"",(SUM(C25:D25,F25:K25))) | M25: =IFERROR(IF((F25+G25+H25+I25+J25+K25)=0,IF(C25+D25+E25=0,"",1),(C25+D25+E25)/(C25+D25+F25+G25+H25+I25+J25+K25)),"")
B26: 15. | E26: =IF(L26="","",MIN(N(I26),(L26*10%))) | L26: =IF(SUM(C26:D26,F26:K26)=0,"",(SUM(C26:D26,F26:K26))) | M26: =IFERROR(IF((F26+G26+H26+I26+J26+K26)=0,IF(C26+D26+E26=0,"",1),(C26+D26+E26)/(C26+D26+F26+G26+H26+I26+J26+K26)),"")
B27: 16. | E27: =IF(L27="","",MIN(N(I27),(L27*10%))) | L27: =IF(SUM(C27:D27,F27:K27)=0,"",(SUM(C27:D27,F27:K27))) | M27: =IFERROR(IF((F27+G27+H27+I27+J27+K27)=0,IF(C27+D27+E27=0,"",1),(C27+D27+E27)/(C27+D27+F27+G27+H27+I27+J27+K27)),"")
B28: 17. | E28: =IF(L28="","",MIN(N(I28),(L28*10%))) | L28: =IF(SUM(C28:D28,F28:K28)=0,"",(SUM(C28:D28,F28:K28))) | M28: =IFERROR(IF((F28+G28+H28+I28+J28+K28)=0,IF(C28+D28+E28=0,"",1),(C28+D28+E28)/(C28+D28+F28+G28+H28+I28+J28+K28)),"")
B29: 18. | E29: =IF(L29="","",MIN(N(I29),(L29*10%))) | L29: =IF(SUM(C29:D29,F29:K29)=0,"",(SUM(C29:D29,F29:K29))) | M29: =IFERROR(IF((F29+G29+H29+I29+J29+K29)=0,IF(C29+D29+E29=0,"",1),(C29+D29+E29)/(C29+D29+F29+G29+H29+I29+J29+K29)),"")
B30: 19. | E30: =IF(L30="","",MIN(N(I30),(L30*10%))) | L30: =IF(SUM(C30:D30,F30:K30)=0,"",(SUM(C30:D30,F30:K30))) | M30: =IFERROR(IF((F30+G30+H30+I30+J30+K30)=0,IF(C30+D30+E30=0,"",1),(C30+D30+E30)/(C30+D30+F30+G30+H30+I30+J30+K30)),"")
B31: 20. | E31: =IF(L31="","",MIN(N(I31),(L31*10%))) | L31: =IF(SUM(C31:D31,F31:K31)=0,"",(SUM(C31:D31,F31:K31))) | M31: =IFERROR(IF((F31+G31+H31+I31+J31+K31)=0,IF(C31+D31+E31=0,"",1),(C31+D31+E31)/(C31+D31+F31+G31+H31+I31+J31+K31)),"")
... B37: 26. | E37: =IF(L37="","",MIN(N(I37),(L37*10%))) | L37: =IF(SUM(C37:D37,F37:K37)=0,"",(SUM(C37:D37,F37:K37))) | M37: =IFERROR(IF((F37+G37+H37+I37+J37+K37)=0,IF(C37+D37+E37=0,"",1),(C37+D37+E37)/(C37+D37+F37+G37+H37+I37+J37+K37)),"")
B38: 27. | E38: =IF(L38="","",MIN(N(I38),(L38*10%))) | L38: =IF(SUM(C38:D38,F38:K38)=0,"",(SUM(C38:D38,F38:K38)))
B39: 28. | E39: =IF(L39="","",MIN(N(I39),(L39*10%))) | L39: =IF(SUM(C39:D39,F39:K39)=0,"",(SUM(C39:D39,F39:K39))) | M39: =IFERROR(IF((F39+G39+H39+I39+J39+K39)=0,IF(C39+D39+E39=0,"",1),(C39+D39+E39)/(C39+D39+F39+G39+H39+I39+J39+K39)),"") | O39: Zählerstand Monatsende
B40: 29. | E40: =IF(L40="","",MIN(N(I40),(L40*10%))) | L40: =IF(SUM(C40:D40,F40:K40)=0,"",(SUM(C40:D40,F40:K40))) | M40: =IFERROR(IF((F40+G40+H40+I40+J40+K40)=0,IF(C40+D40+E40=0,"",1),(C40+D40+E40)/(C40+D40+F40+G40+H40+I40+J40+K40)),"")
B41: 30. | E41: =IF(L41="","",MIN(N(I41),(L41*10%))) | L41: =IF(SUM(C41:D41,F41:K41)=0,"",(SUM(C41:D41,F41:K41))) | M41: =IFERROR(IF((F41+G41+H41+I41+J41+K41)=0,IF(C41+D41+E41=0,"",1),(C41+D41+E41)/(C41+D41+F41+G41+H41+I41+J41+K41)),"") | O41: 557200
B42: 31. | E42: =IF(L42="","",MIN(N(I42),(L42*10%))) | L42: =IF(SUM(C42:D42,F42:K42)=0,"",(SUM(C42:D42,F42:K42))) | M42: =IFERROR(IF((F42+G42+H42+I42+J42+K42)=0,IF(C42+D42+E42=0,"",1),(C42+D42+E42)/(C42+D42+F42+G42+H42+I42+J42+K42)),"") | N42: 557200
B43: Summe | C43: =IF(SUM(C12:C42)=0,0,SUM(C12:C42)) -> 25 | D43: =IF(SUM(D12:D42)=0,0,SUM(D12:D42)) -> 31 | E43: =IF(SUM(E12:E42)=0,0,SUM(E12:E42)) -> 4.1 | F43: =IF(SUM(F12:F42)=0,0,SUM(F12:F42)) -> 2 | G43: =IF(SUM(G12:G42)=0,0,SUM(G12:G42)) -> 2 | H43: =IF(SUM(H12:H42)=0,0,SUM(H12:H42)) -> 2 | I43: =IF(SUM(I12:I42)=0,0,SUM(I12:I42)) -> 6 | J43: =IF(SUM(J12:J42)=0,0,SUM(J12:J42)) -> 2 | ... L43: =IF(SUM(L12:L42)=0,0,SUM(L12:L42)) -> 72 | M43: =IF((F43+G43+H43+I43+J43+K43)=0,IF(C43+D43=0,"",1),(C43+D43+E43)/(C43+D43+F43+G43+H43+I43+J43+K43)) -> 0.83472222 | N43: =IF(SUM(N42-N12,N12,N42)=0,"",SUM(N42-N12)) -> 54000 | O43: =IF(O41-O13=0,0,O41-O13) -> 54000
C44: Gülle + Mist ► | E44: =IF(SUM(C43:E43)=0,"",SUM(C43:E43)) -> 60.1 | J44: Summe Nawaro ► | K44: =IF(SUM(F43:K43)=0,"",SUM(F43:K43)) -> 16 | L44: ▲ Monatsdurchschnitt | N44: ▲ ▲ Produktion kW/h el.
B46: Hiermit bestätige ich, dass die Vorgaben des EEG und der Biomasseverordnung erfüllt und alle Einsatzstoffe vollständig und korrekt im Tagebuch eingetragen sind.
B47: Datum: | F47: Unterschrift:

Sheet November
N1: © NQ-Anlagentechnik GmbH | S1: ◄Einsatzstofftagebuch bitte täglich ausfüllen
S3: Zusätzlich evtl. tägliche handschriftliche Aufzeichnungen aubewahren, unabhängig von der äußeren Form! (z.B. eigene Listen, Kalender, Notitzblock, Strichlisten...)
B4: entspricht § 27 EEG Abs.4 Nr. 2 (Anlage 2 I.1.b)
B5: Name: | C5: Mustermann
B6: Firma: | C6: Musterfirma
B7: Jahr und Aufzeichnungsmonat: | G7: 2026 | H7: November | N7: 80% Gülle & Mist / 20% NawaRo
C9: Gülle & Mist | F9: + NawaRo | L9: = Gesamt
C10: Gülle | D10: Mist | E10: Kleegras (anteilig) | F10: Maissilage | G10: Grassilage | H10: GPS | I10: Kleegras | J10: … | K10: … | L10: Einbringmenge gesamt | M10: Masse-% Gülle & Mist | N10: kW/h el. | O10: kW/h el. | S10: ◄Die Beschriftung der Felder mit ... können verändert werden, falls andere Substrate wie zum Beispiel Kleegras eingesetzt werden! Zelle wählen + neuen Text eingeben
B11: Datum | C11: Tonnen pro Tag | D11: Tonnen pro Tag | E11: Tonnen pro Tag | F11: Tonnen pro Tag | G11: Tonnen pro Tag | H11: Tonnen pro Tag | I11: Tonnen pro Tag | J11: Tonnen pro Tag | K11: Tonnen pro Tag | L11: Tonnen pro Tag | M11: % pro Tag | N11: Zählerstand täglich | O11: Zählerstand Monatsanfang
B12: 1. | C12: 15 | D12: 20 | E12: =IF(L12="","",MIN(N(I12),(L12*10%))) -> 1 | F12: 1 | G12: 1 | H12: 1 | I12: 1 | J12: 1 | K12: 1 | L12: =IF(SUM(C12:D12,F12:K12)=0,"",(SUM(C12:D12,F12:K12))) -> 41 | M12: =IFERROR(IF((F12+G12+H12+I12+J12+K12)=0,IF(C12+D12+E12=0,"",1),(C12+D12+E12)/(C12+D12+F12+G12+H12+I12+J12+K12)),"") -> 0.87804878 | N12: 559000
B13: 2. | C13: 11 | D13: 12 | E13: =IF(L13="","",MIN(N(I13),(L13*10%))) -> 3.3 | F13: 1 | G13: 1 | H13: 1 | I13: 5 | J13: 1 | K13: 1 | L13: =IF(SUM(C13:D13,F13:K13)=0,"",(SUM(C13:D13,F13:K13))) -> 33 | M13: =IFERROR(IF((F13+G13+H13+I13+J13+K13)=0,IF(C13+D13+E13=0,"",1),(C13+D13+E13)/(C13+D13+F13+G13+H13+I13+J13+K13)),"") -> 0.7969697 | N13: 560800 | O13: 559000 | S13: ◄Herkunftsnachweise im Tabellenblatt „Nachweisbuch“
B14: 3. | E14: =IF(L14="","",MIN(N(I14),(L14*10%))) | L14: =IF(SUM(C14:D14,F14:K14)=0,"",(SUM(C14:D14,F14:K14))) | M14: =IFERROR(IF((F14+G14+H14+I14+J14+K14)=0,IF(C14+D14+E14=0,"",1),(C14+D14+E14)/(C14+D14+F14+G14+H14+I14+J14+K14)),"")
B15: 4. | E15: =IF(L15="","",MIN(N(I15),(L15*10%))) | L15: =IF(SUM(C15:D15,F15:K15)=0,"",(SUM(C15:D15,F15:K15))) | M15: =IFERROR(IF((F15+G15+H15+I15+J15+K15)=0,IF(C15+D15+E15=0,"",1),(C15+D15+E15)/(C15+D15+F15+G15+H15+I15+J15+K15)),"")
B16: 5. | E16: =IF(L16="","",MIN(N(I16),(L16*10%))) | L16: =IF(SUM(C16:D16,F16:K16)=0,"",(SUM(C16:D16,F16:K16))) | M16: =IFERROR(IF((F16+G16+H16+I16+J16+K16)=0,IF(C16+D16+E16=0,"",1),(C16+D16+E16)/(C16+D16+F16+G16+H16+I16+J16+K16)),"") | S16: ◄Kleegras-Anrechnung: max. 10% der Gesamteinbringmenge auf Gülle-/Mist-Anteil(Masse-%)
B17: 6. | E17: =IF(L17="","",MIN(N(I17),(L17*10%))) | L17: =IF(SUM(C17:D17,F17:K17)=0,"",(SUM(C17:D17,F17:K17))) | M17: =IFERROR(IF((F17+G17+H17+I17+J17+K17)=0,IF(C17+D17+E17=0,"",1),(C17+D17+E17)/(C17+D17+F17+G17+H17+I17+J17+K17)),"")
B18: 7. | E18: =IF(L18="","",MIN(N(I18),(L18*10%))) | L18: =IF(SUM(C18:D18,F18:K18)=0,"",(SUM(C18:D18,F18:K18))) | M18: =IFERROR(IF((F18+G18+H18+I18+J18+K18)=0,IF(C18+D18+E18=0,"",1),(C18+D18+E18)/(C18+D18+F18+G18+H18+I18+J18+K18)),"")
B19: 8. | E19: =IF(L19="","",MIN(N(I19),(L19*10%))) | L19: =IF(SUM(C19:D19,F19:K19)=0,"",(SUM(C19:D19,F19:K19))) | M19: =IFERROR(IF((F19+G19+H19+I19+J19+K19)=0,IF(C19+D19+E19=0,"",1),(C19+D19+E19)/(C19+D19+F19+G19+H19+I19+J19+K19)),"") | S19: ◄Zählerstände sind je nach Netzbetreiber entweder täglich oder monatlich festzuhalten
B20: 9. | E20: =IF(L20="","",MIN(N(I20),(L20*10%))) | L20: =IF(SUM(C20:D20,F20:K20)=0,"",(SUM(C20:D20,F20:K20))) | M20: =IFERROR(IF((F20+G20+H20+I20+J20+K20)=0,IF(C20+D20+E20=0,"",1),(C20+D20+E20)/(C20+D20+F20+G20+H20+I20+J20+K20)),"")
B21: 10. | E21: =IF(L21="","",MIN(N(I21),(L21*10%))) | L21: =IF(SUM(C21:D21,F21:K21)=0,"",(SUM(C21:D21,F21:K21))) | M21: =IFERROR(IF((F21+G21+H21+I21+J21+K21)=0,IF(C21+D21+E21=0,"",1),(C21+D21+E21)/(C21+D21+F21+G21+H21+I21+J21+K21)),"")
B22: 11. | E22: =IF(L22="","",MIN(N(I22),(L22*10%))) | L22: =IF(SUM(C22:D22,F22:K22)=0,"",(SUM(C22:D22,F22:K22))) | M22: =IFERROR(IF((F22+G22+H22+I22+J22+K22)=0,IF(C22+D22+E22=0,"",1),(C22+D22+E22)/(C22+D22+F22+G22+H22+I22+J22+K22)),"")
B23: 12. | E23: =IF(L23="","",MIN(N(I23),(L23*10%))) | L23: =IF(SUM(C23:D23,F23:K23)=0,"",(SUM(C23:D23,F23:K23))) | M23: =IFERROR(IF((F23+G23+H23+I23+J23+K23)=0,IF(C23+D23+E23=0,"",1),(C23+D23+E23)/(C23+D23+F23+G23+H23+I23+J23+K23)),"")
B24: 13. | E24: =IF(L24="","",MIN(N(I24),(L24*10%))) | L24: =IF(SUM(C24:D24,F24:K24)=0,"",(SUM(C24:D24,F24:K24))) | M24: =IFERROR(IF((F24+G24+H24+I24+J24+K24)=0,IF(C24+D24+E24=0,"",1),(C24+D24+E24)/(C24+D24+F24+G24+H24+I24+J24+K24)),"")
B25: 14. | E25: =IF(L25="","",MIN(N(I25),(L25*10%))) | L25: =IF(SUM(C25:D25,F25:K25)=0,"",(SUM(C25:D25,F25:K25))) | M25: =IFERROR(IF((F25+G25+H25+I25+J25+K25)=0,IF(C25+D25+E25=0,"",1),(C25+D25+E25)/(C25+D25+F25+G25+H25+I25+J25+K25)),"")
B26: 15. | E26: =IF(L26="","",MIN(N(I26),(L26*10%))) | L26: =IF(SUM(C26:D26,F26:K26)=0,"",(SUM(C26:D26,F26:K26))) | M26: =IFERROR(IF((F26+G26+H26+I26+J26+K26)=0,IF(C26+D26+E26=0,"",1),(C26+D26+E26)/(C26+D26+F26+G26+H26+I26+J26+K26)),"")
B27: 16. | E27: =IF(L27="","",MIN(N(I27),(L27*10%))) | L27: =IF(SUM(C27:D27,F27:K27)=0,"",(SUM(C27:D27,F27:K27))) | M27: =IFERROR(IF((F27+G27+H27+I27+J27+K27)=0,IF(C27+D27+E27=0,"",1),(C27+D27+E27)/(C27+D27+F27+G27+H27+I27+J27+K27)),"")
B28: 17. | E28: =IF(L28="","",MIN(N(I28),(L28*10%))) | L28: =IF(SUM(C28:D28,F28:K28)=0,"",(SUM(C28:D28,F28:K28))) | M28: =IFERROR(IF((F28+G28+H28+I28+J28+K28)=0,IF(C28+D28+E28=0,"",1),(C28+D28+E28)/(C28+D28+F28+G28+H28+I28+J28+K28)),"")
B29: 18. | E29: =IF(L29="","",MIN(N(I29),(L29*10%))) | L29: =IF(SUM(C29:D29,F29:K29)=0,"",(SUM(C29:D29,F29:K29))) | M29: =IFERROR(IF((F29+G29+H29+I29+J29+K29)=0,IF(C29+D29+E29=0,"",1),(C29+D29+E29)/(C29+D29+F29+G29+H29+I29+J29+K29)),"")
B30: 19. | E30: =IF(L30="","",MIN(N(I30),(L30*10%))) | L30: =IF(SUM(C30:D30,F30:K30)=0,"",(SUM(C30:D30,F30:K30))) | M30: =IFERROR(IF((F30+G30+H30+I30+J30+K30)=0,IF(C30+D30+E30=0,"",1),(C30+D30+E30)/(C30+D30+F30+G30+H30+I30+J30+K30)),"")
B31: 20. | E31: =IF(L31="","",MIN(N(I31),(L31*10%))) | L31: =IF(SUM(C31:D31,F31:K31)=0,"",(SUM(C31:D31,F31:K31))) | M31: =IFERROR(IF((F31+G31+H31+I31+J31+K31)=0,IF(C31+D31+E31=0,"",1),(C31+D31+E31)/(C31+D31+F31+G31+H31+I31+J31+K31)),"")
... B37: 26. | E37: =IF(L37="","",MIN(N(I37),(L37*10%))) | L37: =IF(SUM(C37:D37,F37:K37)=0,"",(SUM(C37:D37,F37:K37))) | M37: =IFERROR(IF((F37+G37+H37+I37+J37+K37)=0,IF(C37+D37+E37=0,"",1),(C37+D37+E37)/(C37+D37+F37+G37+H37+I37+J37+K37)),"")
B38: 27. | E38: =IF(L38="","",MIN(N(I38),(L38*10%))) | L38: =IF(SUM(C38:D38,F38:K38)=0,"",(SUM(C38:D38,F38:K38))) | M38: =IFERROR(IF((F38+G38+H38+I38+J38+K38)=0,IF(C38+D38+E38=0,"",1),(C38+D38+E38)/(C38+D38+F38+G38+H38+I38+J38+K38)),"") | O38: Zählerstand Monatsende
B39: 28. | E39: =IF(L39="","",MIN(N(I39),(L39*10%))) | L39: =IF(SUM(C39:D39,F39:K39)=0,"",(SUM(C39:D39,F39:K39))) | M39: =IFERROR(IF((F39+G39+H39+I39+J39+K39)=0,IF(C39+D39+E39=0,"",1),(C39+D39+E39)/(C39+D39+F39+G39+H39+I39+J39+K39)),"")
B40: 29. | E40: =IF(L40="","",MIN(N(I40),(L40*10%))) | L40: =IF(SUM(C40:D40,F40:K40)=0,"",(SUM(C40:D40,F40:K40))) | M40: =IFERROR(IF((F40+G40+H40+I40+J40+K40)=0,IF(C40+D40+E40=0,"",1),(C40+D40+E40)/(C40+D40+F40+G40+H40+I40+J40+K40)),"") | O40: 613000
B41: 30. | E41: =IF(L41="","",MIN(N(I41),(L41*10%))) | L41: =IF(SUM(C41:D41,F41:K41)=0,"",(SUM(C41:D41,F41:K41))) | M41: =IFERROR(IF((F41+G41+H41+I41+J41+K41)=0,IF(C41+D41+E41=0,"",1),(C41+D41+E41)/(C41+D41+F41+G41+H41+I41+J41+K41)),"") | N41: 613000
B42: Summe | C42: =IF(SUM(C12:C41)=0,0,SUM(C12:C41)) -> 26 | D42: =IF(SUM(D12:D41)=0,0,SUM(D12:D41)) -> 32 | E42: =IF(SUM(E12:E41)=0,0,SUM(E12:E41)) -> 4.3 | F42: =IF(SUM(F12:F41)=0,0,SUM(F12:F41)) -> 2 | G42: =IF(SUM(G12:G41)=0,0,SUM(G12:G41)) -> 2 | H42: =IF(SUM(H12:H41)=0,0,SUM(H12:H41)) -> 2 | I42: =IF(SUM(I12:I41)=0,0,SUM(I12:I41)) -> 6 | J42: =IF(SUM(J12:J41)=0,0,SUM(J12:J41)) -> 2 | ... L42: =IF(SUM(L12:L41)=0,0,SUM(L12:L41)) -> 74 | M42: =IF((F42+G42+H42+I42+J42+K42)=0,IF(C42+D42=0,"",1),(C42+D42+E42)/(C42+D42+F42+G42+H42+I42+J42+K42)) -> 0.84189189 | N42: =IF(SUM(N41-N12,N12,N41)=0,"",SUM(N41-N12)) -> 54000 | O42: =IF(O40-O13=0,0,O40-O13) -> 54000
C43: Gülle + Mist ► | E43: =IF(SUM(C42:E42)=0,"",SUM(C42:E42)) -> 62.3 | J43: Summe Nawaro ► | K43: =IF(SUM(F42:K42)=0,"",SUM(F42:K42)) -> 16 | L43: ▲ Monatsdurchschnitt | N43: ▲ ▲ Produktion kW/h el.
B45: Hiermit bestätige ich, dass die Vorgaben des EEG und der Biomasseverordnung erfüllt und alle Einsatzstoffe vollständig und korrekt im Tagebuch eingetragen sind.
B46: Datum: | F46: Unterschrift:

Sheet Dezember
N1: © NQ-Anlagentechnik GmbH | S1: ◄Einsatzstofftagebuch bitte täglich ausfüllen
S3: Zusätzlich evtl. tägliche handschriftliche Aufzeichnungen aubewahren, unabhängig von der äußeren Form! (z.B. eigene Listen, Kalender, Notitzblock, Strichlisten...)
B4: entspricht § 27 EEG Abs.4 Nr. 2 (Anlage 2 I.1.b)
B5: Name: | C5: Mustermann
B6: Firma: | C6: Musterfirma
B7: Jahr und Aufzeichnungsmonat: | G7: 2026 | H7: Dezember | N7: 80% Gülle & Mist / 20% NawaRo
C9: Gülle & Mist | F9: + NawaRo | L9: = Gesamt
C10: Gülle | D10: Mist | E10: Kleegras (anteilig) | F10: Maissilage | G10: Grassilage | H10: GPS | I10: Kleegras | J10: … | K10: … | L10: Einbringmenge gesamt | M10: Masse-% Gülle & Mist | N10: kW/h el. | O10: kW/h el. | S10: ◄Die Beschriftung der Felder mit ... können verändert werden, falls andere Substrate wie zum Beispiel Kleegras eingesetzt werden! Zelle wählen + neuen Text eingeben
B11: Datum | C11: Tonnen pro Tag | D11: Tonnen pro Tag | E11: Tonnen pro Tag | F11: Tonnen pro Tag | G11: Tonnen pro Tag | H11: Tonnen pro Tag | I11: Tonnen pro Tag | J11: Tonnen pro Tag | K11: Tonnen pro Tag | L11: Tonnen pro Tag | M11: % pro Tag | N11: Zählerstand täglich | O11: Zählerstand Monatsanfang
B12: 1. | C12: 15 | D12: 20 | E12: =IF(L12="","",MIN(N(I12),(L12*10%))) -> 1 | F12: 1 | G12: 1 | H12: 1 | I12: 1 | J12: 1 | K12: 1 | L12: =IF(SUM(C12:D12,F12:K12)=0,"",(SUM(C12:D12,F12:K12))) -> 41 | M12: =IFERROR(IF((F12+G12+H12+I12+J12+K12)=0,IF(C12+D12+E12=0,"",1),(C12+D12+E12)/(C12+D12+F12+G12+H12+I12+J12+K12)),"") -> 0.87804878 | N12: 614800
B13: 2. | C13: 12 | D13: 13 | E13: =IF(L13="","",MIN(N(I13),(L13*10%))) -> 3.5 | F13: 1 | G13: 1 | H13: 1 | I13: 5 | J13: 1 | K13: 1 | L13: =IF(SUM(C13:D13,F13:K13)=0,"",(SUM(C13:D13,F13:K13))) -> 35 | M13: =IFERROR(IF((F13+G13+H13+I13+J13+K13)=0,IF(C13+D13+E13=0,"",1),(C13+D13+E13)/(C13+D13+F13+G13+H13+I13+J13+K13)),"") -> 0.81428571 | N13: 616600 | O13: 614800 | S13: ◄Herkunftsnachweise im Tabellenblatt „Nachweisbuch“
B14: 3. | E14: =IF(L14="","",MIN(N(I14),(L14*10%))) | L14: =IF(SUM(C14:D14,F14:K14)=0,"",(SUM(C14:D14,F14:K14))) | M14: =IFERROR(IF((F14+G14+H14+I14+J14+K14)=0,IF(C14+D14+E14=0,"",1),(C14+D14+E14)/(C14+D14+F14+G14+H14+I14+J14+K14)),"")
B15: 4. | E15: =IF(L15="","",MIN(N(I15),(L15*10%))) | L15: =IF(SUM(C15:D15,F15:K15)=0,"",(SUM(C15:D15,F15:K15))) | M15: =IFERROR(IF((F15+G15+H15+I15+J15+K15)=0,IF(C15+D15+E15=0,"",1),(C15+D15+E15)/(C15+D15+F15+G15+H15+I15+J15+K15)),"")
B16: 5. | E16: =IF(L16="","",MIN(N(I16),(L16*10%))) | L16: =IF(SUM(C16:D16,F16:K16)=0,"",(SUM(C16:D16,F16:K16))) | M16: =IFERROR(IF((F16+G16+H16+I16+J16+K16)=0,IF(C16+D16+E16=0,"",1),(C16+D16+E16)/(C16+D16+F16+G16+H16+I16+J16+K16)),"") | S16: ◄Kleegras-Anrechnung: max. 10% der Gesamteinbringmenge auf Gülle-/Mist-Anteil(Masse-%)
B17: 6. | E17: =IF(L17="","",MIN(N(I17),(L17*10%))) | L17: =IF(SUM(C17:D17,F17:K17)=0,"",(SUM(C17:D17,F17:K17))) | M17: =IFERROR(IF((F17+G17+H17+I17+J17+K17)=0,IF(C17+D17+E17=0,"",1),(C17+D17+E17)/(C17+D17+F17+G17+H17+I17+J17+K17)),"")
B18: 7. | E18: =IF(L18="","",MIN(N(I18),(L18*10%))) | L18: =IF(SUM(C18:D18,F18:K18)=0,"",(SUM(C18:D18,F18:K18))) | M18: =IFERROR(IF((F18+G18+H18+I18+J18+K18)=0,IF(C18+D18+E18=0,"",1),(C18+D18+E18)/(C18+D18+F18+G18+H18+I18+J18+K18)),"")
B19: 8. | E19: =IF(L19="","",MIN(N(I19),(L19*10%))) | L19: =IF(SUM(C19:D19,F19:K19)=0,"",(SUM(C19:D19,F19:K19))) | M19: =IFERROR(IF((F19+G19+H19+I19+J19+K19)=0,IF(C19+D19+E19=0,"",1),(C19+D19+E19)/(C19+D19+F19+G19+H19+I19+J19+K19)),"") | S19: ◄Zählerstände sind je nach Netzbetreiber entweder täglich oder monatlich festzuhalten
B20: 9. | E20: =IF(L20="","",MIN(N(I20),(L20*10%))) | L20: =IF(SUM(C20:D20,F20:K20)=0,"",(SUM(C20:D20,F20:K20))) | M20: =IFERROR(IF((F20+G20+H20+I20+J20+K20)=0,IF(C20+D20+E20=0,"",1),(C20+D20+E20)/(C20+D20+F20+G20+H20+I20+J20+K20)),"")
B21: 10. | E21: =IF(L21="","",MIN(N(I21),(L21*10%))) | L21: =IF(SUM(C21:D21,F21:K21)=0,"",(SUM(C21:D21,F21:K21))) | M21: =IFERROR(IF((F21+G21+H21+I21+J21+K21)=0,IF(C21+D21+E21=0,"",1),(C21+D21+E21)/(C21+D21+F21+G21+H21+I21+J21+K21)),"")
B22: 11. | E22: =IF(L22="","",MIN(N(I22),(L22*10%))) | L22: =IF(SUM(C22:D22,F22:K22)=0,"",(SUM(C22:D22,F22:K22))) | M22: =IFERROR(IF((F22+G22+H22+I22+J22+K22)=0,IF(C22+D22+E22=0,"",1),(C22+D22+E22)/(C22+D22+F22+G22+H22+I22+J22+K22)),"")
B23: 12. | E23: =IF(L23="","",MIN(N(I23),(L23*10%))) | L23: =IF(SUM(C23:D23,F23:K23)=0,"",(SUM(C23:D23,F23:K23))) | M23: =IFERROR(IF((F23+G23+H23+I23+J23+K23)=0,IF(C23+D23+E23=0,"",1),(C23+D23+E23)/(C23+D23+F23+G23+H23+I23+J23+K23)),"")
B24: 13. | E24: =IF(L24="","",MIN(N(I24),(L24*10%))) | L24: =IF(SUM(C24:D24,F24:K24)=0,"",(SUM(C24:D24,F24:K24))) | M24: =IFERROR(IF((F24+G24+H24+I24+J24+K24)=0,IF(C24+D24+E24=0,"",1),(C24+D24+E24)/(C24+D24+F24+G24+H24+I24+J24+K24)),"")
B25: 14. | E25: =IF(L25="","",MIN(N(I25),(L25*10%))) | L25: =IF(SUM(C25:D25,F25:K25)=0,"",(SUM(C25:D25,F25:K25))) | M25: =IFERROR(IF((F25+G25+H25+I25+J25+K25)=0,IF(C25+D25+E25=0,"",1),(C25+D25+E25)/(C25+D25+F25+G25+H25+I25+J25+K25)),"")
B26: 15. | E26: =IF(L26="","",MIN(N(I26),(L26*10%))) | L26: =IF(SUM(C26:D26,F26:K26)=0,"",(SUM(C26:D26,F26:K26))) | M26: =IFERROR(IF((F26+G26+H26+I26+J26+K26)=0,IF(C26+D26+E26=0,"",1),(C26+D26+E26)/(C26+D26+F26+G26+H26+I26+J26+K26)),"")
B27: 16. | E27: =IF(L27="","",MIN(N(I27),(L27*10%))) | L27: =IF(SUM(C27:D27,F27:K27)=0,"",(SUM(C27:D27,F27:K27))) | M27: =IFERROR(IF((F27+G27+H27+I27+J27+K27)=0,IF(C27+D27+E27=0,"",1),(C27+D27+E27)/(C27+D27+F27+G27+H27+I27+J27+K27)),"")
B28: 17. | E28: =IF(L28="","",MIN(N(I28),(L28*10%))) | L28: =IF(SUM(C28:D28,F28:K28)=0,"",(SUM(C28:D28,F28:K28))) | M28: =IFERROR(IF((F28+G28+H28+I28+J28+K28)=0,IF(C28+D28+E28=0,"",1),(C28+D28+E28)/(C28+D28+F28+G28+H28+I28+J28+K28)),"")
B29: 18. | E29: =IF(L29="","",MIN(N(I29),(L29*10%))) | L29: =IF(SUM(C29:D29,F29:K29)=0,"",(SUM(C29:D29,F29:K29))) | M29: =IFERROR(IF((F29+G29+H29+I29+J29+K29)=0,IF(C29+D29+E29=0,"",1),(C29+D29+E29)/(C29+D29+F29+G29+H29+I29+J29+K29)),"")
B30: 19. | E30: =IF(L30="","",MIN(N(I30),(L30*10%))) | L30: =IF(SUM(C30:D30,F30:K30)=0,"",(SUM(C30:D30,F30:K30))) | M30: =IFERROR(IF((F30+G30+H30+I30+J30+K30)=0,IF(C30+D30+E30=0,"",1),(C30+D30+E30)/(C30+D30+F30+G30+H30+I30+J30+K30)),"")
B31: 20. | E31: =IF(L31="","",MIN(N(I31),(L31*10%))) | L31: =IF(SUM(C31:D31,F31:K31)=0,"",(SUM(C31:D31,F31:K31))) | M31: =IFERROR(IF((F31+G31+H31+I31+J31+K31)=0,IF(C31+D31+E31=0,"",1),(C31+D31+E31)/(C31+D31+F31+G31+H31+I31+J31+K31)),"")
... B38: 27. | E38: =IF(L38="","",MIN(N(I38),(L38*10%))) | L38: =IF(SUM(C38:D38,F38:K38)=0,"",(SUM(C38:D38,F38:K38))) | M38: =IFERROR(IF((F38+G38+H38+I38+J38+K38)=0,IF(C38+D38+E38=0,"",1),(C38+D38+E38)/(C38+D38+F38+G38+H38+I38+J38+K38)),"")
B39: 28. | E39: =IF(L39="","",MIN(N(I39),(L39*10%))) | L39: =IF(SUM(C39:D39,F39:K39)=0,"",(SUM(C39:D39,F39:K39))) | M39: =IFERROR(IF((F39+G39+H39+I39+J39+K39)=0,IF(C39+D39+E39=0,"",1),(C39+D39+E39)/(C39+D39+F39+G39+H39+I39+J39+K39)),"") | O39: Zählerstand Monatsende
B40: 29. | E40: =IF(L40="","",MIN(N(I40),(L40*10%))) | L40: =IF(SUM(C40:D40,F40:K40)=0,"",(SUM(C40:D40,F40:K40))) | M40: =IFERROR(IF((F40+G40+H40+I40+J40+K40)=0,IF(C40+D40+E40=0,"",1),(C40+D40+E40)/(C40+D40+F40+G40+H40+I40+J40+K40)),"")
B41: 30. | E41: =IF(L41="","",MIN(N(I41),(L41*10%))) | L41: =IF(SUM(C41:D41,F41:K41)=0,"",(SUM(C41:D41,F41:K41))) | M41: =IFERROR(IF((F41+G41+H41+I41+J41+K41)=0,IF(C41+D41+E41=0,"",1),(C41+D41+E41)/(C41+D41+F41+G41+H41+I41+J41+K41)),"") | O41: 668800
B42: 31. | E42: =IF(L42="","",MIN(N(I42),(L42*10%))) | L42: =IF(SUM(C42:D42,F42:K42)=0,"",(SUM(C42:D42,F42:K42))) | M42: =IFERROR(IF((F42+G42+H42+I42+J42+K42)=0,IF(C42+D42+E42=0,"",1),(C42+D42+E42)/(C42+D42+F42+G42+H42+I42+J42+K42)),"") | N42: 668800
B43: Summe | C43: =IF(SUM(C12:C42)=0,0,SUM(C12:C42)) -> 27 | D43: =IF(SUM(D12:D42)=0,0,SUM(D12:D42)) -> 33 | E43: =IF(SUM(E12:E42)=0,0,SUM(E12:E42)) -> 4.5 | F43: =IF(SUM(F12:F42)=0,0,SUM(F12:F42)) -> 2 | G43: =IF(SUM(G12:G42)=0,0,SUM(G12:G42)) -> 2 | H43: =IF(SUM(H12:H42)=0,0,SUM(H12:H42)) -> 2 | I43: =IF(SUM(I12:I42)=0,0,SUM(I12:I42)) -> 6 | J43: =IF(SUM(J12:J42)=0,0,SUM(J12:J42)) -> 2 | ... L43: =IF(SUM(L12:L42)=0,0,SUM(L12:L42)) -> 76 | M43: =IF((F43+G43+H43+I43+J43+K43)=0,IF(C43+D43=0,"",1),(C43+D43+E43)/(C43+D43+F43+G43+H43+I43+J43+K43)) -> 0.84868421 | N43: =IF(SUM(N42-N12,N12,N42)=0,"",SUM(N42-N12)) -> 54000 | O43: =IF(O41-O13=0,0,O41-O13) -> 54000
C44: Gülle + Mist ► | E44: =IF(SUM(C43:E43)=0,"",SUM(C43:E43)) -> 64.5 | J44: Summe Nawaro ► | K44: =IF(SUM(F43:K43)=0,"",SUM(F43:K43)) -> 16 | L44: ▲ Monatsdurchschnitt | N44: ▲ ▲ Produktion kW/h el.
B46: Hiermit bestätige ich, dass die Vorgaben des EEG und der Biomasseverordnung erfüllt und alle Einsatzstoffe vollständig und korrekt im Tagebuch eingetragen sind.
B47: Datum: | F47: Unterschrift:

Sheet Nachweisbuch
K1: © NQ-Anlagentechnik GmbH | N1: Anmerkung:Das Nachweisbuch zusätzlich zum Einsatzstofftagebuch führen, falls: - Einsatzstoffe zugekauft werden - sich die GV nach HiT-Datenbank ändern (z.B. Weidegang, rein-/raus-Verfahren bei Schweinen, Zu-/Abgänge), - bei Störungen - bei allen sonstigen Veränderungen - und für sonstige AngabenBei Bedarf die Überschriften anpassen!
B4: entspricht § 27 EEG Abs.4 Nr. 2 (Anlage 2 I.1.b)
B5: Name: | C5: =Januar!C5 -> Mustermann | D5: =Januar!C5 -> Mustermann
B6: Firma: | C6: =Januar!C6 -> Musterfirma | D6: =Januar!C6 -> Musterfirma
B7: Aufzeichnungsjahr: | D7: =Januar!G7 -> 2026 | K7: 80% Gülle & Mist / 20% NawaRo
D9: Zukauf | G9: Eigen
D10: Art der Anlieferung | E10: Gesamt- menge | F10: Lieferschein | G10: GV nach HiT-Datenbank | H10: Gülleanfall laut HiT-Datenbank | I10: Bemerkungen | N10: ◄Sie können die Überschriften der Spalten anpassen! Einfach Zelle wählen und neuen Text eingeben.
C11: Lieferdatum | D11: Gülle/Mist, Mais, Grassilage, Getreide, GPS, Silomix, Landschaftspflegematerial etc. | E11: t | F11: Nr. | G11: Eintrag bei GV-Änderung | H11: t | I11: z.B. Störungen und Lösung, um nicht unter 80% Gülle/Mist zu fallen,wichtige Veränderungen usw.
B12: 1 | C12: 42005 | D12: Rindergülle | E12: 50 | F12: 201501
B13: 2
B14: 3
B15: 4
B16: 5
B17: 6
B18: 7
B19: 8
B20: 9
B21: 10
B22: 11
B23: 12
B24: 13
... B46: 35
B47: Summe Zukauf Wirtschaftsdünger (t) ► | E47: =IF(SUM(E12:E46)=0,"",SUM(E12:E46)) -> 50 | H47: =IF(SUM(H12:H46)=0,"",SUM(H12:H46)) | J47: ◄ Summe Gülle eigen (t)
B49: Hiermit bestätige ich, dass die Vorgaben des EEG und der Biomasseverordnung erfüllt und alle Einsatzstoffe vollständig und korrekt im Tagebuch eingetragen sind.
B50: Datum: | D50: Unterschrift:

Sheet Güllemengen-Berechnung
B2: © NQ-Anlagentechnik GmbH
C3: Berechnung der notwendigen Güllemenge für einen bestimmten Gülleanteil in % | J3: 80% Gülle & Mist / 20% NawaRo
C4: Nawaro Einbringmenge | J4: Güllemenge | O4: Vorauskalkulation
C5: Mais | D5: Gras | E5: GPS | F5: CCM | G5: Kleegras | H5: Sonstiges | I5: Summe | J5: Gülle | K5: Mist | L5: Kleegras angerechnet | M5: Gülle & Mist | O5: Gülleanteil | P5: Güllemenge
C6: (t) | D6: (t) | E6: (t) | F6: (t) | G6: (t) | H6: (t) | I6: (t) | J6: (t) | K6: (t) | L6: (t) | M6: (%) | O6: (%) | P6: (t)
B7: 1 | C7: 1 | D7: 2 | E7: 2 | F7: 2 | G7: 1 | I7: =SUM(C7:H7) -> 8 | J7: 10 | K7: 18 | L7: =IF(I7+J7+K7=0,"",MIN(N(G7),(I7+J7+K7)*10%)) -> 1 | M7: =IF(L7="","",IF(J7+I7+K7+L7=0,"",(J7+K7+L7)/(I7+J7+K7))) -> 0.80555556 | O7: 0.8 | P7: =IF(I7-L7=0,"",(I7-L7)/(1-O7)-(I7-L7)) -> 28 | Q7: ◄ Beispiel
B8: 2 | I8: =SUM(C8:H8) -> 0 | L8: =IF(I8+J8+K8=0,"",MIN(N(G8),(I8+J8+K8)*10%)) | M8: =IF(L8="","",IF(J8+I8+K8+L8=0,"",(J8+K8+L8)/(I8+J8+K8))) | P8: =IF(SUM(I8/(1-O8))-I8=0,"",(I8/(1-O8))-I8)
B9: 3 | I9: =SUM(C9:H9) -> 0 | L9: =IF(I9+J9+K9=0,"",MIN(N(G9),(I9+J9+K9)*10%)) | M9: =IF(L9="","",IF(J9+I9+K9+L9=0,"",(J9+K9+L9)/(I9+J9+K9))) | P9: =IF(SUM(I9/(1-O9))-I9=0,"",(I9/(1-O9))-I9)
B10: 4 | I10: =SUM(C10:H10) -> 0 | L10: =IF(I10+J10+K10=0,"",MIN(N(G10),(I10+J10+K10)*10%)) | M10: =IF(L10="","",IF(J10+I10+K10+L10=0,"",(J10+K10+L10)/(I10+J10+K10))) | P10: =IF(SUM(I10/(1-O10))-I10=0,"",(I10/(1-O10))-I10)
B11: 5 | I11: =SUM(C11:H11) -> 0 | L11: =IF(I11+J11+K11=0,"",MIN(N(G11),(I11+J11+K11)*10%)) | M11: =IF(L11="","",IF(J11+I11+K11+L11=0,"",(J11+K11+L11)/(I11+J11+K11))) | P11: =IF(SUM(I11/(1-O11))-I11=0,"",(I11/(1-O11))-I11)
B12: 6 | I12: =SUM(C12:H12) -> 0 | L12: =IF(I12+J12+K12=0,"",MIN(N(G12),(I12+J12+K12)*10%)) | M12: =IF(L12="","",IF(J12+I12+K12+L12=0,"",(J12+K12+L12)/(I12+J12+K12))) | P12: =IF(SUM(I12/(1-O12))-I12=0,"",(I12/(1-O12))-I12)
B13: 7 | I13: =SUM(C13:H13) -> 0 | L13: =IF(I13+J13+K13=0,"",MIN(N(G13),(I13+J13+K13)*10%)) | M13: =IF(L13="","",IF(J13+I13+K13+L13=0,"",(J13+K13+L13)/(I13+J13+K13))) | P13: =IF(SUM(I13/(1-O13))-I13=0,"",(I13/(1-O13))-I13)
B14: 8 | I14: =SUM(C14:H14) -> 0 | L14: =IF(I14+J14+K14=0,"",MIN(N(G14),(I14+J14+K14)*10%)) | M14: =IF(L14="","",IF(J14+I14+K14+L14=0,"",(J14+K14+L14)/(I14+J14+K14))) | P14: =IF(SUM(I14/(1-O14))-I14=0,"",(I14/(1-O14))-I14)
B15: 9 | I15: =SUM(C15:H15) -> 0 | L15: =IF(I15+J15+K15=0,"",MIN(N(G15),(I15+J15+K15)*10%)) | M15: =IF(L15="","",IF(J15+I15+K15+L15=0,"",(J15+K15+L15)/(I15+J15+K15))) | P15: =IF(SUM(I15/(1-O15))-I15=0,"",(I15/(1-O15))-I15)
B16: 10 | I16: =SUM(C16:H16) -> 0 | L16: =IF(I16+J16+K16=0,"",MIN(N(G16),(I16+J16+K16)*10%)) | M16: =IF(L16="","",IF(J16+I16+K16+L16=0,"",(J16+K16+L16)/(I16+J16+K16))) | P16: =IF(SUM(I16/(1-O16))-I16=0,"",(I16/(1-O16))-I16)
E19: Erläuterung: | J19: ◄ Farbig hinterlegte Felder werden automatisch berechnet!
F20: 2 | H20: 0.4 | J20: ◄ weiße Felder können ausgefüllt werden!
H21: =IF(G21="","",IF(E21+D21+F21+G21=0,"",(E21+F21+G21)/(D21+E21+F21))) | J21: ◄ eingesetzte Güllemenge unterschreitet Gülleanteil aus Vorauskalkulation
F23: Zur Berechnung der notwendigen Güllemenge, um z.B. 40 % Gülleanteil zu erreichen,
F24: geben Sie Ihre Daten in einer beliebigen Zeile (2. - 10.) ein,
F25: und tragen den gewünschten Gülleanteil (blaue Schrift) in der selben Zeile ein.

Sheet Übersicht
O1: © NQ-Anlagentechnik GmbH
B4: entspricht § 27 EEG Abs.4 Nr. 2 (Anlage 2 I.1.b)
B5: Name: | C5: =Januar!C5 -> Mustermann
B6: Firma: | C6: =Januar!C6 -> Musterfirma
B7: Aufzeichnungsjahr: | D7: =Januar!G7 -> 2026 | N7: 80% Gülle & Mist / 20% NawaRo
D9: =D11+D12+D13 -> 40.3 | E9: =E11+E12+E13 -> 42.5 | F9: =F11+F12+F13 -> 44.7 | G9: =G11+G12+G13 -> 46.9 | H9: =H11+H12+H13 -> 49.1 | I9: =I11+I12+I13 -> 51.3 | J9: =J11+J12+J13 -> 53.5 | K9: =K11+K12+K13 -> 55.7 | ... O9: =O11+O12+O13 -> 64.5
B10: Bezeichnung | D10: Januar | E10: Februar | F10: März | G10: April | H10: Mai | I10: Juni | J10: Juli | K10: August | L10: September | M10: Oktober | N10: November | O10: Dezember | P10: Gesamt Jahr
B11: Gülle | D11: =Januar!C43 -> 16 | E11: =Februar!C41 -> 17 | F11: =März!C43 -> 18 | G11: =April!C42 -> 19 | H11: =Mai!C43 -> 20 | I11: =Juni!C42 -> 21 | J11: =Juli!C43 -> 22 | K11: =August!C43 -> 23 | L11: =September!C42 -> 24 | M11: =Oktober!C43 -> 25 | N11: =November!C42 -> 26 | O11: =Dezember!C43 -> 27 | P11: =SUM(D11:O11) -> 258
B12: Mist | D12: =Januar!D43 -> 22 | E12: =Februar!D41 -> 23 | F12: =März!D43 -> 24 | G12: =April!D42 -> 25 | H12: =Mai!D43 -> 26 | I12: =Juni!D42 -> 27 | J12: =Juli!D43 -> 28 | K12: =August!D43 -> 29 | L12: =September!D42 -> 30 | M12: =Oktober!D43 -> 31 | N12: =November!D42 -> 32 | O12: =Dezember!D43 -> 33 | P12: =SUM(D12:O12) -> 330
B13: =Februar!E10 -> Kleegras (anteilig) | D13: =Januar!E43 -> 2.3 | E13: =Februar!E41 -> 2.5 | F13: =März!E43 -> 2.7 | G13: =April!E42 -> 2.9 | H13: =Mai!E43 -> 3.1 | I13: =Juni!E42 -> 3.3 | J13: =Juli!E43 -> 3.5 | K13: =August!E43 -> 3.7 | L13: =September!E42 -> 3.9 | M13: =Oktober!E43 -> 4.1 | N13: =November!E42 -> 4.3 | O13: =Dezember!E43 -> 4.5 | P13: =SUM(D13:O13) -> 40.8
B14: Gesamt Gülle & Mist in t | D14: =Januar!E44 -> 40.3 | E14: =Februar!E42 -> 42.5 | F14: =März!E44 -> 44.7 | G14: =April!E43 -> 46.9 | H14: =Mai!E44 -> 49.1 | I14: =Juni!E43 -> 51.3 | J14: =Juli!E44 -> 53.5 | K14: =August!E44 -> 55.7 | L14: =September!E43 -> 57.9 | M14: =Oktober!E44 -> 60.1 | N14: =November!E43 -> 62.3 | O14: =Dezember!E44 -> 64.5 | P14: =SUM(D14:O14) -> 628.8
B16: =Januar!F10 -> Maissilage | D16: =Januar!F43 -> 2 | E16: =Februar!F41 -> 2 | F16: =März!F43 -> 2 | G16: =April!F42 -> 2 | H16: =Mai!F43 -> 2 | I16: =Juni!F42 -> 2 | J16: =Juli!F43 -> 2 | K16: =August!F43 -> 2 | L16: =September!F42 -> 2 | M16: =Oktober!F43 -> 2 | N16: =November!F42 -> 2 | O16: =Dezember!F43 -> 2 | P16: =SUM(D16:O16) -> 24
B17: =Januar!G10 -> Grassilage | D17: =Januar!G43 -> 2 | E17: =Februar!G41 -> 2 | F17: =März!G43 -> 2 | G17: =April!G42 -> 2 | H17: =Mai!G43 -> 2 | I17: =Juni!G42 -> 2 | J17: =Juli!G43 -> 2 | K17: =August!G43 -> 2 | L17: =September!G42 -> 2 | M17: =Oktober!G43 -> 2 | N17: =November!G42 -> 2 | O17: =Dezember!G43 -> 2 | P17: =SUM(D17:O17) -> 24
B18: =Januar!H10 -> GPS | D18: =Januar!H43 -> 2 | E18: =Februar!H41 -> 2 | F18: =März!H43 -> 2 | G18: =April!H42 -> 2 | H18: =Mai!H43 -> 2 | I18: =Juni!H42 -> 2 | J18: =Juli!H43 -> 2 | K18: =August!H43 -> 2 | L18: =September!H42 -> 2 | M18: =Oktober!H43 -> 2 | N18: =November!H42 -> 2 | O18: =Dezember!H43 -> 2 | P18: =SUM(D18:O18) -> 24
B19: =Januar!I10 -> Kleegras | D19: =Januar!I43 -> 6 | E19: =Februar!I41 -> 6 | F19: =März!I43 -> 6 | G19: =April!I42 -> 6 | H19: =Mai!I43 -> 6 | I19: =Juni!I42 -> 6 | J19: =Juli!I43 -> 6 | K19: =August!I43 -> 6 | L19: =September!I42 -> 6 | M19: =Oktober!I43 -> 6 | N19: =November!I42 -> 6 | O19: =Dezember!I43 -> 6
B20: =Januar!J10 -> … | D20: =Januar!J43 -> 2 | E20: =Februar!J41 -> 2 | F20: =März!J43 -> 2 | G20: =April!J42 -> 2 | H20: =Mai!J43 -> 2 | I20: =Juni!J42 -> 2 | J20: =Juli!J43 -> 2 | K20: =August!J43 -> 2 | L20: =September!J42 -> 2 | M20: =Oktober!J43 -> 2 | N20: =November!J42 -> 2 | O20: =Dezember!J43 -> 2 | P20: =SUM(D20:O20) -> 24
B21: =Januar!K10 -> … | D21: =Januar!K43 -> 2 | E21: =Februar!K41 -> 2 | F21: =März!K43 -> 2 | G21: =April!K42 -> 2 | H21: =Mai!K43 -> 2 | I21: =Juni!K42 -> 2 | J21: =Juli!K43 -> 2 | K21: =August!K43 -> 2 | L21: =September!K42 -> 2 | M21: =Oktober!K43 -> 2 | N21: =November!K42 -> 2 | O21: =Dezember!K43 -> 2 | P21: =SUM(D21:O21) -> 24
B22: Gesamt NawaRo in t | D22: =Januar!K44 -> 16 | E22: =Februar!K42 -> 16 | F22: =März!K44 -> 16 | G22: =April!K43 -> 16 | H22: =Mai!K44 -> 16 | I22: =Juni!K43 -> 16 | J22: =Juli!K44 -> 16 | K22: =August!K44 -> 16 | L22: =September!K43 -> 16 | M22: =Oktober!K44 -> 16 | N22: =November!K43 -> 16 | O22: =Dezember!K44 -> 16 | P22: =SUM(D22:O22) -> 192
B24: Einbringmenge ges. in t | D24: =Januar!L43 -> 54 | E24: =Februar!L41 -> 56 | F24: =März!L43 -> 58 | G24: =April!L42 -> 60 | H24: =Mai!L43 -> 62 | I24: =Juni!L42 -> 64 | J24: =Juli!L43 -> 66 | K24: =August!L43 -> 68 | L24: =September!L42 -> 70 | M24: =Oktober!L43 -> 72 | N24: =November!L42 -> 74 | O24: =Dezember!L43 -> 76 | P24: =SUM(D24:O24) -> 780
B26: Gülleanteil in % | D26: =Januar!M43 -> 0.7462963 | E26: =Februar!M41 -> 0.75892857 | F26: =März!M43 -> 0.77068966 | G26: =April!M42 -> 0.78166667 | H26: =Mai!M43 -> 0.79193548 | I26: =Juni!M42 -> 0.8015625 | J26: =Juli!M43 -> 0.81060606 | K26: =August!M43 -> 0.81911765 | L26: =September!M42 -> 0.82714286 | M26: =Oktober!M43 -> 0.83472222 | N26: =November!M42 -> 0.84189189 | O26: =Dezember!M43 -> 0.84868421 | P26: =P14/P24 -> 0.80615385
B28: El. Zählerstand in kW/h | D28: =IF(Januar!N42="",Januar!O41,Januar!N42) -> 55000 | E28: =IF(Februar!N40="",Februar!O39,Februar!N40) -> 110800 | F28: =IF(März!N42="",März!O41,März!N42) -> 166600 | G28: =IF(April!N41="",April!O40,April!N41) -> 222400 | H28: =IF(Mai!N42="",Mai!O41,Mai!N42) -> 278200 | I28: =IF(Juni!N41="",Juni!O40,Juni!N41) -> 334000 | J28: =IF(Juli!N42="",Juli!O41,Juli!N42) -> 389800 | K28: =IF(August!N42="",August!O41,August!N42) -> 445600 | L28: =IF(September!N41="",September!O40,September!N41) -> 501400 | M28: =IF(Oktober!N42="",Oktober!O41,Oktober!N42) -> 557200 | N28: =IF(November!N41="",November!O40,November!N41) -> 613000 | O28: =IF(Dezember!N42="",Dezember!O41,Dezember!N42) -> 668800
B30: El. Produktion in kW/h | D30: =IF(Januar!N43="",Januar!O43,Januar!N43) -> 54000 | E30: =IF(Februar!N41="",Februar!O41,Februar!N41) -> 54000 | F30: =IF(März!N43="",März!O43,März!N43) -> 54000 | G30: =IF(April!N42="",April!O42,April!N42) -> 54000 | H30: =IF(Mai!N43="",Mai!O43,Mai!N43) -> 54000 | I30: =IF(Juni!N42="",Juni!O42,Juni!N42) -> 54000 | J30: =IF(Juli!N43="",Juli!O43,Juli!N43) -> 54000 | K30: =IF(August!N43="",August!O43,August!N43) -> 54000 | L30: =IF(September!N42="",September!O42,September!N42) -> 54000 | M30: =IF(Oktober!N43="",Oktober!O43,Oktober!N43) -> 54000 | N30: =IF(November!N42="",November!O42,November!N42) -> 54000 | O30: =IF(Dezember!N43="",Dezember!O43,Dezember!N43) -> 54000 | P30: =SUM(D30:O30) -> 648000 | S30: Die Beschriftung der Felder mit ... können verändert werden.
B32: El. Einspeisung in kW/h | D32: … | E32: … | F32: … | G32: … | H32: … | I32: … | J32: … | K32: … | L32: … | M32: … | N32: … | O32: … | P32: =SUM(D32:O32) -> 0 | S32: ◄Tragen Sie hier die kW/h el. die Sie ins Netz eingespeist haben ein.
B34: Hiermit bestätige ich, dass die Vorgaben des EEG und der Biomasseverordnung erfüllt und alle Einsatzstoffe vollständig und korrekt im Tagebuch eingetragen sind.
B35: Datum: | E35: Unterschrift:
